{"text_format":"1","workbook":"xlsx","n_sheets":76,"sheets":["GHID","Ce oferă Ghidul","Cum folosesc Ghidul","ALEGE TIP INSTITUTIE ","(CT) CUPRINS","(L) CUPRINS","ALEGE TIP INSTITUTIE  (2)","(CT) PASI PROCES REC SI SEL ","(L) PASI PROCES REC SI SEL","PASUL 1","PASUL 2","Etape ANALIZĂ POST","Etapa 1","E1A1-Grup de lucru","E1A1-Recomandări","E1A2- Calendar","E1A2-Recomandări","Calendar GRUP DE LUCRU","Etapa 2","E2A1-Colectare informatii","E2A1 - Mini-Ghid Focus Group(1)","E2A1 - Mini-Ghid Focus Group(2)","E2A1-Interviu Structurat","E2A1-Interviu Structurat(2)","E2A1-Interviu Structurat( 3)","E2A2","Instrucțiuni","Listă posturi","Competente niveluri simplificat","competente pe niveluri - full","Raport analiză a posturilor","Etapa 3","E3 A1","E3 A2","E3 A3"," E3 A3 (3)","E3 A4","Etapa 4","AP E4 A1","Liste ","AP E4 A2","AP E4 A3","AP E4 A4.1 și 4.2","AP Etapa 5","AP E5 A1.1 ","AP E5 A1.2","AP E5 A2","PASUL 3","PASUL 4 (CT) si (L)","PASUL 4","PASUL 4.1","PASUL 4.2.1 ","PASUL 4.2.2","PASUL 4.3.1","PASUL 4.3.2","PASUL 4.3.3 ","PASUL 4.3.3 (CT)","PASUL 4.3.3 (L)","PASUL 4.4.1 ","PASUL 4.4.1 (CT)","PASUL 4.4.1 (L) ","PASUL 4.4.2","PASUL 4.4.3","PASUL 4.5.1 ","PASUL 4.5.2","PASUL 4.5.2 (CT)","PASUL 4.5.2 (L)","PASUL 4.5.3","PASUL 4.5.4","PASUL 4.5.5","PASUL 4.5.6","PASUL 4.5.7","PASUL 4.5.8","PASUL 4.5.9","PASUL 4.5.10","PASUL 4.5.11"],"not_rendered":{"charts":0,"images":81,"macros":1,"external_links":1,"defined_names":10,"comments":1,"pivot_tables":0},"unopened":[],"bounds":{"document_bytes":16777216,"sheet_cells":100000,"rows_first":2000,"rows_last":500,"rows_between":2000,"halvings":0,"cell_chars":16384,"cell_head_chars":4096},"cells_cut":0,"cells_raw":0,"read":"whole","date_system":"1900"}

{"sheet":"GHID","index":0,"n_rows":0,"n_cols":0,"rows_kept":0,"cut":false,"hidden":false,"merged":[]}

{"sheet":"Ce oferă Ghidul","index":1,"n_rows":0,"n_cols":0,"rows_kept":0,"cut":false,"hidden":false,"merged":[]}

{"sheet":"Cum folosesc Ghidul","index":2,"n_rows":0,"n_cols":0,"rows_kept":0,"cut":false,"hidden":false,"merged":[]}

{"sheet":"ALEGE TIP INSTITUTIE ","index":3,"n_rows":8,"n_cols":18,"rows_kept":8,"cut":false,"hidden":false,"merged":[]}
[]
[]
[]
[]
[]
[]
[]
[null,null,null,null,null,null,null,null,null,null,null,null,null,null,null,null,null,{"$f":"NOW()","v":"2024-09-27T13:23:26.940"}]

{"sheet":"(CT) CUPRINS","index":4,"n_rows":0,"n_cols":0,"rows_kept":0,"cut":false,"hidden":false,"merged":[]}

{"sheet":"(L) CUPRINS","index":5,"n_rows":0,"n_cols":0,"rows_kept":0,"cut":false,"hidden":false,"merged":[]}

{"sheet":"ALEGE TIP INSTITUTIE  (2)","index":6,"n_rows":8,"n_cols":18,"rows_kept":8,"cut":false,"hidden":false,"merged":[]}
[]
[]
[]
[]
[]
[]
[]
[null,null,null,null,null,null,null,null,null,null,null,null,null,null,null,null,null,{"$f":"NOW()","v":"2024-09-27T13:23:26.940"}]

{"sheet":"(CT) PASI PROCES REC SI SEL ","index":7,"n_rows":0,"n_cols":0,"rows_kept":0,"cut":false,"hidden":false,"merged":[]}

{"sheet":"(L) PASI PROCES REC SI SEL","index":8,"n_rows":0,"n_cols":0,"rows_kept":0,"cut":false,"hidden":false,"merged":[]}

{"sheet":"PASUL 1","index":9,"n_rows":0,"n_cols":0,"rows_kept":0,"cut":false,"hidden":false,"merged":[]}

{"sheet":"PASUL 2","index":10,"n_rows":0,"n_cols":0,"rows_kept":0,"cut":false,"hidden":false,"merged":[]}

{"sheet":"Etape ANALIZĂ POST","index":11,"n_rows":0,"n_cols":0,"rows_kept":0,"cut":false,"hidden":false,"merged":[]}

{"sheet":"Etapa 1","index":12,"n_rows":0,"n_cols":0,"rows_kept":0,"cut":false,"hidden":false,"merged":[]}

{"sheet":"E1A1-Grup de lucru","index":13,"n_rows":0,"n_cols":0,"rows_kept":0,"cut":false,"hidden":false,"merged":[]}

{"sheet":"E1A1-Recomandări","index":14,"n_rows":0,"n_cols":0,"rows_kept":0,"cut":false,"hidden":false,"merged":[]}

{"sheet":"E1A2- Calendar","index":15,"n_rows":0,"n_cols":0,"rows_kept":0,"cut":false,"hidden":false,"merged":[]}

{"sheet":"E1A2-Recomandări","index":16,"n_rows":0,"n_cols":0,"rows_kept":0,"cut":false,"hidden":false,"merged":[]}

{"sheet":"Calendar GRUP DE LUCRU","index":17,"n_rows":30,"n_cols":1345,"rows_kept":30,"cut":false,"hidden":false,"merged":[[4,12,4,13],[3,12,3,13],[0,10,0,13],[1,10,1,11],[1,12,1,13],[2,12,2,13],[4,617,4,623],[4,624,4,630],[4,631,4,637],[4,575,4,581],[4,582,4,588],[4,589,4,595],[4,596,4,602],[4,603,4,609],[4,610,4,616],[4,533,4,539],[4,540,4,546],[4,547,4,553],[4,554,4,560],[4,561,4,567],[4,568,4,574],[4,491,4,497],[4,498,4,504],[4,505,4,511],[4,512,4,518],[4,519,4,525],[4,526,4,532],[4,449,4,455],[4,456,4,462],[4,463,4,469],[4,470,4,476],[4,477,4,483],[4,484,4,490],[4,407,4,413],[4,414,4,420],[4,421,4,427],[4,428,4,434],[4,435,4,441],[4,442,4,448],[4,365,4,371],[4,372,4,378],[4,379,4,385],[4,386,4,392],[4,393,4,399],[4,400,4,406],[4,323,4,329],[4,330,4,336],[4,337,4,343],[4,344,4,350],[4,351,4,357],[4,358,4,364],[4,281,4,287],[4,288,4,294],[4,295,4,301],[4,302,4,308],[4,309,4,315],[4,316,4,322],[4,239,4,245],[4,246,4,252],[4,253,4,259],[4,260,4,266],[4,267,4,273],[4,274,4,280],[4,197,4,203],[4,204,4,210],[4,211,4,217],[4,218,4,224],[4,225,4,231],[4,232,4,238],[4,155,4,161],[4,162,4,168],[4,169,4,175],[4,176,4,182],[4,183,4,189],[4,190,4,196],[4,113,4,119],[4,120,4,126],[4,127,4,133],[4,134,4,140],[4,141,4,147],[4,148,4,154],[4,71,4,77],[4,78,4,84],[4,85,4,91],[4,92,4,98],[4,99,4,105],[4,106,4,112],[3,624,3,630],[3,631,3,637],[4,15,4,21],[4,22,4,28],[4,29,4,35],[4,36,4,42],[4,43,4,49],[4,50,4,56],[4,57,4,63],[4,64,4,70],[3,582,3,588],[3,589,3,595],[3,596,3,602],[3,603,3,609],[3,610,3,616],[3,617,3,623],[3,540,3,546],[3,547,3,553],[3,554,3,560],[3,561,3,567],[3,568,3,574],[3,575,3,581],[3,498,3,504],[3,505,3,511],[3,512,3,518],[3,519,3,525],[3,526,3,532],[3,533,3,539],[3,456,3,462],[3,463,3,469],[3,470,3,476],[3,477,3,483],[3,484,3,490],[3,491,3,497],[3,414,3,420],[3,421,3,427],[3,428,3,434],[3,435,3,441],[3,442,3,448],[3,449,3,455],[3,372,3,378],[3,379,3,385],[3,386,3,392],[3,393,3,399],[3,400,3,406],[3,407,3,413],[3,330,3,336],[3,337,3,343],[3,344,3,350],[3,351,3,357],[3,358,3,364],[3,365,3,371],[3,288,3,294],[3,295,3,301],[3,302,3,308],[3,309,3,315],[3,316,3,322],[3,323,3,329],[3,246,3,252],[3,253,3,259],[3,260,3,266],[3,267,3,273],[3,274,3,280],[3,281,3,287],[3,204,3,210],[3,211,3,217],[3,218,3,224],[3,225,3,231],[3,232,3,238],[3,239,3,245],[3,71,3,77],[3,162,3,168],[3,169,3,175],[3,176,3,182],[3,183,3,189],[3,190,3,196],[3,197,3,203],[3,120,3,126],[3,127,3,133],[3,134,3,140],[3,141,3,147],[3,148,3,154],[3,155,3,161],[3,687,3,693],[3,694,3,700],[3,701,3,707],[3,708,3,714],[3,715,3,721],[2,10,2,11],[3,10,3,11],[3,15,3,21],[3,22,3,28],[3,29,3,35],[3,638,3,644],[3,645,3,651],[3,652,3,658],[3,78,3,84],[3,85,3,91],[3,92,3,98],[3,99,3,105],[3,106,3,112],[3,113,3,119],[3,36,3,42],[3,43,3,49],[3,50,3,56],[3,57,3,63],[3,64,3,70],[3,722,3,728],[3,729,3,735],[3,736,3,742],[3,743,3,749],[4,638,4,644],[4,645,4,651],[4,652,4,658],[4,659,4,665],[4,666,4,672],[4,673,4,679],[4,680,4,686],[4,687,4,693],[4,694,4,700],[4,701,4,707],[4,708,4,714],[4,715,4,721],[4,722,4,728],[4,729,4,735],[4,736,4,742],[4,743,4,749],[3,659,3,665],[3,666,3,672],[3,673,3,679],[3,680,3,686],[3,750,3,756],[3,757,3,763],[3,764,3,770],[3,771,3,777],[3,778,3,784],[3,785,3,791],[3,792,3,798],[3,799,3,805],[3,806,3,812],[3,883,3,889],[3,890,3,896],[3,897,3,903],[3,904,3,910],[3,911,3,917],[3,918,3,924],[3,925,3,931],[3,932,3,938],[3,813,3,819],[3,820,3,826],[3,827,3,833],[3,834,3,840],[3,841,3,847],[3,848,3,854],[3,855,3,861],[3,862,3,868],[3,869,3,875],[4,813,4,819],[4,820,4,826],[4,827,4,833],[4,834,4,840],[4,841,4,847],[4,848,4,854],[4,855,4,861],[4,862,4,868],[3,876,3,882],[4,869,4,875],[4,876,4,882],[4,750,4,756],[4,757,4,763],[4,764,4,770],[4,771,4,777],[4,778,4,784],[4,785,4,791],[4,792,4,798],[4,799,4,805],[4,806,4,812],[4,883,4,889],[4,890,4,896],[4,897,4,903],[4,904,4,910],[4,911,4,917],[4,918,4,924],[4,925,4,931],[4,932,4,938],[4,939,4,945],[4,946,4,952],[4,953,4,959],[4,960,4,966],[4,967,4,973],[4,974,4,980],[4,981,4,987],[3,988,3,994],[3,939,3,945],[3,946,3,952],[3,953,3,959],[3,960,3,966],[3,967,3,973],[3,974,3,980],[3,981,3,987],[3,995,3,1001],[3,1002,3,1008],[3,1009,3,1015],[3,1016,3,1022],[3,1023,3,1029],[3,1030,3,1036],[3,1037,3,1043],[3,1044,3,1050],[3,1051,3,1057],[3,1058,3,1064],[3,1065,3,1071],[3,1072,3,1078],[3,1079,3,1085],[3,1086,3,1092],[3,1093,3,1099],[3,1100,3,1106],[3,1107,3,1113],[3,1114,3,1120],[3,1121,3,1127],[3,1128,3,1134],[3,1135,3,1141],[3,1142,3,1148],[3,1149,3,1155],[3,1156,3,1162],[3,1163,3,1169],[3,1170,3,1176],[3,1177,3,1183],[3,1184,3,1190],[3,1191,3,1197],[3,1198,3,1204],[3,1205,3,1211],[3,1212,3,1218],[3,1219,3,1225],[3,1226,3,1232],[3,1233,3,1239],[3,1240,3,1246],[3,1247,3,1253],[3,1254,3,1260],[3,1261,3,1267],[3,1268,3,1274],[3,1275,3,1281],[3,1282,3,1288],[3,1289,3,1295],[3,1296,3,1302],[3,1303,3,1309],[3,1310,3,1316],[3,1317,3,1323],[3,1324,3,1330],[3,1331,3,1337],[3,1338,3,1344],[4,988,4,994],[4,995,4,1001],[4,1002,4,1008],[4,1009,4,1015],[4,1016,4,1022],[4,1023,4,1029],[4,1030,4,1036],[4,1037,4,1043],[4,1044,4,1050],[4,1051,4,1057],[4,1058,4,1064],[4,1065,4,1071],[4,1072,4,1078],[4,1079,4,1085],[4,1086,4,1092],[4,1093,4,1099],[4,1100,4,1106],[4,1107,4,1113],[4,1114,4,1120],[4,1121,4,1127],[4,1128,4,1134],[4,1135,4,1141],[4,1142,4,1148],[4,1149,4,1155],[4,1156,4,1162],[4,1163,4,1169],[4,1170,4,1176],[4,1177,4,1183],[4,1184,4,1190],[4,1191,4,1197],[4,1198,4,1204],[4,1205,4,1211],[4,1212,4,1218],[4,1219,4,1225],[4,1226,4,1232],[4,1233,4,1239],[4,1240,4,1246],[4,1310,4,1316],[4,1317,4,1323],[4,1324,4,1330],[4,1331,4,1337],[4,1338,4,1344],[4,1247,4,1253],[4,1254,4,1260],[4,1261,4,1267],[4,1268,4,1274],[4,1275,4,1281],[4,1282,4,1288],[4,1289,4,1295],[4,1296,4,1302],[4,1303,4,1309]]}
["Calendar Grup de Lucru"]
["NUME INSTITUȚIE / AUTORITATE PUBLICĂ",null,null,null,null,null,null,null,null,null,"Dată start \nproces analiză posturi",null,"Dată finalizare \nproces analiză posturi"]
["Responsabil Grup de Lucru :",null,"completați aici cine va conduce întâlnirile - Nume și Prenume",null,"« Pasul 3.1",null,null,null,"Pasul 4","Completează aici »","2024-07-01",null,{"$f":"K3+C6","v":"2024-08-06"}]
["Calendarul este menținut de:",null,"completați aici cine va menține acest calendar - Nume si Prenume ",null,"« Pasul 3.2",null,null,null,null,"Astăzi este ",{"$f":"TODAY()","v":"2024-09-27"},null,"2024-08-15",null,null,1,null,null,null,null,null,null,2,null,null,null,null,null,null,3,null,null,null,null,null,null,4,null,null,null,null,null,null,5,null,null,null,null,null,null,6,null,null,null,null,null,null,7,null,null,null,null,null,null,8,null,null,null,null,null,null,9,null,null,null,null,null,null,10,null,null,null,null,null,null,11,null,null,null,null,null,null,12,null,null,null,null,null,null,13,null,null,null,null,null,null,14,null,null,null,null,null,null,15,null,null,null,null,null,null,16,null,null,null,null,null,null,17,null,null,null,null,null,null,18,null,null,null,null,null,null,19,null,null,null,null,null,null,20,null,null,null,null,null,null,21,null,null,null,null,null,null,22,null,null,null,null,null,null,23,null,null,null,null,null,null,24,null,null,null,null,null,null,25,null,null,null,null,null,null,26,null,null,null,null,null,null,27,null,null,null,null,null,null,28,null,null,null,null,null,null,29,null,null,null,null,null,null,30,null,null,null,null,null,null,31,null,null,null,null,null,null,32,null,null,null,null,null,null,33,null,null,null,null,null,null,34,null,null,null,null,null,null,35,null,null,null,null,null,null,36,null,null,null,null,null,null,37,null,null,null,null,null,null,38,null,null,null,null,null,null,39,null,null,null,null,null,null,40,null,null,null,null,null,null,41,null,null,null,null,null,null,42,null,null,null,null,null,null,43,null,null,null,null,null,null,44,null,null,null,null,null,null,45,null,null,null,null,null,null,46,null,null,null,null,null,null,47,null,null,null,null,null,null,48,null,null,null,null,null,null,49,null,null,null,null,null,null,50,null,null,null,null,null,null,51,null,null,null,null,null,null,52,null,null,null,null,null,null,53,null,null,null,null,null,null,54,null,null,null,null,null,null,55,null,null,null,null,null,null,56,null,null,null,null,null,null,57,null,null,null,null,null,null,58,null,null,null,null,null,null,59,null,null,null,null,null,null,60,null,null,null,null,null,null,61,null,null,null,null,null,null,62,null,null,null,null,null,null,63,null,null,null,null,null,null,64,null,null,null,null,null,null,65,null,null,null,null,null,null,66,null,null,null,null,null,null,67,null,null,null,null,null,null,68,null,null,null,null,null,null,69,null,null,null,null,null,null,70,null,null,null,null,null,null,71,null,null,null,null,null,null,72,null,null,null,null,null,null,73,null,null,null,null,null,null,74,null,null,null,null,null,null,75,null,null,null,null,null,null,76,null,null,null,null,null,null,77,null,null,null,null,null,null,78,null,null,null,null,null,null,79,null,null,null,null,null,null,80,null,null,null,null,null,null,81,null,null,null,null,null,null,82,null,null,null,null,null,null,83,null,null,null,null,null,null,84,null,null,null,null,null,null,85,null,null,null,null,null,null,86,null,null,null,null,null,null,87,null,null,null,null,null,null,88,null,null,null,null,null,null,89,null,null,null,null,null,null,90,null,null,null,null,null,null,91,null,null,null,null,null,null,92,null,null,null,null,null,null,93,null,null,null,null,null,null,94,null,null,null,null,null,null,95,null,null,null,null,null,null,96,null,null,null,null,null,null,97,null,null,null,null,null,null,98,null,null,null,null,null,null,99,null,null,null,null,null,null,100,null,null,null,null,null,null,101,null,null,null,null,null,null,102,null,null,null,null,null,null,103,null,null,null,null,null,null,104,null,null,null,null,null,null,105,null,null,null,null,null,null,106,null,null,null,null,null,null,107,null,null,null,null,null,null,108,null,null,null,null,null,null,109,null,null,null,null,null,null,110,null,null,null,null,null,null,111,null,null,null,null,null,null,112,null,null,null,null,null,null,113,null,null,null,null,null,null,114,null,null,null,null,null,null,115,null,null,null,null,null,null,116,null,null,null,null,null,null,117,null,null,null,null,null,null,118,null,null,null,null,null,null,119,null,null,null,null,null,null,120,null,null,null,null,null,null,121,null,null,null,null,null,null,122,null,null,null,null,null,null,123,null,null,null,null,null,null,124,null,null,null,null,null,null,125,null,null,null,null,null,null,126,null,null,null,null,null,null,127,null,null,null,null,null,null,128,null,null,null,null,null,null,129,null,null,null,null,null,null,130,null,null,null,null,null,null,131,null,null,null,null,null,null,132,null,null,null,null,null,null,133,null,null,null,null,null,null,134,null,null,null,null,null,null,135,null,null,null,null,null,null,136,null,null,null,null,null,null,137,null,null,null,null,null,null,138,null,null,null,null,null,null,139,null,null,null,null,null,null,140,null,null,null,null,null,null,141,null,null,null,null,null,null,142,null,null,null,null,null,null,143,null,null,null,null,null,null,144,null,null,null,null,null,null,145,null,null,null,null,null,null,146,null,null,null,null,null,null,147,null,null,null,null,null,null,148,null,null,null,null,null,null,149,null,null,null,null,null,null,150,null,null,null,null,null,null,151,null,null,null,null,null,null,152,null,null,null,null,null,null,153,null,null,null,null,null,null,154,null,null,null,null,null,null,155,null,null,null,null,null,null,156,null,null,null,null,null,null,157,null,null,null,null,null,null,158,null,null,null,null,null,null,159,null,null,null,null,null,null,160,null,null,null,null,null,null,161,null,null,null,null,null,null,162,null,null,null,null,null,null,163,null,null,null,null,null,null,164,null,null,null,null,null,null,165,null,null,null,null,null,null,166,null,null,null,null,null,null,167,null,null,null,null,null,null,168,null,null,null,null,null,null,169,null,null,null,null,null,null,170,null,null,null,null,null,null,171,null,null,null,null,null,null,172,null,null,null,null,null,null,173,null,null,null,null,null,null,174,null,null,null,null,null,null,175,null,null,null,null,null,null,176,null,null,null,null,null,null,177,null,null,null,null,null,null,178,null,null,null,null,null,null,179,null,null,null,null,null,null,180,null,null,null,null,null,null,181,null,null,null,null,null,null,182,null,null,null,null,null,null,183,null,null,null,null,null,null,184,null,null,null,null,null,null,185,null,null,null,null,null,null,186,null,null,null,null,null,null,187,null,null,null,null,null,null,188,null,null,null,null,null,null,189,null,null,null,null,null,null,190]
["De câte ori se întâlnește grupul de lucru:",null,"1 x săptămână",null,null,null,null,null,null,"Arată în grafic datele începând cu săptămâna »",1,null,"Termenul aferent întocmirii solicitării de avizare",null,null,{"$f":"P6+1","v":"2024-07-02"},null,null,null,null,null,null,{"$f":"W6","v":"2024-07-08"},null,null,null,null,null,null,{"$f":"AD6","v":"2024-07-15"},null,null,null,null,null,null,{"$f":"AK6","v":"2024-07-22"},null,null,null,null,null,null,{"$f":"AR6","v":"2024-07-29"},null,null,null,null,null,null,{"$f":"AY6","v":"2024-08-05"},null,null,null,null,null,null,{"$f":"BF6","v":"2024-08-12"},null,null,null,null,null,null,{"$f":"BM6","v":"2024-08-19"},null,null,null,null,null,null,{"$f":"BT6","v":"2024-08-26"},null,null,null,null,null,null,{"$f":"CA6","v":"2024-09-02"},null,null,null,null,null,null,{"$f":"CH6","v":"2024-09-09"},null,null,null,null,null,null,{"$f":"CO6","v":"2024-09-16"},null,null,null,null,null,null,{"$f":"CV6","v":"2024-09-23"},null,null,null,null,null,null,{"$f":"DC6","v":"2024-09-30"},null,null,null,null,null,null,{"$f":"DJ6","v":"2024-10-07"},null,null,null,null,null,null,{"$f":"DQ6","v":"2024-10-14"},null,null,null,null,null,null,{"$f":"DX6","v":"2024-10-21"},null,null,null,null,null,null,{"$f":"EE6","v":"2024-10-28"},null,null,null,null,null,null,{"$f":"EL6","v":"2024-11-04"},null,null,null,null,null,null,{"$f":"ES6","v":"2024-11-11"},null,null,null,null,null,null,{"$f":"EZ6","v":"2024-11-18"},null,null,null,null,null,null,{"$f":"FG6","v":"2024-11-25"},null,null,null,null,null,null,{"$f":"FN6","v":"2024-12-02"},null,null,null,null,null,null,{"$f":"FU6","v":"2024-12-09"},null,null,null,null,null,null,{"$f":"GB6","v":"2024-12-16"},null,null,null,null,null,null,{"$f":"GI6","v":"2024-12-23"},null,null,null,null,null,null,{"$f":"GP6","v":"2024-12-30"},null,null,null,null,null,null,{"$f":"GW6","v":"2025-01-06"},null,null,null,null,null,null,{"$f":"HD6","v":"2025-01-13"},null,null,null,null,null,null,{"$f":"HK6","v":"2025-01-20"},null,null,null,null,null,null,{"$f":"HR6","v":"2025-01-27"},null,null,null,null,null,null,{"$f":"HY6","v":"2025-02-03"},null,null,null,null,null,null,{"$f":"IF6","v":"2025-02-10"},null,null,null,null,null,null,{"$f":"IM6","v":"2025-02-17"},null,null,null,null,null,null,{"$f":"IT6","v":"2025-02-24"},null,null,null,null,null,null,{"$f":"JA6","v":"2025-03-03"},null,null,null,null,null,null,{"$f":"JH6","v":"2025-03-10"},null,null,null,null,null,null,{"$f":"JO6","v":"2025-03-17"},null,null,null,null,null,null,{"$f":"JV6","v":"2025-03-24"},null,null,null,null,null,null,{"$f":"KC6","v":"2025-03-31"},null,null,null,null,null,null,{"$f":"KJ6","v":"2025-04-07"},null,null,null,null,null,null,{"$f":"KQ6","v":"2025-04-14"},null,null,null,null,null,null,{"$f":"KX6","v":"2025-04-21"},null,null,null,null,null,null,{"$f":"LE6","v":"2025-04-28"},null,null,null,null,null,null,{"$f":"LL6","v":"2025-05-05"},null,null,null,null,null,null,{"$f":"LS6","v":"2025-05-12"},null,null,null,null,null,null,{"$f":"LZ6","v":"2025-05-19"},null,null,null,null,null,null,{"$f":"MG6","v":"2025-05-26"},null,null,null,null,null,null,{"$f":"MN6","v":"2025-06-02"},null,null,null,null,null,null,{"$f":"MU6","v":"2025-06-09"},null,null,null,null,null,null,{"$f":"NB6","v":"2025-06-16"},null,null,null,null,null,null,{"$f":"NI6","v":"2025-06-23"},null,null,null,null,null,null,{"$f":"NP6","v":"2025-06-30"},null,null,null,null,null,null,{"$f":"NW6","v":"2025-07-07"},null,null,null,null,null,null,{"$f":"OD6","v":"2025-07-14"},null,null,null,null,null,null,{"$f":"OK6","v":"2025-07-21"},null,null,null,null,null,null,{"$f":"OR6","v":"2025-07-28"},null,null,null,null,null,null,{"$f":"OY6","v":"2025-08-04"},null,null,null,null,null,null,{"$f":"PF6","v":"2025-08-11"},null,null,null,null,null,null,{"$f":"PM6","v":"2025-08-18"},null,null,null,null,null,null,{"$f":"PT6","v":"2025-08-25"},null,null,null,null,null,null,{"$f":"QA6","v":"2025-09-01"},null,null,null,null,null,null,{"$f":"QH6","v":"2025-09-08"},null,null,null,null,null,null,{"$f":"QO6","v":"2025-09-15"},null,null,null,null,null,null,{"$f":"QV6","v":"2025-09-22"},null,null,null,null,null,null,{"$f":"RC6","v":"2025-09-29"},null,null,null,null,null,null,{"$f":"RJ6","v":"2025-10-06"},null,null,null,null,null,null,{"$f":"RQ6","v":"2025-10-13"},null,null,null,null,null,null,{"$f":"RX6","v":"2025-10-20"},null,null,null,null,null,null,{"$f":"SE6","v":"2025-10-27"},null,null,null,null,null,null,{"$f":"SL6","v":"2025-11-03"},null,null,null,null,null,null,{"$f":"SS6","v":"2025-11-10"},null,null,null,null,null,null,{"$f":"SZ6","v":"2025-11-17"},null,null,null,null,null,null,{"$f":"TG6","v":"2025-11-24"},null,null,null,null,null,null,{"$f":"TN6","v":"2025-12-01"},null,null,null,null,null,null,{"$f":"TU6","v":"2025-12-08"},null,null,null,null,null,null,{"$f":"UB6","v":"2025-12-15"},null,null,null,null,null,null,{"$f":"UI6","v":"2025-12-22"},null,null,null,null,null,null,{"$f":"UP6","v":"2025-12-29"},null,null,null,null,null,null,{"$f":"UW6","v":"2026-01-05"},null,null,null,null,null,null,{"$f":"VD6","v":"2026-01-12"},null,null,null,null,null,null,{"$f":"VK6","v":"2026-01-19"},null,null,null,null,null,null,{"$f":"VR6","v":"2026-01-26"},null,null,null,null,null,null,{"$f":"VY6","v":"2026-02-02"},null,null,null,null,null,null,{"$f":"WF6","v":"2026-02-09"},null,null,null,null,null,null,{"$f":"WM6","v":"2026-02-16"},null,null,null,null,null,null,{"$f":"WT6","v":"2026-02-23"},null,null,null,null,null,null,{"$f":"XA6","v":"2026-03-02"},null,null,null,null,null,null,{"$f":"XH6","v":"2026-03-09"},null,null,null,null,null,null,{"$f":"XO6","v":"2026-03-16"},null,null,null,null,null,null,{"$f":"XV6","v":"2026-03-23"},null,null,null,null,null,null,{"$f":"YC6","v":"2026-03-30"},null,null,null,null,null,null,{"$f":"YJ6","v":"2026-04-06"},null,null,null,null,null,null,{"$f":"YQ6","v":"2026-04-13"},null,null,null,null,null,null,{"$f":"YX6","v":"2026-04-20"},null,null,null,null,null,null,{"$f":"ZE6","v":"2026-04-27"},null,null,null,null,null,null,{"$f":"ZL6","v":"2026-05-04"},null,null,null,null,null,null,{"$f":"ZS6","v":"2026-05-11"},null,null,null,null,null,null,{"$f":"ZZ6","v":"2026-05-18"},null,null,null,null,null,null,{"$f":"AAG6","v":"2026-05-25"},null,null,null,null,null,null,{"$f":"AAN6","v":"2026-06-01"},null,null,null,null,null,null,{"$f":"AAU6","v":"2026-06-08"},null,null,null,null,null,null,{"$f":"ABB6","v":"2026-06-15"},null,null,null,null,null,null,{"$f":"ABI6","v":"2026-06-22"},null,null,null,null,null,null,{"$f":"ABP6","v":"2026-06-29"},null,null,null,null,null,null,{"$f":"ABW6","v":"2026-07-06"},null,null,null,null,null,null,{"$f":"ACD6","v":"2026-07-13"},null,null,null,null,null,null,{"$f":"ACK6","v":"2026-07-20"},null,null,null,null,null,null,{"$f":"ACR6","v":"2026-07-27"},null,null,null,null,null,null,{"$f":"ACY6","v":"2026-08-03"},null,null,null,null,null,null,{"$f":"ADF6","v":"2026-08-10"},null,null,null,null,null,null,{"$f":"ADM6","v":"2026-08-17"},null,null,null,null,null,null,{"$f":"ADT6","v":"2026-08-24"},null,null,null,null,null,null,{"$f":"AEA6","v":"2026-08-31"},null,null,null,null,null,null,{"$f":"AEH6","v":"2026-09-07"},null,null,null,null,null,null,{"$f":"AEO6","v":"2026-09-14"},null,null,null,null,null,null,{"$f":"AEV6","v":"2026-09-21"},null,null,null,null,null,null,{"$f":"AFC6","v":"2026-09-28"},null,null,null,null,null,null,{"$f":"AFJ6","v":"2026-10-05"},null,null,null,null,null,null,{"$f":"AFQ6","v":"2026-10-12"},null,null,null,null,null,null,{"$f":"AFX6","v":"2026-10-19"},null,null,null,null,null,null,{"$f":"AGE6","v":"2026-10-26"},null,null,null,null,null,null,{"$f":"AGL6","v":"2026-11-02"},null,null,null,null,null,null,{"$f":"AGS6","v":"2026-11-09"},null,null,null,null,null,null,{"$f":"AGZ6","v":"2026-11-16"},null,null,null,null,null,null,{"$f":"AHG6","v":"2026-11-23"},null,null,null,null,null,null,{"$f":"AHN6","v":"2026-11-30"},null,null,null,null,null,null,{"$f":"AHU6","v":"2026-12-07"},null,null,null,null,null,null,{"$f":"AIB6","v":"2026-12-14"},null,null,null,null,null,null,{"$f":"AII6","v":"2026-12-21"},null,null,null,null,null,null,{"$f":"AIP6","v":"2026-12-28"},null,null,null,null,null,null,{"$f":"AIW6","v":"2027-01-04"},null,null,null,null,null,null,{"$f":"AJD6","v":"2027-01-11"},null,null,null,null,null,null,{"$f":"AJK6","v":"2027-01-18"},null,null,null,null,null,null,{"$f":"AJR6","v":"2027-01-25"},null,null,null,null,null,null,{"$f":"AJY6","v":"2027-02-01"},null,null,null,null,null,null,{"$f":"AKF6","v":"2027-02-08"},null,null,null,null,null,null,{"$f":"AKM6","v":"2027-02-15"},null,null,null,null,null,null,{"$f":"AKT6","v":"2027-02-22"},null,null,null,null,null,null,{"$f":"ALA6","v":"2027-03-01"},null,null,null,null,null,null,{"$f":"ALH6","v":"2027-03-08"},null,null,null,null,null,null,{"$f":"ALO6","v":"2027-03-15"},null,null,null,null,null,null,{"$f":"ALV6","v":"2027-03-22"},null,null,null,null,null,null,{"$f":"AMC6","v":"2027-03-29"},null,null,null,null,null,null,{"$f":"AMJ6","v":"2027-04-05"},null,null,null,null,null,null,{"$f":"AMQ6","v":"2027-04-12"},null,null,null,null,null,null,{"$f":"AMX6","v":"2027-04-19"},null,null,null,null,null,null,{"$f":"ANE6","v":"2027-04-26"},null,null,null,null,null,null,{"$f":"ANL6","v":"2027-05-03"},null,null,null,null,null,null,{"$f":"ANS6","v":"2027-05-10"},null,null,null,null,null,null,{"$f":"ANZ6","v":"2027-05-17"},null,null,null,null,null,null,{"$f":"AOG6","v":"2027-05-24"},null,null,null,null,null,null,{"$f":"AON6","v":"2027-05-31"},null,null,null,null,null,null,{"$f":"AOU6","v":"2027-06-07"},null,null,null,null,null,null,{"$f":"APB6","v":"2027-06-14"},null,null,null,null,null,null,{"$f":"API6","v":"2027-06-21"},null,null,null,null,null,null,{"$f":"APP6","v":"2027-06-28"},null,null,null,null,null,null,{"$f":"APW6","v":"2027-07-05"},null,null,null,null,null,null,{"$f":"AQD6","v":"2027-07-12"},null,null,null,null,null,null,{"$f":"AQK6","v":"2027-07-19"},null,null,null,null,null,null,{"$f":"AQR6","v":"2027-07-26"},null,null,null,null,null,null,{"$f":"AQY6","v":"2027-08-02"},null,null,null,null,null,null,{"$f":"ARF6","v":"2027-08-09"},null,null,null,null,null,null,{"$f":"ARM6","v":"2027-08-16"},null,null,null,null,null,null,{"$f":"ART6","v":"2027-08-23"},null,null,null,null,null,null,{"$f":"ASA6","v":"2027-08-30"},null,null,null,null,null,null,{"$f":"ASH6","v":"2027-09-06"},null,null,null,null,null,null,{"$f":"ASO6","v":"2027-09-13"},null,null,null,null,null,null,{"$f":"ASV6","v":"2027-09-20"},null,null,null,null,null,null,{"$f":"ATC6","v":"2027-09-27"},null,null,null,null,null,null,{"$f":"ATJ6","v":"2027-10-04"},null,null,null,null,null,null,{"$f":"ATQ6","v":"2027-10-11"},null,null,null,null,null,null,{"$f":"ATX6","v":"2027-10-18"},null,null,null,null,null,null,{"$f":"AUE6","v":"2027-10-25"},null,null,null,null,null,null,{"$f":"AUL6","v":"2027-11-01"},null,null,null,null,null,null,{"$f":"AUS6","v":"2027-11-08"},null,null,null,null,null,null,{"$f":"AUZ6","v":"2027-11-15"},null,null,null,null,null,null,{"$f":"AVG6","v":"2027-11-22"},null,null,null,null,null,null,{"$f":"AVN6","v":"2027-11-29"},null,null,null,null,null,null,{"$f":"AVU6","v":"2027-12-06"},null,null,null,null,null,null,{"$f":"AWB6","v":"2027-12-13"},null,null,null,null,null,null,{"$f":"AWI6","v":"2027-12-20"},null,null,null,null,null,null,{"$f":"AWP6","v":"2027-12-27"},null,null,null,null,null,null,{"$f":"AWW6","v":"2028-01-03"},null,null,null,null,null,null,{"$f":"AXD6","v":"2028-01-10"},null,null,null,null,null,null,{"$f":"AXK6","v":"2028-01-17"},null,null,null,null,null,null,{"$f":"AXR6","v":"2028-01-24"},null,null,null,null,null,null,{"$f":"AXY6","v":"2028-01-31"},null,null,null,null,null,null,{"$f":"AYF6","v":"2028-02-07"},null,null,null,null,null,null,{"$f":"AYM6","v":"2028-02-14"}]
["Număr de zile necesar pentru analiza posturilor",null,36,"Pasul 5",null,null,null,null,null,null,null,null,null,null,null,{"$f":"K3-WEEKDAY(K3,1)+2+7*(K5-1)","v":"2024-07-01"},{"$f":"P6+1","v":"2024-07-02"},{"$f":"Q6+1","v":"2024-07-03"},"2024-07-04","2024-07-05","2024-07-06","2024-07-07",{"$f":"V6+1","v":"2024-07-08"},{"$f":"W6+1","v":"2024-07-09"},"2024-07-10","2024-07-11","2024-07-12","2024-07-13","2024-07-14",{"$f":"AC6+1","v":"2024-07-15"},{"$f":"AD6+1","v":"2024-07-16"},"2024-07-17","2024-07-18","2024-07-19","2024-07-20","2024-07-21",{"$f":"AJ6+1","v":"2024-07-22"},{"$f":"AK6+1","v":"2024-07-23"},"2024-07-24","2024-07-25","2024-07-26","2024-07-27","2024-07-28",{"$f":"AQ6+1","v":"2024-07-29"},{"$f":"AR6+1","v":"2024-07-30"},"2024-07-31","2024-08-01","2024-08-02","2024-08-03","2024-08-04",{"$f":"AX6+1","v":"2024-08-05"},{"$f":"AY6+1","v":"2024-08-06"},"2024-08-07","2024-08-08","2024-08-09","2024-08-10","2024-08-11",{"$f":"BE6+1","v":"2024-08-12"},"2024-08-13","2024-08-14","2024-08-15","2024-08-16","2024-08-17","2024-08-18","2024-08-19","2024-08-20",{"$f":"BN6+1","v":"2024-08-21"},"2024-08-22","2024-08-23","2024-08-24","2024-08-25","2024-08-26","2024-08-27","2024-08-28","2024-08-29","2024-08-30","2024-08-31","2024-09-01","2024-09-02","2024-09-03","2024-09-04","2024-09-05","2024-09-06","2024-09-07","2024-09-08","2024-09-09","2024-09-10","2024-09-11","2024-09-12","2024-09-13","2024-09-14","2024-09-15","2024-09-16","2024-09-17","2024-09-18","2024-09-19","2024-09-20","2024-09-21","2024-09-22","2024-09-23","2024-09-24","2024-09-25","2024-09-26","2024-09-27","2024-09-28","2024-09-29","2024-09-30","2024-10-01","2024-10-02","2024-10-03","2024-10-04","2024-10-05","2024-10-06","2024-10-07","2024-10-08","2024-10-09","2024-10-10","2024-10-11","2024-10-12","2024-10-13","2024-10-14","2024-10-15","2024-10-16","2024-10-17","2024-10-18","2024-10-19","2024-10-20","2024-10-21","2024-10-22","2024-10-23",{"$f":"DZ6+1","v":"2024-10-24"},"2024-10-25","2024-10-26","2024-10-27","2024-10-28","2024-10-29","2024-10-30","2024-10-31","2024-11-01","2024-11-02","2024-11-03","2024-11-04","2024-11-05","2024-11-06","2024-11-07","2024-11-08","2024-11-09","2024-11-10","2024-11-11","2024-11-12","2024-11-13","2024-11-14","2024-11-15","2024-11-16","2024-11-17","2024-11-18","2024-11-19","2024-11-20","2024-11-21","2024-11-22","2024-11-23","2024-11-24","2024-11-25","2024-11-26","2024-11-27","2024-11-28","2024-11-29","2024-11-30","2024-12-01","2024-12-02","2024-12-03","2024-12-04","2024-12-05","2024-12-06","2024-12-07","2024-12-08","2024-12-09","2024-12-10","2024-12-11","2024-12-12","2024-12-13","2024-12-14","2024-12-15","2024-12-16","2024-12-17","2024-12-18","2024-12-19","2024-12-20","2024-12-21","2024-12-22","2024-12-23","2024-12-24","2024-12-25","2024-12-26",{"$f":"GL6+1","v":"2024-12-27"},{"$f":"GM6+1","v":"2024-12-28"},{"$f":"GN6+1","v":"2024-12-29"},{"$f":"GO6+1","v":"2024-12-30"},{"$f":"GP6+1","v":"2024-12-31"},"2025-01-01","2025-01-02","2025-01-03","2025-01-04","2025-01-05","2025-01-06","2025-01-07","2025-01-08","2025-01-09","2025-01-10","2025-01-11","2025-01-12","2025-01-13","2025-01-14","2025-01-15","2025-01-16","2025-01-17","2025-01-18","2025-01-19","2025-01-20","2025-01-21","2025-01-22","2025-01-23","2025-01-24","2025-01-25","2025-01-26","2025-01-27","2025-01-28","2025-01-29","2025-01-30","2025-01-31","2025-02-01","2025-02-02","2025-02-03","2025-02-04","2025-02-05","2025-02-06","2025-02-07","2025-02-08","2025-02-09","2025-02-10","2025-02-11","2025-02-12","2025-02-13","2025-02-14","2025-02-15","2025-02-16","2025-02-17","2025-02-18","2025-02-19","2025-02-20","2025-02-21","2025-02-22","2025-02-23","2025-02-24","2025-02-25","2025-02-26","2025-02-27","2025-02-28","2025-03-01","2025-03-02","2025-03-03","2025-03-04",{"$f":"JB6+1","v":"2025-03-05"},"2025-03-06","2025-03-07","2025-03-08","2025-03-09","2025-03-10","2025-03-11","2025-03-12","2025-03-13","2025-03-14","2025-03-15","2025-03-16","2025-03-17","2025-03-18","2025-03-19","2025-03-20","2025-03-21","2025-03-22","2025-03-23","2025-03-24","2025-03-25","2025-03-26","2025-03-27","2025-03-28","2025-03-29","2025-03-30","2025-03-31","2025-04-01","2025-04-02","2025-04-03","2025-04-04","2025-04-05","2025-04-06","2025-04-07","2025-04-08","2025-04-09","2025-04-10","2025-04-11","2025-04-12","2025-04-13","2025-04-14","2025-04-15","2025-04-16","2025-04-17","2025-04-18","2025-04-19","2025-04-20","2025-04-21","2025-04-22","2025-04-23","2025-04-24","2025-04-25","2025-04-26","2025-04-27","2025-04-28","2025-04-29","2025-04-30","2025-05-01","2025-05-02","2025-05-03","2025-05-04","2025-05-05","2025-05-06","2025-05-07",{"$f":"LN6+1","v":"2025-05-08"},"2025-05-09","2025-05-10","2025-05-11","2025-05-12","2025-05-13","2025-05-14","2025-05-15","2025-05-16","2025-05-17","2025-05-18","2025-05-19","2025-05-20","2025-05-21","2025-05-22","2025-05-23","2025-05-24","2025-05-25","2025-05-26","2025-05-27","2025-05-28","2025-05-29","2025-05-30","2025-05-31","2025-06-01","2025-06-02","2025-06-03","2025-06-04","2025-06-05","2025-06-06","2025-06-07","2025-06-08","2025-06-09","2025-06-10","2025-06-11","2025-06-12","2025-06-13","2025-06-14","2025-06-15","2025-06-16","2025-06-17","2025-06-18","2025-06-19","2025-06-20","2025-06-21","2025-06-22","2025-06-23","2025-06-24","2025-06-25","2025-06-26","2025-06-27","2025-06-28","2025-06-29","2025-06-30","2025-07-01","2025-07-02","2025-07-03","2025-07-04","2025-07-05","2025-07-06","2025-07-07","2025-07-08","2025-07-09","2025-07-10",{"$f":"NZ6+1","v":"2025-07-11"},"2025-07-12","2025-07-13","2025-07-14","2025-07-15","2025-07-16","2025-07-17","2025-07-18","2025-07-19","2025-07-20","2025-07-21","2025-07-22","2025-07-23","2025-07-24","2025-07-25","2025-07-26","2025-07-27","2025-07-28","2025-07-29","2025-07-30","2025-07-31","2025-08-01","2025-08-02","2025-08-03","2025-08-04","2025-08-05","2025-08-06","2025-08-07","2025-08-08","2025-08-09","2025-08-10","2025-08-11","2025-08-12","2025-08-13","2025-08-14","2025-08-15","2025-08-16","2025-08-17","2025-08-18","2025-08-19","2025-08-20","2025-08-21","2025-08-22","2025-08-23","2025-08-24","2025-08-25","2025-08-26","2025-08-27","2025-08-28","2025-08-29","2025-08-30","2025-08-31","2025-09-01","2025-09-02","2025-09-03","2025-09-04","2025-09-05","2025-09-06","2025-09-07","2025-09-08","2025-09-09","2025-09-10","2025-09-11","2025-09-12",{"$f":"QL6+1","v":"2025-09-13"},"2025-09-14","2025-09-15","2025-09-16","2025-09-17","2025-09-18","2025-09-19","2025-09-20","2025-09-21","2025-09-22","2025-09-23","2025-09-24","2025-09-25","2025-09-26","2025-09-27","2025-09-28","2025-09-29","2025-09-30","2025-10-01","2025-10-02","2025-10-03","2025-10-04","2025-10-05","2025-10-06","2025-10-07","2025-10-08","2025-10-09","2025-10-10","2025-10-11","2025-10-12","2025-10-13","2025-10-14","2025-10-15","2025-10-16","2025-10-17","2025-10-18","2025-10-19","2025-10-20","2025-10-21","2025-10-22","2025-10-23","2025-10-24","2025-10-25","2025-10-26","2025-10-27","2025-10-28","2025-10-29","2025-10-30","2025-10-31","2025-11-01","2025-11-02","2025-11-03","2025-11-04","2025-11-05","2025-11-06","2025-11-07","2025-11-08","2025-11-09","2025-11-10","2025-11-11","2025-11-12","2025-11-13","2025-11-14","2025-11-15",{"$f":"SX6+1","v":"2025-11-16"},"2025-11-17","2025-11-18","2025-11-19","2025-11-20","2025-11-21","2025-11-22","2025-11-23","2025-11-24","2025-11-25","2025-11-26","2025-11-27","2025-11-28","2025-11-29","2025-11-30","2025-12-01","2025-12-02","2025-12-03","2025-12-04","2025-12-05","2025-12-06","2025-12-07","2025-12-08","2025-12-09","2025-12-10","2025-12-11","2025-12-12","2025-12-13","2025-12-14","2025-12-15","2025-12-16","2025-12-17","2025-12-18","2025-12-19","2025-12-20","2025-12-21","2025-12-22","2025-12-23","2025-12-24","2025-12-25","2025-12-26","2025-12-27","2025-12-28","2025-12-29","2025-12-30","2025-12-31","2026-01-01","2026-01-02","2026-01-03","2026-01-04","2026-01-05","2026-01-06","2026-01-07","2026-01-08","2026-01-09","2026-01-10","2026-01-11","2026-01-12","2026-01-13","2026-01-14","2026-01-15","2026-01-16","2026-01-17","2026-01-18",{"$f":"VJ6+1","v":"2026-01-19"},"2026-01-20","2026-01-21","2026-01-22","2026-01-23","2026-01-24","2026-01-25","2026-01-26","2026-01-27","2026-01-28","2026-01-29","2026-01-30","2026-01-31","2026-02-01","2026-02-02","2026-02-03","2026-02-04","2026-02-05","2026-02-06","2026-02-07","2026-02-08","2026-02-09","2026-02-10","2026-02-11","2026-02-12","2026-02-13","2026-02-14","2026-02-15","2026-02-16","2026-02-17","2026-02-18","2026-02-19","2026-02-20","2026-02-21","2026-02-22","2026-02-23","2026-02-24","2026-02-25","2026-02-26","2026-02-27","2026-02-28","2026-03-01","2026-03-02","2026-03-03","2026-03-04","2026-03-05","2026-03-06","2026-03-07","2026-03-08","2026-03-09","2026-03-10","2026-03-11","2026-03-12","2026-03-13","2026-03-14","2026-03-15",{"$f":"XN6+1","v":"2026-03-16"},"2026-03-17","2026-03-18","2026-03-19","2026-03-20","2026-03-21","2026-03-22","2026-03-23","2026-03-24","2026-03-25","2026-03-26","2026-03-27","2026-03-28","2026-03-29","2026-03-30","2026-03-31","2026-04-01","2026-04-02","2026-04-03","2026-04-04","2026-04-05","2026-04-06","2026-04-07","2026-04-08","2026-04-09","2026-04-10","2026-04-11","2026-04-12","2026-04-13","2026-04-14","2026-04-15","2026-04-16","2026-04-17","2026-04-18","2026-04-19","2026-04-20","2026-04-21","2026-04-22","2026-04-23","2026-04-24","2026-04-25","2026-04-26","2026-04-27","2026-04-28","2026-04-29","2026-04-30","2026-05-01","2026-05-02","2026-05-03","2026-05-04","2026-05-05","2026-05-06","2026-05-07","2026-05-08","2026-05-09","2026-05-10","2026-05-11","2026-05-12","2026-05-13","2026-05-14","2026-05-15","2026-05-16","2026-05-17","2026-05-18",{"$f":"ZZ6+1","v":"2026-05-19"},"2026-05-20","2026-05-21","2026-05-22","2026-05-23","2026-05-24","2026-05-25","2026-05-26","2026-05-27","2026-05-28","2026-05-29","2026-05-30","2026-05-31","2026-06-01","2026-06-02","2026-06-03","2026-06-04","2026-06-05","2026-06-06","2026-06-07","2026-06-08","2026-06-09","2026-06-10","2026-06-11","2026-06-12","2026-06-13","2026-06-14","2026-06-15","2026-06-16","2026-06-17","2026-06-18","2026-06-19","2026-06-20","2026-06-21","2026-06-22","2026-06-23","2026-06-24","2026-06-25","2026-06-26","2026-06-27","2026-06-28","2026-06-29","2026-06-30","2026-07-01","2026-07-02","2026-07-03","2026-07-04","2026-07-05","2026-07-06","2026-07-07","2026-07-08","2026-07-09","2026-07-10","2026-07-11","2026-07-12","2026-07-13","2026-07-14","2026-07-15","2026-07-16","2026-07-17","2026-07-18","2026-07-19","2026-07-20","2026-07-21",{"$f":"ACL6+1","v":"2026-07-22"},"2026-07-23","2026-07-24","2026-07-25","2026-07-26","2026-07-27","2026-07-28","2026-07-29","2026-07-30","2026-07-31","2026-08-01","2026-08-02","2026-08-03","2026-08-04","2026-08-05","2026-08-06","2026-08-07","2026-08-08","2026-08-09","2026-08-10","2026-08-11","2026-08-12","2026-08-13","2026-08-14","2026-08-15","2026-08-16","2026-08-17","2026-08-18","2026-08-19","2026-08-20","2026-08-21","2026-08-22","2026-08-23","2026-08-24","2026-08-25","2026-08-26","2026-08-27","2026-08-28","2026-08-29","2026-08-30","2026-08-31","2026-09-01","2026-09-02","2026-09-03","2026-09-04","2026-09-05","2026-09-06","2026-09-07","2026-09-08","2026-09-09","2026-09-10","2026-09-11","2026-09-12","2026-09-13","2026-09-14","2026-09-15","2026-09-16","2026-09-17","2026-09-18","2026-09-19","2026-09-20","2026-09-21","2026-09-22","2026-09-23",{"$f":"AEX6+1","v":"2026-09-24"},"2026-09-25","2026-09-26","2026-09-27","2026-09-28","2026-09-29","2026-09-30","2026-10-01","2026-10-02","2026-10-03","2026-10-04","2026-10-05","2026-10-06","2026-10-07","2026-10-08","2026-10-09","2026-10-10","2026-10-11","2026-10-12","2026-10-13","2026-10-14","2026-10-15","2026-10-16","2026-10-17","2026-10-18","2026-10-19","2026-10-20","2026-10-21","2026-10-22","2026-10-23","2026-10-24","2026-10-25","2026-10-26","2026-10-27","2026-10-28","2026-10-29","2026-10-30","2026-10-31","2026-11-01","2026-11-02","2026-11-03","2026-11-04","2026-11-05","2026-11-06","2026-11-07","2026-11-08","2026-11-09","2026-11-10","2026-11-11","2026-11-12","2026-11-13","2026-11-14","2026-11-15","2026-11-16","2026-11-17","2026-11-18","2026-11-19","2026-11-20","2026-11-21","2026-11-22","2026-11-23","2026-11-24","2026-11-25","2026-11-26",{"$f":"AHJ6+1","v":"2026-11-27"},"2026-11-28","2026-11-29","2026-11-30","2026-12-01","2026-12-02","2026-12-03","2026-12-04","2026-12-05","2026-12-06","2026-12-07","2026-12-08","2026-12-09","2026-12-10","2026-12-11","2026-12-12","2026-12-13","2026-12-14","2026-12-15","2026-12-16","2026-12-17","2026-12-18","2026-12-19","2026-12-20","2026-12-21","2026-12-22","2026-12-23","2026-12-24","2026-12-25","2026-12-26","2026-12-27","2026-12-28","2026-12-29","2026-12-30","2026-12-31","2027-01-01","2027-01-02","2027-01-03","2027-01-04","2027-01-05","2027-01-06","2027-01-07","2027-01-08","2027-01-09","2027-01-10","2027-01-11","2027-01-12","2027-01-13","2027-01-14","2027-01-15","2027-01-16","2027-01-17","2027-01-18","2027-01-19","2027-01-20","2027-01-21","2027-01-22","2027-01-23","2027-01-24","2027-01-25","2027-01-26","2027-01-27","2027-01-28","2027-01-29",{"$f":"AJV6+1","v":"2027-01-30"},"2027-01-31","2027-02-01","2027-02-02","2027-02-03","2027-02-04","2027-02-05","2027-02-06","2027-02-07","2027-02-08","2027-02-09","2027-02-10","2027-02-11","2027-02-12","2027-02-13","2027-02-14","2027-02-15","2027-02-16","2027-02-17","2027-02-18","2027-02-19","2027-02-20","2027-02-21","2027-02-22","2027-02-23","2027-02-24","2027-02-25","2027-02-26","2027-02-27","2027-02-28","2027-03-01","2027-03-02","2027-03-03","2027-03-04","2027-03-05","2027-03-06","2027-03-07","2027-03-08","2027-03-09","2027-03-10","2027-03-11","2027-03-12","2027-03-13","2027-03-14","2027-03-15","2027-03-16","2027-03-17","2027-03-18","2027-03-19","2027-03-20","2027-03-21","2027-03-22","2027-03-23","2027-03-24","2027-03-25","2027-03-26","2027-03-27","2027-03-28","2027-03-29","2027-03-30","2027-03-31","2027-04-01","2027-04-02","2027-04-03",{"$f":"AMH6+1","v":"2027-04-04"},"2027-04-05","2027-04-06","2027-04-07","2027-04-08","2027-04-09","2027-04-10","2027-04-11","2027-04-12","2027-04-13","2027-04-14","2027-04-15","2027-04-16","2027-04-17","2027-04-18","2027-04-19","2027-04-20","2027-04-21","2027-04-22","2027-04-23","2027-04-24","2027-04-25","2027-04-26","2027-04-27","2027-04-28","2027-04-29","2027-04-30","2027-05-01","2027-05-02","2027-05-03","2027-05-04","2027-05-05","2027-05-06","2027-05-07","2027-05-08","2027-05-09","2027-05-10","2027-05-11","2027-05-12","2027-05-13","2027-05-14","2027-05-15","2027-05-16","2027-05-17","2027-05-18","2027-05-19","2027-05-20","2027-05-21","2027-05-22","2027-05-23","2027-05-24","2027-05-25","2027-05-26","2027-05-27","2027-05-28","2027-05-29","2027-05-30","2027-05-31","2027-06-01","2027-06-02","2027-06-03","2027-06-04","2027-06-05","2027-06-06",{"$f":"AOT6+1","v":"2027-06-07"},"2027-06-08","2027-06-09","2027-06-10","2027-06-11","2027-06-12","2027-06-13","2027-06-14","2027-06-15","2027-06-16","2027-06-17","2027-06-18","2027-06-19","2027-06-20","2027-06-21","2027-06-22","2027-06-23","2027-06-24","2027-06-25","2027-06-26","2027-06-27","2027-06-28","2027-06-29","2027-06-30","2027-07-01","2027-07-02","2027-07-03","2027-07-04","2027-07-05","2027-07-06","2027-07-07","2027-07-08","2027-07-09","2027-07-10","2027-07-11","2027-07-12","2027-07-13","2027-07-14","2027-07-15","2027-07-16","2027-07-17","2027-07-18","2027-07-19","2027-07-20","2027-07-21","2027-07-22","2027-07-23","2027-07-24","2027-07-25","2027-07-26","2027-07-27","2027-07-28","2027-07-29","2027-07-30","2027-07-31","2027-08-01","2027-08-02","2027-08-03","2027-08-04","2027-08-05","2027-08-06","2027-08-07","2027-08-08","2027-08-09",{"$f":"ARF6+1","v":"2027-08-10"},"2027-08-11","2027-08-12","2027-08-13","2027-08-14","2027-08-15","2027-08-16","2027-08-17","2027-08-18","2027-08-19","2027-08-20","2027-08-21","2027-08-22","2027-08-23","2027-08-24","2027-08-25","2027-08-26","2027-08-27","2027-08-28","2027-08-29","2027-08-30","2027-08-31","2027-09-01","2027-09-02","2027-09-03","2027-09-04","2027-09-05","2027-09-06","2027-09-07","2027-09-08","2027-09-09","2027-09-10","2027-09-11","2027-09-12","2027-09-13","2027-09-14","2027-09-15","2027-09-16","2027-09-17","2027-09-18","2027-09-19","2027-09-20","2027-09-21","2027-09-22","2027-09-23","2027-09-24","2027-09-25","2027-09-26","2027-09-27","2027-09-28","2027-09-29","2027-09-30","2027-10-01","2027-10-02","2027-10-03","2027-10-04","2027-10-05","2027-10-06","2027-10-07","2027-10-08","2027-10-09","2027-10-10","2027-10-11","2027-10-12",{"$f":"ATR6+1","v":"2027-10-13"},"2027-10-14","2027-10-15","2027-10-16","2027-10-17","2027-10-18","2027-10-19","2027-10-20","2027-10-21","2027-10-22","2027-10-23","2027-10-24","2027-10-25","2027-10-26","2027-10-27","2027-10-28","2027-10-29","2027-10-30","2027-10-31","2027-11-01","2027-11-02","2027-11-03","2027-11-04","2027-11-05","2027-11-06","2027-11-07","2027-11-08","2027-11-09","2027-11-10","2027-11-11","2027-11-12","2027-11-13","2027-11-14","2027-11-15","2027-11-16","2027-11-17","2027-11-18","2027-11-19","2027-11-20","2027-11-21","2027-11-22","2027-11-23","2027-11-24","2027-11-25","2027-11-26","2027-11-27","2027-11-28","2027-11-29","2027-11-30","2027-12-01","2027-12-02","2027-12-03","2027-12-04","2027-12-05","2027-12-06","2027-12-07","2027-12-08","2027-12-09","2027-12-10","2027-12-11","2027-12-12","2027-12-13","2027-12-14","2027-12-15",{"$f":"AWD6+1","v":"2027-12-16"},"2027-12-17","2027-12-18","2027-12-19","2027-12-20","2027-12-21","2027-12-22","2027-12-23","2027-12-24","2027-12-25","2027-12-26","2027-12-27","2027-12-28","2027-12-29","2027-12-30","2027-12-31","2028-01-01","2028-01-02","2028-01-03","2028-01-04","2028-01-05","2028-01-06","2028-01-07","2028-01-08","2028-01-09","2028-01-10","2028-01-11","2028-01-12","2028-01-13","2028-01-14","2028-01-15","2028-01-16","2028-01-17","2028-01-18","2028-01-19","2028-01-20","2028-01-21","2028-01-22","2028-01-23","2028-01-24","2028-01-25","2028-01-26","2028-01-27","2028-01-28","2028-01-29","2028-01-30","2028-01-31","2028-02-01","2028-02-02","2028-02-03","2028-02-04","2028-02-05","2028-02-06","2028-02-07","2028-02-08","2028-02-09","2028-02-10","2028-02-11","2028-02-12","2028-02-13","2028-02-14","2028-02-15","2028-02-16","2028-02-17","2028-02-18","2028-02-19","2028-02-20"]
["ID post analizat","Denumire post analizat","Instituție","Departament ","Nume responsabil \ndin grupul de lucru pentru analiză post ","Durată activitate \nAnaliză Post","Link documente \npentru analiză","Metode de analiză alese","# Zile ramase până la finalizare analiză post","Progres fișă de post","Data \nstart \nanaliză post","Data \nfinalizare\nanaliză post","Status \nanaliză post","Aprobat de\n către ANFP","zile",{"$f":"LEFT(TEXT(P6,\"ddd\"),1)","v":"M"},"T","W","T","F","S","S","M","T","W","T","F","S","S","M","T","W","T","F","S","S","M","T","W","T","F","S","S","M","T","W","T","F","S","S","M","T","W","T","F","S","S","M","T","W","T","F","S","S","M","T","W","T","F","S","S","M","T","W","T","F","S","S","M",{"$f":"LEFT(TEXT(CB6,\"ddd\"),1)","v":"T"},"W","T","F","S","S","M","T","W","T","F","S","S","M","T","W","T","F","S","S","M","T","W","T","F","S","S","M","T","W","T","F","S","S","M","T","W","T","F","S","S","M","T","W","T","F","S","S","M","T","W","T","F","S","S","M","T","W","T","F","S","S","M","T",{"$f":"LEFT(TEXT(EN6,\"ddd\"),1)","v":"W"},"T","F","S","S","M","T","W","T","F","S","S","M","T","W","T","F","S","S","M","T","W","T","F","S","S","M","T","W","T","F","S","S","M","T","W","T","F","S","S","M","T","W","T","F","S","S","M","T","W","T","F","S","S","M","T","W","T","F","S","S","M","T","W",{"$f":"LEFT(TEXT(GZ6,\"ddd\"),1)","v":"T"},"F","S","S","M","T","W","T","F","S","S","M","T","W","T","F","S","S","M","T","W","T","F","S","S","M","T","W","T","F","S","S","M","T","W","T","F","S","S","M","T","W","T","F","S","S","M","T","W","T","F","S","S","M","T","W","T","F","S","S","M","T","W","T",{"$f":"LEFT(TEXT(JL6,\"ddd\"),1)","v":"F"},"S","S","M","T","W","T","F","S","S","M","T","W","T","F","S","S","M","T","W","T","F","S","S","M","T","W","T","F","S","S","M","T","W","T","F","S","S","M","T","W","T","F","S","S","M","T","W","T","F","S","S","M","T","W","T","F","S","S","M","T","W","T","F",{"$f":"LEFT(TEXT(LX6,\"ddd\"),1)","v":"S"},"S","M","T","W","T","F","S","S","M","T","W","T","F","S","S","M","T","W","T","F","S","S","M","T","W","T","F","S","S","M","T","W","T","F","S","S","M","T","W","T","F","S","S","M","T","W","T","F","S","S","M","T","W","T","F","S","S","M","T","W","T","F","S",{"$f":"LEFT(TEXT(OJ6,\"ddd\"),1)","v":"S"},"M","T","W","T","F","S","S","M","T","W","T","F","S","S","M","T","W","T","F","S","S","M","T","W","T","F","S","S","M","T","W","T","F","S","S","M","T","W","T","F","S","S","M","T","W","T","F","S","S","M","T","W","T","F","S","S","M","T","W","T","F","S","S",{"$f":"LEFT(TEXT(QV6,\"ddd\"),1)","v":"M"},"T","W","T","F","S","S","M","T","W","T","F","S","S","M","T","W","T","F","S","S","M","T","W","T","F","S","S","M","T","W","T","F","S","S","M","T","W","T","F","S","S","M","T","W","T","F","S","S","M","T","W","T","F","S","S","M","T","W","T","F","S","S","M",{"$f":"LEFT(TEXT(TH6,\"ddd\"),1)","v":"T"},"W","T","F","S","S","M","T","W","T","F","S","S","M","T","W","T","F","S","S","M","T","W","T","F","S","S","M","T","W","T","F","S","S","M","T","W","T","F","S","S","M","T","W","T","F","S","S","M","T","W","T","F","S","S","M","T","W","T","F","S","S","M","T",{"$f":"LEFT(TEXT(VT6,\"ddd\"),1)","v":"W"},"T","F","S","S","M","T","W","T","F","S","S","M","T","W","T","F","S","S","M","T","W","T","F","S","S","M","T","W","T","F","S","S","M","T","W","T","F","S","S","M","T","W","T","F","S","S",{"$f":"LEFT(TEXT(XO6,\"ddd\"),1)","v":"M"},"T","W","T","F","S","S","M","T","W","T","F","S","S","M","T","W","T","F","S","S","M","T","W","T","F","S","S","M","T","W","T","F","S","S","M","T","W","T","F","S","S","M","T","W","T","F","S","S","M","T","W","T","F","S","S","M","T","W","T","F","S","S","M",{"$f":"LEFT(TEXT(AAA6,\"ddd\"),1)","v":"T"},"W","T","F","S","S","M","T","W","T","F","S","S","M","T","W","T","F","S","S","M","T","W","T","F","S","S","M","T","W","T","F","S","S","M","T","W","T","F","S","S","M","T","W","T","F","S","S","M","T","W","T","F","S","S","M","T","W","T","F","S","S","M","T",{"$f":"LEFT(TEXT(ACM6,\"ddd\"),1)","v":"W"},"T","F","S","S","M","T","W","T","F","S","S","M","T","W","T","F","S","S","M","T","W","T","F","S","S","M","T","W","T","F","S","S","M","T","W","T","F","S","S","M","T","W","T","F","S","S","M","T","W","T","F","S","S","M","T","W","T","F","S","S","M","T","W",{"$f":"LEFT(TEXT(AEY6,\"ddd\"),1)","v":"T"},"F","S","S","M","T","W","T","F","S","S","M","T","W","T","F","S","S","M","T","W","T","F","S","S","M","T","W","T","F","S","S","M","T","W","T","F","S","S","M","T","W","T","F","S","S","M","T","W","T","F","S","S","M","T","W","T","F","S","S","M","T","W","T",{"$f":"LEFT(TEXT(AHK6,\"ddd\"),1)","v":"F"},"S","S","M","T","W","T","F","S","S","M","T","W","T","F","S","S","M","T","W","T","F","S","S","M","T","W","T","F","S","S","M","T","W","T","F","S","S","M","T","W","T","F","S","S","M","T","W","T","F","S","S","M","T","W","T","F","S","S","M","T","W","T","F",{"$f":"LEFT(TEXT(AJW6,\"ddd\"),1)","v":"S"},"S","M","T","W","T","F","S","S","M","T","W","T","F","S","S","M","T","W","T","F","S","S","M","T","W","T","F","S","S","M","T","W","T","F","S","S","M","T","W","T","F","S","S","M","T","W","T","F","S","S","M","T","W","T","F","S","S","M","T","W","T","F","S",{"$f":"LEFT(TEXT(AMI6,\"ddd\"),1)","v":"S"},"M","T","W","T","F","S","S","M","T","W","T","F","S","S","M","T","W","T","F","S","S","M","T","W","T","F","S","S","M","T","W","T","F","S","S","M","T","W","T","F","S","S","M","T","W","T","F","S","S","M","T","W","T","F","S","S","M","T","W","T","F","S","S",{"$f":"LEFT(TEXT(AOU6,\"ddd\"),1)","v":"M"},"T","W","T","F","S","S","M","T","W","T","F","S","S","M","T","W","T","F","S","S","M","T","W","T","F","S","S","M","T","W","T","F","S","S","M","T","W","T","F","S","S","M","T","W","T","F","S","S","M","T","W","T","F","S","S","M","T","W","T","F","S","S","M",{"$f":"LEFT(TEXT(ARG6,\"ddd\"),1)","v":"T"},"W","T","F","S","S","M","T","W","T","F","S","S","M","T","W","T","F","S","S","M","T","W","T","F","S","S","M","T","W","T","F","S","S","M","T","W","T","F","S","S","M","T","W","T","F","S","S","M","T","W","T","F","S","S","M","T","W","T","F","S","S","M","T",{"$f":"LEFT(TEXT(ATS6,\"ddd\"),1)","v":"W"},"T","F","S","S","M","T","W","T","F","S","S","M","T","W","T","F","S","S","M","T","W","T","F","S","S","M","T","W","T","F","S","S","M","T","W","T","F","S","S","M","T","W","T","F","S","S","M","T","W","T","F","S","S","M","T","W","T","F","S","S","M","T","W",{"$f":"LEFT(TEXT(AWE6,\"ddd\"),1)","v":"T"},"F","S","S","M","T","W","T","F","S","S","M","T","W","T","F","S","S","M","T","W","T","F","S","S","M","T","W","T","F","S","S","M","T","W","T","F","S","S","M","T","W","T","F","S","S","M","T","W","T","F","S","S","M","T","W","T","F","S","S","M","T","W","T",{"$f":"LEFT(TEXT(AYQ6,\"ddd\"),1)","v":"F"},{"$f":"LEFT(TEXT(AYR6,\"ddd\"),1)","v":"S"},{"$f":"LEFT(TEXT(AYS6,\"ddd\"),1)","v":"S"}]
["Pasul 6","Se introduce mai jos denumirea completă a postului de analizat","Nume complet","Nume complet","Nume si Prenume","# număr zile necesar \nanalizei postului","Introduceți link-ul ","Alege din listă","#zile ","%","zz. ll. an","zz. ll. an","Alege","Da sau Nu",{"$f":"IF(OR(ISBLANK(task_start),ISBLANK(task_end)),\"\",task_end-task_start+1)","v":{"$error":"#VALUE!"}}]
[null,"Nu modificați sau ștergeți această linie ",null,null,null,null,null,null,null,null,null,null,null,null,""]
[221345675,"Ex: Consilier Achizitii","Ex. Nume instituție/autoritate","Ex. Financiar","Ex. Popescu Ion",null,null,null,{"$f":"$M$3-TODAY()","v":-52},0.35,"2024-07-03",{"$f":"$M$3","v":"2024-08-06"},"În lucru","NU încă",35]
["INSERATI O LINIE NOUĂ APĂSÂND PE BUTONUL DE MAI JOS",null,null,null,null,null,null,null,null,null,null,null,null,null,""]
[]
[]
[]
["Pasul 1","GRUP DE LUCRU",null,null,null,null,null,null,null,null,null,"2018-01-13"]
["Introduceți componența grupului de lucru"]
["Nr crt.","Nume si prenume","Functia ","Instituție","ROL alocat  în cadrul grupului de lucru",null,"Număr telefon","Adresă de email"]
[0,"Ex. Mihai Ion","Ex .Șef serviciu","Ex. Instituție Publică","Ex. Analiză posturi din subordine"]
["INSERATI O LINIE NOUĂ APĂSÂND PE BUTONUL DE MAI JOS"]
[]
[]
[]
["Pasul 2","POSTURI DE ANALIZAT"]
["Introduceți mai jos toate posturile de analizat și responsabilul din grupul de lucru apoi, preluați aceste posturi cu copy paste la pasul 6"]
["ID POST","Lista posturilor de analizat\ndin instituția/autoritate publică","Denumire instituție ","Denumire departament","Nume responsabil analiză post "]
[null,"Alege din listă","Alege din listă","Alege din listă","Alege din listă"]
[221345675,"Ex: Consilier Achiziții","Ex. Nume instituție/autoritate","Ex.Financiar","Ex.Popescu Ion"]
[221345675,"Ex: Consilier Achiziții","Ex. Nume instituție/autoritate","Ex.Financiar","Ex.Popescu Ion"]
[452627678,"Referent Specialitate","Nume Instituție 2","Juridic","Maria Mihai"]
[3217272822,"Referent Specialitate","Nume instituție 3","Juridic ","Maria Mihai"]

{"sheet":"Etapa 2","index":18,"n_rows":0,"n_cols":0,"rows_kept":0,"cut":false,"hidden":false,"merged":[]}

{"sheet":"E2A1-Colectare informatii","index":19,"n_rows":0,"n_cols":0,"rows_kept":0,"cut":false,"hidden":false,"merged":[]}

{"sheet":"E2A1 - Mini-Ghid Focus Group(1)","index":20,"n_rows":0,"n_cols":0,"rows_kept":0,"cut":false,"hidden":false,"merged":[]}

{"sheet":"E2A1 - Mini-Ghid Focus Group(2)","index":21,"n_rows":0,"n_cols":0,"rows_kept":0,"cut":false,"hidden":false,"merged":[]}

{"sheet":"E2A1-Interviu Structurat","index":22,"n_rows":0,"n_cols":0,"rows_kept":0,"cut":false,"hidden":false,"merged":[]}

{"sheet":"E2A1-Interviu Structurat(2)","index":23,"n_rows":0,"n_cols":0,"rows_kept":0,"cut":false,"hidden":false,"merged":[]}

{"sheet":"E2A1-Interviu Structurat( 3)","index":24,"n_rows":0,"n_cols":0,"rows_kept":0,"cut":false,"hidden":false,"merged":[]}

{"sheet":"E2A2","index":25,"n_rows":0,"n_cols":0,"rows_kept":0,"cut":false,"hidden":false,"merged":[]}

{"sheet":"Instrucțiuni","index":26,"n_rows":35,"n_cols":10,"rows_kept":35,"cut":false,"hidden":true,"merged":[[1,1,1,10],[3,1,3,10],[5,1,5,10],[6,1,6,2],[6,3,6,8],[6,9,6,10],[7,1,7,2],[7,3,7,8],[7,9,7,10],[8,1,8,2],[8,3,8,8],[8,9,8,10],[9,1,9,2],[9,3,9,8],[9,9,9,10],[10,1,10,2],[10,3,10,8],[10,9,10,10],[11,1,11,2],[11,3,11,8],[11,9,11,10],[12,1,12,2],[12,3,12,8],[12,9,12,10],[18,1,18,2],[18,3,18,8],[18,9,18,10],[13,1,13,2],[13,3,13,8],[13,9,13,10],[14,1,14,2],[14,3,14,8],[14,9,14,10],[15,1,15,2],[15,3,15,8],[15,9,15,10],[16,1,16,2],[17,1,17,10],[24,1,24,2],[24,3,24,8],[24,9,24,10],[19,1,19,2],[19,3,19,8],[19,9,19,10],[20,1,20,2],[20,3,20,8],[20,9,20,10],[21,1,21,2],[22,1,22,10],[23,1,23,2],[23,3,23,8],[23,9,23,10],[25,1,25,2],[25,3,25,8],[25,9,25,10],[26,1,26,2],[26,3,26,8],[26,9,26,10],[34,1,34,10],[27,1,27,2],[28,1,28,2],[28,3,28,8],[28,9,28,10],[29,1,29,2],[29,3,29,8],[29,9,29,10],[30,1,30,2],[30,3,30,8],[30,9,30,10],[31,1,31,2],[32,1,32,10]]}
[]
[null,"Instrucțiuni de completare a Raportului de analiză a posturilor"]
[]
[null,"Pasul 1: Suprascrieți informațiile de mai jos peste modelul existent, respectiv eliminați exemplul precompletat - Consilier "]
[]
[null,"Pasul 2: Completați foaia de lucru denumită Listă posturi, după cum urmează: "]
[null,"Item",null,"Informații necesare",null,null,null,null,null,"tip informație"]
[null,"Categoria funcției publice, după nivelul atribuțiilor titularului funcției publice",null,"Se selectează din listă una dintre variante, în conformitate cu categoria din care face parte funcția publică supusă analizei, conform art. 387 alin. (1) din OUG nr. 57/2019 privind Codul Administrativ, cu modificările și completările ulterioare",null,null,null,null,null,"[listă drop down]"]
[null,"Funcția publică supusă analizei",null,"Se selectează din listă, conform denumirii din cadrul organigramei/ statului de funcții, ex. consilier, expert, inspector, șef serviciu, director adjunct, secretar general etc.",null,null,null,null,null,"[listă drop down]"]
[null,"Clasă",null,"Se selectează din listă una dintre cele trei variante pentru funcțiile publice de execuție, conform art. 386 din OUG nr. 57/2019 privind Codul Administrativ, cu modificările și completările ulterioare, varianta n/a fiind aplicabilă categoriilor de funcții de conducere",null,null,null,null,null,"[listă drop down]"]
[null,"Grad profesional",null,"Se selectează din listă una dintre cele patru variante pentru funcțiile publice de execuție, conform art. 393 din OUG nr. 57/2019 privind Codul Administrativ, cu modificările și completările ulterioare, varianta n/a fiind aplicabilă categoriilor de funcții de conducere",null,null,null,null,null,"[listă drop down]"]
[null,"ID",null,"Se completează cu ID-ul aferent funcției publice regăsit în portalul ANFP",null,null,null,null,null,"[text]"]
[null,"Structură funcțională",null,"Se completează conform denumirii din cadrul organigramei, ex. Compartiment Resurse Umane, Comunicare și Relații publice, Direcția Juridică, etc.",null,null,null,null,null,"[text]"]
[null,"Situația ocupării postului ",null,"Se selectează din listă una dintre cele patru variante - ocupat/ vacant/temporar ocupat/ temporar vacant; această coloană folosește drept ancoră pentru pentru completarea corectă a raportului de analiză a posturilor",null,null,null,null,null,"[listă drop down]"]
[null,"Denumire integrală a funcției publice supusă analizei - NU SE COMPLETEAZĂ",null,"Celula se completează automat cu informațiile completate în câmpurile anterioare; această coloană folosește drept ancoră pentru completarea corectă a raportului de analiză a posturilor și NU se modifică! ",null,null,null,null,null,"[precompletat]"]
[null,"Competențe generale și nivel de complexitate aplicabile - NU SE COMPLETEAZĂ",null,"Celula se completează automat conform informațiilor completate în câmpurile anterioare; această coloană folosește drept ancoră pentru completarea corectă a raportului de analiză a posturilor și NU se modifică! ",null,null,null,null,null,"[precompletat]"]
[]
[null,"Pasul 3: Completați foaia de lucru denumită Raport analiză a posturilor, după cum urmează: "]
[null,"Item",null,"Informații necesare",null,null,null,null,null,"tip informație"]
[null,"Informații aprobare Raport (Coloana H)",null,"Completați informațiile subliniate din partea dreaptă a documentului, coloana H, respectiv: NUME PRENUME ȘI FUNCȚIA CONDUCĂTORULUI AUTORITĂȚII/INSTITUȚIEI PUBLICE ",null,null,null,null,null,"[text]"]
[null,"Denumirea autorității sau instituției publice",null,"Completați denumirea autorității sau instituției publice",null,null,null,null,null,"[text]"]
[]
[null,"Pentru anumite secțiuni, formularul se va popula automat în funcție informațiile completate la pasul anterior, după cum urmează:"]
[null,"Număr de posturi supuse analizei - NU SE COMPLETEAZĂ",null,"Celulele aferente fiecărei categorii de funcții publice se calculează automat, în baza informațiilor completate anterior; această coloană NU se modifică! ",null,null,null,null,null,"[precompletat]"]
[null,"Funcția publică supusă analizei (denumire/clasă/grad profesional și ID) și structura funcțională din care face parte - NU SE COMPLETEAZĂ",null,"Celulele aferente acestei coloane se completează automat cu informațiile completate anterior; această coloană NU se modifică! ",null,null,null,null,null,"[precompletat]"]
[null,"Situația ocupării postului (ocupat/ vacant/temporar ocupat/ temporar vacant) - NU SE COMPLETEAZĂ",null,"Celulele aferente acestei coloane se completează automat cu informațiile completate anterior; această coloană NU se modifică! ",null,null,null,null,null,"[precompletat]"]
[null,"Competenţele generale şi nivelurile de complexitate aferente - NU SE COMPLETEAZĂ",null,"Celulele aferente acestei coloane se completează automat cu informațiile completate anterior, în concordanță cu prevederile art. 17 din anexa nr. 8 la Ordonanța de urgență a Guvernului nr.57/2019, cu modificările și completările ulterioare și art. 11 din Metodologia-cadru de analiză a posturilor, prevăzută în anexa la OPANFP nr. 332/19.02.2024; această coloană NU se modifică! ",null,null,null,null,null,"[precompletat]"]
[]
[null,"Competența specifică /Competențele specifice identificată/ identificate și nivelurile de complexitate aferente, după caz",null,"Completați cu competențele specifice și nivelurile de complexitate, identificate pentru fiecare post aferent unei funcții publice analizat, considerând recomandările, exemplele și modelele incluse în îndrumările metodologice puse la dispozitie de către ANFP;",null,null,null,null,null,"[text]"]
[null,"Definiția competenței specifice identificate potrivit art. 11 alin. (2) lit. d) din anexa nr. 8 la Ordonanţa de urgenţă a Guvernului nr. 57/2019, cu modificările și completările ulterioare",null,"În situația în care identificați competențe specifice potrivit art. 11 alin. (2) lit. d), completați cu o scurta descriere a acesteia, considerând recomandările, exemplele și modelele incluse în îndrumările metodologice puse la dispozitie de către ANFP;",null,null,null,null,null,"[text]"]
[null,"Modalitate de verificare a competenței specifice",null,"Completați, pentru fiecare competență specifică identificată, modalitatea de verificare a acesteia, considerând recomandările, exemplele și modelele incluse în îndrumările metodologice puse la dispozitie de către ANFP, astfel: \n- pentru competențele specifice identificate conform art. 11 alin. (2) lit. a)-c) din anexa nr. 8 la Ordonanța de urgență a Guvernului nr.57/2019, cu modificările și completările ulterioare, se completează cu sintagma ”Document sau documente ce atestă competenţa specifică respectivă/Testarea competenţei specifice prin probă suplimentară”;\n- pentru competențele specifice identificate conform art. 11 alin. (2) lit. d) din anexa nr. 8 la aceeași ordonanță de urgență, se completează cu sintagma ”Document sau documente ce atestă competenţa specifică respectivă/Testarea competenţei specifice prin probă suplimentară/Testarea cunoştinţelor şi abilităţilor care caracterizează acea competenţă specifică, prin probă scrisă”.",null,null,null,null,null,"[text]"]
[]
[null,"Pasul 4: Eliminați rândurile în plus din cadrul Raportului de analiză a posturilor - cele în cadrul cărora nu au fost preluate informații referioare la funcțiile publice din foaia de lucru Listă posturi"]
[]
[null,"Pasul 5: Tipăriți foaia de lucru Raport analiză a posturilor și urmați pașii următori cu privire la obținerea aprobării conducătorului autorității sau instituției publice și, ulterior, avizului ANFP"]

{"sheet":"Listă posturi","index":27,"n_rows":2005,"n_cols":12,"rows_kept":2005,"cut":false,"hidden":true,"merged":[[1,10,1,11],[3,1,3,8],[3,9,4,9],[3,10,4,10],[3,11,4,11]]}
[]
[null,null,null,null,null,null,null,null,null,null,"NU COMPLETAȚI, INFORMAȚIILE SE COMPLETEAZĂ AUTOMAT"]
[]
[null,"Lista funcțiilor publice supuse analizei",null,null,null,null,null,null,null,"Concat","Funcție publică supusă analizei\n- va fi preluată automat în raportul de analiză a posturilor- ","Competențe generale și nivel de complexitate aplicabile\n- vor fi preluate automat în raportul de analiză a posturilor - "]
[null,"Nr.crt","Categoria funcției publice, după nivelul atribuțiilor titularului funcției publice [se selectează din listă una dintre cele trei variante]","Funcția publică supusă analizei\n(se selectează din listă una dintre variante]","Clasă\n[se selectează din listă una dintre cele patru variante, varianta n/a fiind aplicabilă categoriilor de funcții de conducere]","Grad profesional\n[se selectează din listă una dintre cele cinci variante, varianta n/a fiind aplicabilă categoriilor de funcții de conducere]","ID\n[se completează cu ID-ul aferent funcției publice regăsit în portalul ANFP]","Structură funcțională\n[se completează conform denumirii din cadrul organigramei]","Situația ocupării postului\n[se selectează din listă una dintre cele patru variante]"]
[null,"Model","de execuție","Consilier","clasa I","grad principal",7598732,"-","ocupat",{"$f":"_xlfn.CONCAT(D6,\",\",\" \",F6)","v":"Consilier, grad principal"},{"$f":"CONCATENATE(D6,\", \",E6,\", \",F6,\", ID \",G6,\", \",H6)","v":"Consilier, clasa I, grad principal, ID 7598732, -"},{"$f":"IFERROR(VLOOKUP(J6,[1]functii!D:E,2,FALSE),\"-\")","v":"1.Rezolvarea de probleme și luarea deciziilor - nivel operațional,\n2.Inițiativă - nivel operațional,\n3.Planificare și organizare - nivel operațional,\n4.Comunicare - nivel operațional,\n5.Lucru în echipă - nivel operațional,\n6.Orientare către cetățean - nivel operațional,\n7.Integritate - nivel operațional."}]
[null,2,null,null,null,null,null,null,null,", ",", , , ID , ",{"$f":"IFERROR(VLOOKUP(J7,[1]functii!D:E,2,FALSE),\"-\")","v":"-"}]
[null,3,null,null,null,null,null,null,null,", ",", , , ID , ",{"$f":"IFERROR(VLOOKUP(J8,[1]functii!D:E,2,FALSE),\"-\")","v":"-"}]
[null,4,null,null,null,null,null,null,null,", ",", , , ID , ",{"$f":"IFERROR(VLOOKUP(J9,[1]functii!D:E,2,FALSE),\"-\")","v":"-"}]
[null,5,null,null,null,null,null,null,null,", ",", , , ID , ",{"$f":"IFERROR(VLOOKUP(J10,[1]functii!D:E,2,FALSE),\"-\")","v":"-"}]
[null,6,null,null,null,null,null,null,null,", ",", , , ID , ",{"$f":"IFERROR(VLOOKUP(J11,[1]functii!D:E,2,FALSE),\"-\")","v":"-"}]
[null,7,null,null,null,null,null,null,null,", ",", , , ID , ",{"$f":"IFERROR(VLOOKUP(J12,[1]functii!D:E,2,FALSE),\"-\")","v":"-"}]
[null,8,null,null,null,null,null,null,null,", ",", , , ID , ",{"$f":"IFERROR(VLOOKUP(J13,[1]functii!D:E,2,FALSE),\"-\")","v":"-"}]
[null,9,null,null,null,null,null,null,null,", ",", , , ID , ",{"$f":"IFERROR(VLOOKUP(J14,[1]functii!D:E,2,FALSE),\"-\")","v":"-"}]
[null,10,null,null,null,null,null,null,null,", ",", , , ID , ",{"$f":"IFERROR(VLOOKUP(J15,[1]functii!D:E,2,FALSE),\"-\")","v":"-"}]
[null,11,null,null,null,null,null,null,null,", ",", , , ID , ",{"$f":"IFERROR(VLOOKUP(J16,[1]functii!D:E,2,FALSE),\"-\")","v":"-"}]
[null,12,null,null,null,null,null,null,null,", ",", , , ID , ",{"$f":"IFERROR(VLOOKUP(J17,[1]functii!D:E,2,FALSE),\"-\")","v":"-"}]
[null,13,null,null,null,null,null,null,null,", ",", , , ID , ",{"$f":"IFERROR(VLOOKUP(J18,[1]functii!D:E,2,FALSE),\"-\")","v":"-"}]
[null,14,null,null,null,null,null,null,null,", ",", , , ID , ",{"$f":"IFERROR(VLOOKUP(J19,[1]functii!D:E,2,FALSE),\"-\")","v":"-"}]
[null,15,null,null,null,null,null,null,null,", ",", , , ID , ",{"$f":"IFERROR(VLOOKUP(J20,[1]functii!D:E,2,FALSE),\"-\")","v":"-"}]
[null,16,null,null,null,null,null,null,null,", ",", , , ID , ",{"$f":"IFERROR(VLOOKUP(J21,[1]functii!D:E,2,FALSE),\"-\")","v":"-"}]
[null,17,null,null,null,null,null,null,null,", ",", , , ID , ",{"$f":"IFERROR(VLOOKUP(J22,[1]functii!D:E,2,FALSE),\"-\")","v":"-"}]
[null,18,null,null,null,null,null,null,null,", ",", , , ID , ",{"$f":"IFERROR(VLOOKUP(J23,[1]functii!D:E,2,FALSE),\"-\")","v":"-"}]
[null,19,null,null,null,null,null,null,null,", ",", , , ID , ",{"$f":"IFERROR(VLOOKUP(J24,[1]functii!D:E,2,FALSE),\"-\")","v":"-"}]
[null,20,null,null,null,null,null,null,null,", ",", , , ID , ",{"$f":"IFERROR(VLOOKUP(J25,[1]functii!D:E,2,FALSE),\"-\")","v":"-"}]
[null,21,null,null,null,null,null,null,null,", ",", , , ID , ",{"$f":"IFERROR(VLOOKUP(J26,[1]functii!D:E,2,FALSE),\"-\")","v":"-"}]
[null,22,null,null,null,null,null,null,null,", ",", , , ID , ",{"$f":"IFERROR(VLOOKUP(J27,[1]functii!D:E,2,FALSE),\"-\")","v":"-"}]
[null,23,null,null,null,null,null,null,null,", ",", , , ID , ",{"$f":"IFERROR(VLOOKUP(J28,[1]functii!D:E,2,FALSE),\"-\")","v":"-"}]
[null,24,null,null,null,null,null,null,null,", ",", , , ID , ",{"$f":"IFERROR(VLOOKUP(J29,[1]functii!D:E,2,FALSE),\"-\")","v":"-"}]
[null,25,null,null,null,null,null,null,null,", ",", , , ID , ",{"$f":"IFERROR(VLOOKUP(J30,[1]functii!D:E,2,FALSE),\"-\")","v":"-"}]
[null,26,null,null,null,null,null,null,null,", ",", , , ID , ",{"$f":"IFERROR(VLOOKUP(J31,[1]functii!D:E,2,FALSE),\"-\")","v":"-"}]
[null,27,null,null,null,null,null,null,null,", ",", , , ID , ",{"$f":"IFERROR(VLOOKUP(J32,[1]functii!D:E,2,FALSE),\"-\")","v":"-"}]
[null,28,null,null,null,null,null,null,null,", ",", , , ID , ",{"$f":"IFERROR(VLOOKUP(J33,[1]functii!D:E,2,FALSE),\"-\")","v":"-"}]
[null,29,null,null,null,null,null,null,null,", ",", , , ID , ",{"$f":"IFERROR(VLOOKUP(J34,[1]functii!D:E,2,FALSE),\"-\")","v":"-"}]
[null,30,null,null,null,null,null,null,null,", ",", , , ID , ",{"$f":"IFERROR(VLOOKUP(J35,[1]functii!D:E,2,FALSE),\"-\")","v":"-"}]
[null,31,null,null,null,null,null,null,null,", ",", , , ID , ",{"$f":"IFERROR(VLOOKUP(J36,[1]functii!D:E,2,FALSE),\"-\")","v":"-"}]
[null,32,null,null,null,null,null,null,null,", ",", , , ID , ",{"$f":"IFERROR(VLOOKUP(J37,[1]functii!D:E,2,FALSE),\"-\")","v":"-"}]
[null,33,null,null,null,null,null,null,null,", ",", , , ID , ",{"$f":"IFERROR(VLOOKUP(J38,[1]functii!D:E,2,FALSE),\"-\")","v":"-"}]
[null,34,null,null,null,null,null,null,null,", ",", , , ID , ",{"$f":"IFERROR(VLOOKUP(J39,[1]functii!D:E,2,FALSE),\"-\")","v":"-"}]
[null,35,null,null,null,null,null,null,null,", ",", , , ID , ",{"$f":"IFERROR(VLOOKUP(J40,[1]functii!D:E,2,FALSE),\"-\")","v":"-"}]
[null,36,null,null,null,null,null,null,null,", ",", , , ID , ",{"$f":"IFERROR(VLOOKUP(J41,[1]functii!D:E,2,FALSE),\"-\")","v":"-"}]
[null,37,null,null,null,null,null,null,null,", ",", , , ID , ",{"$f":"IFERROR(VLOOKUP(J42,[1]functii!D:E,2,FALSE),\"-\")","v":"-"}]
[null,38,null,null,null,null,null,null,null,", ",", , , ID , ",{"$f":"IFERROR(VLOOKUP(J43,[1]functii!D:E,2,FALSE),\"-\")","v":"-"}]
[null,39,null,null,null,null,null,null,null,", ",", , , ID , ",{"$f":"IFERROR(VLOOKUP(J44,[1]functii!D:E,2,FALSE),\"-\")","v":"-"}]
[null,40,null,null,null,null,null,null,null,", ",", , , ID , ",{"$f":"IFERROR(VLOOKUP(J45,[1]functii!D:E,2,FALSE),\"-\")","v":"-"}]
[null,41,null,null,null,null,null,null,null,", ",", , , ID , ",{"$f":"IFERROR(VLOOKUP(J46,[1]functii!D:E,2,FALSE),\"-\")","v":"-"}]
[null,42,null,null,null,null,null,null,null,", ",", , , ID , ",{"$f":"IFERROR(VLOOKUP(J47,[1]functii!D:E,2,FALSE),\"-\")","v":"-"}]
[null,43,null,null,null,null,null,null,null,", ",", , , ID , ",{"$f":"IFERROR(VLOOKUP(J48,[1]functii!D:E,2,FALSE),\"-\")","v":"-"}]
[null,44,null,null,null,null,null,null,null,", ",", , , ID , ",{"$f":"IFERROR(VLOOKUP(J49,[1]functii!D:E,2,FALSE),\"-\")","v":"-"}]
[null,45,null,null,null,null,null,null,null,", ",", , , ID , ",{"$f":"IFERROR(VLOOKUP(J50,[1]functii!D:E,2,FALSE),\"-\")","v":"-"}]
[null,46,null,null,null,null,null,null,null,", ",", , , ID , ",{"$f":"IFERROR(VLOOKUP(J51,[1]functii!D:E,2,FALSE),\"-\")","v":"-"}]
[null,47,null,null,null,null,null,null,null,", ",", , , ID , ",{"$f":"IFERROR(VLOOKUP(J52,[1]functii!D:E,2,FALSE),\"-\")","v":"-"}]
[null,48,null,null,null,null,null,null,null,", ",", , , ID , ",{"$f":"IFERROR(VLOOKUP(J53,[1]functii!D:E,2,FALSE),\"-\")","v":"-"}]
[null,49,null,null,null,null,null,null,null,", ",", , , ID , ",{"$f":"IFERROR(VLOOKUP(J54,[1]functii!D:E,2,FALSE),\"-\")","v":"-"}]
[null,50,null,null,null,null,null,null,null,", ",", , , ID , ",{"$f":"IFERROR(VLOOKUP(J55,[1]functii!D:E,2,FALSE),\"-\")","v":"-"}]
[null,51,null,null,null,null,null,null,null,", ",", , , ID , ",{"$f":"IFERROR(VLOOKUP(J56,[1]functii!D:E,2,FALSE),\"-\")","v":"-"}]
[null,52,null,null,null,null,null,null,null,", ",", , , ID , ",{"$f":"IFERROR(VLOOKUP(J57,[1]functii!D:E,2,FALSE),\"-\")","v":"-"}]
[null,53,null,null,null,null,null,null,null,", ",", , , ID , ",{"$f":"IFERROR(VLOOKUP(J58,[1]functii!D:E,2,FALSE),\"-\")","v":"-"}]
[null,54,null,null,null,null,null,null,null,", ",", , , ID , ",{"$f":"IFERROR(VLOOKUP(J59,[1]functii!D:E,2,FALSE),\"-\")","v":"-"}]
[null,55,null,null,null,null,null,null,null,", ",", , , ID , ",{"$f":"IFERROR(VLOOKUP(J60,[1]functii!D:E,2,FALSE),\"-\")","v":"-"}]
[null,56,null,null,null,null,null,null,null,", ",", , , ID , ",{"$f":"IFERROR(VLOOKUP(J61,[1]functii!D:E,2,FALSE),\"-\")","v":"-"}]
[null,57,null,null,null,null,null,null,null,", ",", , , ID , ",{"$f":"IFERROR(VLOOKUP(J62,[1]functii!D:E,2,FALSE),\"-\")","v":"-"}]
[null,58,null,null,null,null,null,null,null,", ",", , , ID , ",{"$f":"IFERROR(VLOOKUP(J63,[1]functii!D:E,2,FALSE),\"-\")","v":"-"}]
[null,59,null,null,null,null,null,null,null,", ",", , , ID , ",{"$f":"IFERROR(VLOOKUP(J64,[1]functii!D:E,2,FALSE),\"-\")","v":"-"}]
[null,60,null,null,null,null,null,null,null,", ",", , , ID , ",{"$f":"IFERROR(VLOOKUP(J65,[1]functii!D:E,2,FALSE),\"-\")","v":"-"}]
[null,61,null,null,null,null,null,null,null,", ",", , , ID , ",{"$f":"IFERROR(VLOOKUP(J66,[1]functii!D:E,2,FALSE),\"-\")","v":"-"}]
[null,62,null,null,null,null,null,null,null,", ",", , , ID , ",{"$f":"IFERROR(VLOOKUP(J67,[1]functii!D:E,2,FALSE),\"-\")","v":"-"}]
[null,63,null,null,null,null,null,null,null,", ",", , , ID , ",{"$f":"IFERROR(VLOOKUP(J68,[1]functii!D:E,2,FALSE),\"-\")","v":"-"}]
[null,64,null,null,null,null,null,null,null,", ",", , , ID , ",{"$f":"IFERROR(VLOOKUP(J69,[1]functii!D:E,2,FALSE),\"-\")","v":"-"}]
[null,65,null,null,null,null,null,null,null,{"$f":"_xlfn.CONCAT(D70,\",\",\" \",F70)","v":", "},{"$f":"CONCATENATE(D70,\", \",E70,\", \",F70,\", ID \",G70,\", \",H70)","v":", , , ID , "},{"$f":"IFERROR(VLOOKUP(J70,[1]functii!D:E,2,FALSE),\"-\")","v":"-"}]
[null,66,null,null,null,null,null,null,null,", ",", , , ID , ",{"$f":"IFERROR(VLOOKUP(J71,[1]functii!D:E,2,FALSE),\"-\")","v":"-"}]
[null,67,null,null,null,null,null,null,null,", ",", , , ID , ",{"$f":"IFERROR(VLOOKUP(J72,[1]functii!D:E,2,FALSE),\"-\")","v":"-"}]
[null,68,null,null,null,null,null,null,null,", ",", , , ID , ",{"$f":"IFERROR(VLOOKUP(J73,[1]functii!D:E,2,FALSE),\"-\")","v":"-"}]
[null,69,null,null,null,null,null,null,null,", ",", , , ID , ",{"$f":"IFERROR(VLOOKUP(J74,[1]functii!D:E,2,FALSE),\"-\")","v":"-"}]
[null,70,null,null,null,null,null,null,null,", ",", , , ID , ",{"$f":"IFERROR(VLOOKUP(J75,[1]functii!D:E,2,FALSE),\"-\")","v":"-"}]
[null,71,null,null,null,null,null,null,null,", ",", , , ID , ",{"$f":"IFERROR(VLOOKUP(J76,[1]functii!D:E,2,FALSE),\"-\")","v":"-"}]
[null,72,null,null,null,null,null,null,null,", ",", , , ID , ",{"$f":"IFERROR(VLOOKUP(J77,[1]functii!D:E,2,FALSE),\"-\")","v":"-"}]
[null,73,null,null,null,null,null,null,null,", ",", , , ID , ",{"$f":"IFERROR(VLOOKUP(J78,[1]functii!D:E,2,FALSE),\"-\")","v":"-"}]
[null,74,null,null,null,null,null,null,null,", ",", , , ID , ",{"$f":"IFERROR(VLOOKUP(J79,[1]functii!D:E,2,FALSE),\"-\")","v":"-"}]
[null,75,null,null,null,null,null,null,null,", ",", , , ID , ",{"$f":"IFERROR(VLOOKUP(J80,[1]functii!D:E,2,FALSE),\"-\")","v":"-"}]
[null,76,null,null,null,null,null,null,null,", ",", , , ID , ",{"$f":"IFERROR(VLOOKUP(J81,[1]functii!D:E,2,FALSE),\"-\")","v":"-"}]
[null,77,null,null,null,null,null,null,null,", ",", , , ID , ",{"$f":"IFERROR(VLOOKUP(J82,[1]functii!D:E,2,FALSE),\"-\")","v":"-"}]
[null,78,null,null,null,null,null,null,null,", ",", , , ID , ",{"$f":"IFERROR(VLOOKUP(J83,[1]functii!D:E,2,FALSE),\"-\")","v":"-"}]
[null,79,null,null,null,null,null,null,null,", ",", , , ID , ",{"$f":"IFERROR(VLOOKUP(J84,[1]functii!D:E,2,FALSE),\"-\")","v":"-"}]
[null,80,null,null,null,null,null,null,null,", ",", , , ID , ",{"$f":"IFERROR(VLOOKUP(J85,[1]functii!D:E,2,FALSE),\"-\")","v":"-"}]
[null,81,null,null,null,null,null,null,null,", ",", , , ID , ",{"$f":"IFERROR(VLOOKUP(J86,[1]functii!D:E,2,FALSE),\"-\")","v":"-"}]
[null,82,null,null,null,null,null,null,null,", ",", , , ID , ",{"$f":"IFERROR(VLOOKUP(J87,[1]functii!D:E,2,FALSE),\"-\")","v":"-"}]
[null,83,null,null,null,null,null,null,null,", ",", , , ID , ",{"$f":"IFERROR(VLOOKUP(J88,[1]functii!D:E,2,FALSE),\"-\")","v":"-"}]
[null,84,null,null,null,null,null,null,null,", ",", , , ID , ",{"$f":"IFERROR(VLOOKUP(J89,[1]functii!D:E,2,FALSE),\"-\")","v":"-"}]
[null,85,null,null,null,null,null,null,null,", ",", , , ID , ",{"$f":"IFERROR(VLOOKUP(J90,[1]functii!D:E,2,FALSE),\"-\")","v":"-"}]
[null,86,null,null,null,null,null,null,null,", ",", , , ID , ",{"$f":"IFERROR(VLOOKUP(J91,[1]functii!D:E,2,FALSE),\"-\")","v":"-"}]
[null,87,null,null,null,null,null,null,null,", ",", , , ID , ",{"$f":"IFERROR(VLOOKUP(J92,[1]functii!D:E,2,FALSE),\"-\")","v":"-"}]
[null,88,null,null,null,null,null,null,null,", ",", , , ID , ",{"$f":"IFERROR(VLOOKUP(J93,[1]functii!D:E,2,FALSE),\"-\")","v":"-"}]
[null,89,null,null,null,null,null,null,null,", ",", , , ID , ",{"$f":"IFERROR(VLOOKUP(J94,[1]functii!D:E,2,FALSE),\"-\")","v":"-"}]
[null,90,null,null,null,null,null,null,null,", ",", , , ID , ",{"$f":"IFERROR(VLOOKUP(J95,[1]functii!D:E,2,FALSE),\"-\")","v":"-"}]
[null,91,null,null,null,null,null,null,null,", ",", , , ID , ",{"$f":"IFERROR(VLOOKUP(J96,[1]functii!D:E,2,FALSE),\"-\")","v":"-"}]
[null,92,null,null,null,null,null,null,null,", ",", , , ID , ",{"$f":"IFERROR(VLOOKUP(J97,[1]functii!D:E,2,FALSE),\"-\")","v":"-"}]
[null,93,null,null,null,null,null,null,null,", ",", , , ID , ",{"$f":"IFERROR(VLOOKUP(J98,[1]functii!D:E,2,FALSE),\"-\")","v":"-"}]
[null,94,null,null,null,null,null,null,null,", ",", , , ID , ",{"$f":"IFERROR(VLOOKUP(J99,[1]functii!D:E,2,FALSE),\"-\")","v":"-"}]
[null,95,null,null,null,null,null,null,null,", ",", , , ID , ",{"$f":"IFERROR(VLOOKUP(J100,[1]functii!D:E,2,FALSE),\"-\")","v":"-"}]
[null,96,null,null,null,null,null,null,null,", ",", , , ID , ",{"$f":"IFERROR(VLOOKUP(J101,[1]functii!D:E,2,FALSE),\"-\")","v":"-"}]
[null,97,null,null,null,null,null,null,null,", ",", , , ID , ",{"$f":"IFERROR(VLOOKUP(J102,[1]functii!D:E,2,FALSE),\"-\")","v":"-"}]
[null,98,null,null,null,null,null,null,null,", ",", , , ID , ",{"$f":"IFERROR(VLOOKUP(J103,[1]functii!D:E,2,FALSE),\"-\")","v":"-"}]
[null,99,null,null,null,null,null,null,null,", ",", , , ID , ",{"$f":"IFERROR(VLOOKUP(J104,[1]functii!D:E,2,FALSE),\"-\")","v":"-"}]
[null,100,null,null,null,null,null,null,null,", ",", , , ID , ",{"$f":"IFERROR(VLOOKUP(J105,[1]functii!D:E,2,FALSE),\"-\")","v":"-"}]
[null,101,null,null,null,null,null,null,null,", ",", , , ID , ",{"$f":"IFERROR(VLOOKUP(J106,[1]functii!D:E,2,FALSE),\"-\")","v":"-"}]
[null,102,null,null,null,null,null,null,null,", ",", , , ID , ",{"$f":"IFERROR(VLOOKUP(J107,[1]functii!D:E,2,FALSE),\"-\")","v":"-"}]
[null,103,null,null,null,null,null,null,null,", ",", , , ID , ",{"$f":"IFERROR(VLOOKUP(J108,[1]functii!D:E,2,FALSE),\"-\")","v":"-"}]
[null,104,null,null,null,null,null,null,null,", ",", , , ID , ",{"$f":"IFERROR(VLOOKUP(J109,[1]functii!D:E,2,FALSE),\"-\")","v":"-"}]
[null,105,null,null,null,null,null,null,null,", ",", , , ID , ",{"$f":"IFERROR(VLOOKUP(J110,[1]functii!D:E,2,FALSE),\"-\")","v":"-"}]
[null,106,null,null,null,null,null,null,null,", ",", , , ID , ",{"$f":"IFERROR(VLOOKUP(J111,[1]functii!D:E,2,FALSE),\"-\")","v":"-"}]
[null,107,null,null,null,null,null,null,null,", ",", , , ID , ",{"$f":"IFERROR(VLOOKUP(J112,[1]functii!D:E,2,FALSE),\"-\")","v":"-"}]
[null,108,null,null,null,null,null,null,null,", ",", , , ID , ",{"$f":"IFERROR(VLOOKUP(J113,[1]functii!D:E,2,FALSE),\"-\")","v":"-"}]
[null,109,null,null,null,null,null,null,null,", ",", , , ID , ",{"$f":"IFERROR(VLOOKUP(J114,[1]functii!D:E,2,FALSE),\"-\")","v":"-"}]
[null,110,null,null,null,null,null,null,null,", ",", , , ID , ",{"$f":"IFERROR(VLOOKUP(J115,[1]functii!D:E,2,FALSE),\"-\")","v":"-"}]
[null,111,null,null,null,null,null,null,null,", ",", , , ID , ",{"$f":"IFERROR(VLOOKUP(J116,[1]functii!D:E,2,FALSE),\"-\")","v":"-"}]
[null,112,null,null,null,null,null,null,null,", ",", , , ID , ",{"$f":"IFERROR(VLOOKUP(J117,[1]functii!D:E,2,FALSE),\"-\")","v":"-"}]
[null,113,null,null,null,null,null,null,null,", ",", , , ID , ",{"$f":"IFERROR(VLOOKUP(J118,[1]functii!D:E,2,FALSE),\"-\")","v":"-"}]
[null,114,null,null,null,null,null,null,null,", ",", , , ID , ",{"$f":"IFERROR(VLOOKUP(J119,[1]functii!D:E,2,FALSE),\"-\")","v":"-"}]
[null,115,null,null,null,null,null,null,null,", ",", , , ID , ",{"$f":"IFERROR(VLOOKUP(J120,[1]functii!D:E,2,FALSE),\"-\")","v":"-"}]
[null,116,null,null,null,null,null,null,null,", ",", , , ID , ",{"$f":"IFERROR(VLOOKUP(J121,[1]functii!D:E,2,FALSE),\"-\")","v":"-"}]
[null,117,null,null,null,null,null,null,null,", ",", , , ID , ",{"$f":"IFERROR(VLOOKUP(J122,[1]functii!D:E,2,FALSE),\"-\")","v":"-"}]
[null,118,null,null,null,null,null,null,null,", ",", , , ID , ",{"$f":"IFERROR(VLOOKUP(J123,[1]functii!D:E,2,FALSE),\"-\")","v":"-"}]
[null,119,null,null,null,null,null,null,null,", ",", , , ID , ",{"$f":"IFERROR(VLOOKUP(J124,[1]functii!D:E,2,FALSE),\"-\")","v":"-"}]
[null,120,null,null,null,null,null,null,null,", ",", , , ID , ",{"$f":"IFERROR(VLOOKUP(J125,[1]functii!D:E,2,FALSE),\"-\")","v":"-"}]
[null,121,null,null,null,null,null,null,null,", ",", , , ID , ",{"$f":"IFERROR(VLOOKUP(J126,[1]functii!D:E,2,FALSE),\"-\")","v":"-"}]
[null,122,null,null,null,null,null,null,null,", ",", , , ID , ",{"$f":"IFERROR(VLOOKUP(J127,[1]functii!D:E,2,FALSE),\"-\")","v":"-"}]
[null,123,null,null,null,null,null,null,null,", ",", , , ID , ",{"$f":"IFERROR(VLOOKUP(J128,[1]functii!D:E,2,FALSE),\"-\")","v":"-"}]
[null,124,null,null,null,null,null,null,null,", ",", , , ID , ",{"$f":"IFERROR(VLOOKUP(J129,[1]functii!D:E,2,FALSE),\"-\")","v":"-"}]
[null,125,null,null,null,null,null,null,null,", ",", , , ID , ",{"$f":"IFERROR(VLOOKUP(J130,[1]functii!D:E,2,FALSE),\"-\")","v":"-"}]
[null,126,null,null,null,null,null,null,null,", ",", , , ID , ",{"$f":"IFERROR(VLOOKUP(J131,[1]functii!D:E,2,FALSE),\"-\")","v":"-"}]
[null,127,null,null,null,null,null,null,null,", ",", , , ID , ",{"$f":"IFERROR(VLOOKUP(J132,[1]functii!D:E,2,FALSE),\"-\")","v":"-"}]
[null,128,null,null,null,null,null,null,null,", ",", , , ID , ",{"$f":"IFERROR(VLOOKUP(J133,[1]functii!D:E,2,FALSE),\"-\")","v":"-"}]
[null,129,null,null,null,null,null,null,null,{"$f":"_xlfn.CONCAT(D134,\",\",\" \",F134)","v":", "},{"$f":"CONCATENATE(D134,\", \",E134,\", \",F134,\", ID \",G134,\", \",H134)","v":", , , ID , "},{"$f":"IFERROR(VLOOKUP(J134,[1]functii!D:E,2,FALSE),\"-\")","v":"-"}]
[null,130,null,null,null,null,null,null,null,", ",", , , ID , ",{"$f":"IFERROR(VLOOKUP(J135,[1]functii!D:E,2,FALSE),\"-\")","v":"-"}]
[null,131,null,null,null,null,null,null,null,", ",", , , ID , ",{"$f":"IFERROR(VLOOKUP(J136,[1]functii!D:E,2,FALSE),\"-\")","v":"-"}]
[null,132,null,null,null,null,null,null,null,", ",", , , ID , ",{"$f":"IFERROR(VLOOKUP(J137,[1]functii!D:E,2,FALSE),\"-\")","v":"-"}]
[null,133,null,null,null,null,null,null,null,", ",", , , ID , ",{"$f":"IFERROR(VLOOKUP(J138,[1]functii!D:E,2,FALSE),\"-\")","v":"-"}]
[null,134,null,null,null,null,null,null,null,", ",", , , ID , ",{"$f":"IFERROR(VLOOKUP(J139,[1]functii!D:E,2,FALSE),\"-\")","v":"-"}]
[null,135,null,null,null,null,null,null,null,", ",", , , ID , ",{"$f":"IFERROR(VLOOKUP(J140,[1]functii!D:E,2,FALSE),\"-\")","v":"-"}]
[null,136,null,null,null,null,null,null,null,", ",", , , ID , ",{"$f":"IFERROR(VLOOKUP(J141,[1]functii!D:E,2,FALSE),\"-\")","v":"-"}]
[null,137,null,null,null,null,null,null,null,", ",", , , ID , ",{"$f":"IFERROR(VLOOKUP(J142,[1]functii!D:E,2,FALSE),\"-\")","v":"-"}]
[null,138,null,null,null,null,null,null,null,", ",", , , ID , ",{"$f":"IFERROR(VLOOKUP(J143,[1]functii!D:E,2,FALSE),\"-\")","v":"-"}]
[null,139,null,null,null,null,null,null,null,", ",", , , ID , ",{"$f":"IFERROR(VLOOKUP(J144,[1]functii!D:E,2,FALSE),\"-\")","v":"-"}]
[null,140,null,null,null,null,null,null,null,", ",", , , ID , ",{"$f":"IFERROR(VLOOKUP(J145,[1]functii!D:E,2,FALSE),\"-\")","v":"-"}]
[null,141,null,null,null,null,null,null,null,", ",", , , ID , ",{"$f":"IFERROR(VLOOKUP(J146,[1]functii!D:E,2,FALSE),\"-\")","v":"-"}]
[null,142,null,null,null,null,null,null,null,", ",", , , ID , ",{"$f":"IFERROR(VLOOKUP(J147,[1]functii!D:E,2,FALSE),\"-\")","v":"-"}]
[null,143,null,null,null,null,null,null,null,", ",", , , ID , ",{"$f":"IFERROR(VLOOKUP(J148,[1]functii!D:E,2,FALSE),\"-\")","v":"-"}]
[null,144,null,null,null,null,null,null,null,", ",", , , ID , ",{"$f":"IFERROR(VLOOKUP(J149,[1]functii!D:E,2,FALSE),\"-\")","v":"-"}]
[null,145,null,null,null,null,null,null,null,", ",", , , ID , ",{"$f":"IFERROR(VLOOKUP(J150,[1]functii!D:E,2,FALSE),\"-\")","v":"-"}]
[null,146,null,null,null,null,null,null,null,", ",", , , ID , ",{"$f":"IFERROR(VLOOKUP(J151,[1]functii!D:E,2,FALSE),\"-\")","v":"-"}]
[null,147,null,null,null,null,null,null,null,", ",", , , ID , ",{"$f":"IFERROR(VLOOKUP(J152,[1]functii!D:E,2,FALSE),\"-\")","v":"-"}]
[null,148,null,null,null,null,null,null,null,", ",", , , ID , ",{"$f":"IFERROR(VLOOKUP(J153,[1]functii!D:E,2,FALSE),\"-\")","v":"-"}]
[null,149,null,null,null,null,null,null,null,", ",", , , ID , ",{"$f":"IFERROR(VLOOKUP(J154,[1]functii!D:E,2,FALSE),\"-\")","v":"-"}]
[null,150,null,null,null,null,null,null,null,", ",", , , ID , ",{"$f":"IFERROR(VLOOKUP(J155,[1]functii!D:E,2,FALSE),\"-\")","v":"-"}]
[null,151,null,null,null,null,null,null,null,", ",", , , ID , ",{"$f":"IFERROR(VLOOKUP(J156,[1]functii!D:E,2,FALSE),\"-\")","v":"-"}]
[null,152,null,null,null,null,null,null,null,", ",", , , ID , ",{"$f":"IFERROR(VLOOKUP(J157,[1]functii!D:E,2,FALSE),\"-\")","v":"-"}]
[null,153,null,null,null,null,null,null,null,", ",", , , ID , ",{"$f":"IFERROR(VLOOKUP(J158,[1]functii!D:E,2,FALSE),\"-\")","v":"-"}]
[null,154,null,null,null,null,null,null,null,", ",", , , ID , ",{"$f":"IFERROR(VLOOKUP(J159,[1]functii!D:E,2,FALSE),\"-\")","v":"-"}]
[null,155,null,null,null,null,null,null,null,", ",", , , ID , ",{"$f":"IFERROR(VLOOKUP(J160,[1]functii!D:E,2,FALSE),\"-\")","v":"-"}]
[null,156,null,null,null,null,null,null,null,", ",", , , ID , ",{"$f":"IFERROR(VLOOKUP(J161,[1]functii!D:E,2,FALSE),\"-\")","v":"-"}]
[null,157,null,null,null,null,null,null,null,", ",", , , ID , ",{"$f":"IFERROR(VLOOKUP(J162,[1]functii!D:E,2,FALSE),\"-\")","v":"-"}]
[null,158,null,null,null,null,null,null,null,", ",", , , ID , ",{"$f":"IFERROR(VLOOKUP(J163,[1]functii!D:E,2,FALSE),\"-\")","v":"-"}]
[null,159,null,null,null,null,null,null,null,", ",", , , ID , ",{"$f":"IFERROR(VLOOKUP(J164,[1]functii!D:E,2,FALSE),\"-\")","v":"-"}]
[null,160,null,null,null,null,null,null,null,", ",", , , ID , ",{"$f":"IFERROR(VLOOKUP(J165,[1]functii!D:E,2,FALSE),\"-\")","v":"-"}]
[null,161,null,null,null,null,null,null,null,", ",", , , ID , ",{"$f":"IFERROR(VLOOKUP(J166,[1]functii!D:E,2,FALSE),\"-\")","v":"-"}]
[null,162,null,null,null,null,null,null,null,", ",", , , ID , ",{"$f":"IFERROR(VLOOKUP(J167,[1]functii!D:E,2,FALSE),\"-\")","v":"-"}]
[null,163,null,null,null,null,null,null,null,", ",", , , ID , ",{"$f":"IFERROR(VLOOKUP(J168,[1]functii!D:E,2,FALSE),\"-\")","v":"-"}]
[null,164,null,null,null,null,null,null,null,", ",", , , ID , ",{"$f":"IFERROR(VLOOKUP(J169,[1]functii!D:E,2,FALSE),\"-\")","v":"-"}]
[null,165,null,null,null,null,null,null,null,", ",", , , ID , ",{"$f":"IFERROR(VLOOKUP(J170,[1]functii!D:E,2,FALSE),\"-\")","v":"-"}]
[null,166,null,null,null,null,null,null,null,", ",", , , ID , ",{"$f":"IFERROR(VLOOKUP(J171,[1]functii!D:E,2,FALSE),\"-\")","v":"-"}]
[null,167,null,null,null,null,null,null,null,", ",", , , ID , ",{"$f":"IFERROR(VLOOKUP(J172,[1]functii!D:E,2,FALSE),\"-\")","v":"-"}]
[null,168,null,null,null,null,null,null,null,", ",", , , ID , ",{"$f":"IFERROR(VLOOKUP(J173,[1]functii!D:E,2,FALSE),\"-\")","v":"-"}]
[null,169,null,null,null,null,null,null,null,", ",", , , ID , ",{"$f":"IFERROR(VLOOKUP(J174,[1]functii!D:E,2,FALSE),\"-\")","v":"-"}]
[null,170,null,null,null,null,null,null,null,", ",", , , ID , ",{"$f":"IFERROR(VLOOKUP(J175,[1]functii!D:E,2,FALSE),\"-\")","v":"-"}]
[null,171,null,null,null,null,null,null,null,", ",", , , ID , ",{"$f":"IFERROR(VLOOKUP(J176,[1]functii!D:E,2,FALSE),\"-\")","v":"-"}]
[null,172,null,null,null,null,null,null,null,", ",", , , ID , ",{"$f":"IFERROR(VLOOKUP(J177,[1]functii!D:E,2,FALSE),\"-\")","v":"-"}]
[null,173,null,null,null,null,null,null,null,", ",", , , ID , ",{"$f":"IFERROR(VLOOKUP(J178,[1]functii!D:E,2,FALSE),\"-\")","v":"-"}]
[null,174,null,null,null,null,null,null,null,", ",", , , ID , ",{"$f":"IFERROR(VLOOKUP(J179,[1]functii!D:E,2,FALSE),\"-\")","v":"-"}]
[null,175,null,null,null,null,null,null,null,", ",", , , ID , ",{"$f":"IFERROR(VLOOKUP(J180,[1]functii!D:E,2,FALSE),\"-\")","v":"-"}]
[null,176,null,null,null,null,null,null,null,", ",", , , ID , ",{"$f":"IFERROR(VLOOKUP(J181,[1]functii!D:E,2,FALSE),\"-\")","v":"-"}]
[null,177,null,null,null,null,null,null,null,", ",", , , ID , ",{"$f":"IFERROR(VLOOKUP(J182,[1]functii!D:E,2,FALSE),\"-\")","v":"-"}]
[null,178,null,null,null,null,null,null,null,", ",", , , ID , ",{"$f":"IFERROR(VLOOKUP(J183,[1]functii!D:E,2,FALSE),\"-\")","v":"-"}]
[null,179,null,null,null,null,null,null,null,", ",", , , ID , ",{"$f":"IFERROR(VLOOKUP(J184,[1]functii!D:E,2,FALSE),\"-\")","v":"-"}]
[null,180,null,null,null,null,null,null,null,", ",", , , ID , ",{"$f":"IFERROR(VLOOKUP(J185,[1]functii!D:E,2,FALSE),\"-\")","v":"-"}]
[null,181,null,null,null,null,null,null,null,", ",", , , ID , ",{"$f":"IFERROR(VLOOKUP(J186,[1]functii!D:E,2,FALSE),\"-\")","v":"-"}]
[null,182,null,null,null,null,null,null,null,", ",", , , ID , ",{"$f":"IFERROR(VLOOKUP(J187,[1]functii!D:E,2,FALSE),\"-\")","v":"-"}]
[null,183,null,null,null,null,null,null,null,", ",", , , ID , ",{"$f":"IFERROR(VLOOKUP(J188,[1]functii!D:E,2,FALSE),\"-\")","v":"-"}]
[null,184,null,null,null,null,null,null,null,", ",", , , ID , ",{"$f":"IFERROR(VLOOKUP(J189,[1]functii!D:E,2,FALSE),\"-\")","v":"-"}]
[null,185,null,null,null,null,null,null,null,", ",", , , ID , ",{"$f":"IFERROR(VLOOKUP(J190,[1]functii!D:E,2,FALSE),\"-\")","v":"-"}]
[null,186,null,null,null,null,null,null,null,", ",", , , ID , ",{"$f":"IFERROR(VLOOKUP(J191,[1]functii!D:E,2,FALSE),\"-\")","v":"-"}]
[null,187,null,null,null,null,null,null,null,", ",", , , ID , ",{"$f":"IFERROR(VLOOKUP(J192,[1]functii!D:E,2,FALSE),\"-\")","v":"-"}]
[null,188,null,null,null,null,null,null,null,", ",", , , ID , ",{"$f":"IFERROR(VLOOKUP(J193,[1]functii!D:E,2,FALSE),\"-\")","v":"-"}]
[null,189,null,null,null,null,null,null,null,", ",", , , ID , ",{"$f":"IFERROR(VLOOKUP(J194,[1]functii!D:E,2,FALSE),\"-\")","v":"-"}]
[null,190,null,null,null,null,null,null,null,", ",", , , ID , ",{"$f":"IFERROR(VLOOKUP(J195,[1]functii!D:E,2,FALSE),\"-\")","v":"-"}]
[null,191,null,null,null,null,null,null,null,", ",", , , ID , ",{"$f":"IFERROR(VLOOKUP(J196,[1]functii!D:E,2,FALSE),\"-\")","v":"-"}]
[null,192,null,null,null,null,null,null,null,", ",", , , ID , ",{"$f":"IFERROR(VLOOKUP(J197,[1]functii!D:E,2,FALSE),\"-\")","v":"-"}]
[null,193,null,null,null,null,null,null,null,{"$f":"_xlfn.CONCAT(D198,\",\",\" \",F198)","v":", "},{"$f":"CONCATENATE(D198,\", \",E198,\", \",F198,\", ID \",G198,\", \",H198)","v":", , , ID , "},{"$f":"IFERROR(VLOOKUP(J198,[1]functii!D:E,2,FALSE),\"-\")","v":"-"}]
[null,194,null,null,null,null,null,null,null,", ",", , , ID , ",{"$f":"IFERROR(VLOOKUP(J199,[1]functii!D:E,2,FALSE),\"-\")","v":"-"}]
[null,195,null,null,null,null,null,null,null,", ",", , , ID , ",{"$f":"IFERROR(VLOOKUP(J200,[1]functii!D:E,2,FALSE),\"-\")","v":"-"}]
[null,196,null,null,null,null,null,null,null,", ",", , , ID , ",{"$f":"IFERROR(VLOOKUP(J201,[1]functii!D:E,2,FALSE),\"-\")","v":"-"}]
[null,197,null,null,null,null,null,null,null,", ",", , , ID , ",{"$f":"IFERROR(VLOOKUP(J202,[1]functii!D:E,2,FALSE),\"-\")","v":"-"}]
[null,198,null,null,null,null,null,null,null,", ",", , , ID , ",{"$f":"IFERROR(VLOOKUP(J203,[1]functii!D:E,2,FALSE),\"-\")","v":"-"}]
[null,199,null,null,null,null,null,null,null,", ",", , , ID , ",{"$f":"IFERROR(VLOOKUP(J204,[1]functii!D:E,2,FALSE),\"-\")","v":"-"}]
[null,200,null,null,null,null,null,null,null,", ",", , , ID , ",{"$f":"IFERROR(VLOOKUP(J205,[1]functii!D:E,2,FALSE),\"-\")","v":"-"}]
[null,201,null,null,null,null,null,null,null,", ",", , , ID , ",{"$f":"IFERROR(VLOOKUP(J206,[1]functii!D:E,2,FALSE),\"-\")","v":"-"}]
[null,202,null,null,null,null,null,null,null,", ",", , , ID , ",{"$f":"IFERROR(VLOOKUP(J207,[1]functii!D:E,2,FALSE),\"-\")","v":"-"}]
[null,203,null,null,null,null,null,null,null,", ",", , , ID , ",{"$f":"IFERROR(VLOOKUP(J208,[1]functii!D:E,2,FALSE),\"-\")","v":"-"}]
[null,204,null,null,null,null,null,null,null,", ",", , , ID , ",{"$f":"IFERROR(VLOOKUP(J209,[1]functii!D:E,2,FALSE),\"-\")","v":"-"}]
[null,205,null,null,null,null,null,null,null,", ",", , , ID , ",{"$f":"IFERROR(VLOOKUP(J210,[1]functii!D:E,2,FALSE),\"-\")","v":"-"}]
[null,206,null,null,null,null,null,null,null,", ",", , , ID , ",{"$f":"IFERROR(VLOOKUP(J211,[1]functii!D:E,2,FALSE),\"-\")","v":"-"}]
[null,207,null,null,null,null,null,null,null,", ",", , , ID , ",{"$f":"IFERROR(VLOOKUP(J212,[1]functii!D:E,2,FALSE),\"-\")","v":"-"}]
[null,208,null,null,null,null,null,null,null,", ",", , , ID , ",{"$f":"IFERROR(VLOOKUP(J213,[1]functii!D:E,2,FALSE),\"-\")","v":"-"}]
[null,209,null,null,null,null,null,null,null,", ",", , , ID , ",{"$f":"IFERROR(VLOOKUP(J214,[1]functii!D:E,2,FALSE),\"-\")","v":"-"}]
[null,210,null,null,null,null,null,null,null,", ",", , , ID , ",{"$f":"IFERROR(VLOOKUP(J215,[1]functii!D:E,2,FALSE),\"-\")","v":"-"}]
[null,211,null,null,null,null,null,null,null,", ",", , , ID , ",{"$f":"IFERROR(VLOOKUP(J216,[1]functii!D:E,2,FALSE),\"-\")","v":"-"}]
[null,212,null,null,null,null,null,null,null,", ",", , , ID , ",{"$f":"IFERROR(VLOOKUP(J217,[1]functii!D:E,2,FALSE),\"-\")","v":"-"}]
[null,213,null,null,null,null,null,null,null,", ",", , , ID , ",{"$f":"IFERROR(VLOOKUP(J218,[1]functii!D:E,2,FALSE),\"-\")","v":"-"}]
[null,214,null,null,null,null,null,null,null,", ",", , , ID , ",{"$f":"IFERROR(VLOOKUP(J219,[1]functii!D:E,2,FALSE),\"-\")","v":"-"}]
[null,215,null,null,null,null,null,null,null,", ",", , , ID , ",{"$f":"IFERROR(VLOOKUP(J220,[1]functii!D:E,2,FALSE),\"-\")","v":"-"}]
[null,216,null,null,null,null,null,null,null,", ",", , , ID , ",{"$f":"IFERROR(VLOOKUP(J221,[1]functii!D:E,2,FALSE),\"-\")","v":"-"}]
[null,217,null,null,null,null,null,null,null,", ",", , , ID , ",{"$f":"IFERROR(VLOOKUP(J222,[1]functii!D:E,2,FALSE),\"-\")","v":"-"}]
[null,218,null,null,null,null,null,null,null,", ",", , , ID , ",{"$f":"IFERROR(VLOOKUP(J223,[1]functii!D:E,2,FALSE),\"-\")","v":"-"}]
[null,219,null,null,null,null,null,null,null,", ",", , , ID , ",{"$f":"IFERROR(VLOOKUP(J224,[1]functii!D:E,2,FALSE),\"-\")","v":"-"}]
[null,220,null,null,null,null,null,null,null,", ",", , , ID , ",{"$f":"IFERROR(VLOOKUP(J225,[1]functii!D:E,2,FALSE),\"-\")","v":"-"}]
[null,221,null,null,null,null,null,null,null,", ",", , , ID , ",{"$f":"IFERROR(VLOOKUP(J226,[1]functii!D:E,2,FALSE),\"-\")","v":"-"}]
[null,222,null,null,null,null,null,null,null,", ",", , , ID , ",{"$f":"IFERROR(VLOOKUP(J227,[1]functii!D:E,2,FALSE),\"-\")","v":"-"}]
[null,223,null,null,null,null,null,null,null,", ",", , , ID , ",{"$f":"IFERROR(VLOOKUP(J228,[1]functii!D:E,2,FALSE),\"-\")","v":"-"}]
[null,224,null,null,null,null,null,null,null,", ",", , , ID , ",{"$f":"IFERROR(VLOOKUP(J229,[1]functii!D:E,2,FALSE),\"-\")","v":"-"}]
[null,225,null,null,null,null,null,null,null,", ",", , , ID , ",{"$f":"IFERROR(VLOOKUP(J230,[1]functii!D:E,2,FALSE),\"-\")","v":"-"}]
[null,226,null,null,null,null,null,null,null,", ",", , , ID , ",{"$f":"IFERROR(VLOOKUP(J231,[1]functii!D:E,2,FALSE),\"-\")","v":"-"}]
[null,227,null,null,null,null,null,null,null,", ",", , , ID , ",{"$f":"IFERROR(VLOOKUP(J232,[1]functii!D:E,2,FALSE),\"-\")","v":"-"}]
[null,228,null,null,null,null,null,null,null,", ",", , , ID , ",{"$f":"IFERROR(VLOOKUP(J233,[1]functii!D:E,2,FALSE),\"-\")","v":"-"}]
[null,229,null,null,null,null,null,null,null,", ",", , , ID , ",{"$f":"IFERROR(VLOOKUP(J234,[1]functii!D:E,2,FALSE),\"-\")","v":"-"}]
[null,230,null,null,null,null,null,null,null,", ",", , , ID , ",{"$f":"IFERROR(VLOOKUP(J235,[1]functii!D:E,2,FALSE),\"-\")","v":"-"}]
[null,231,null,null,null,null,null,null,null,", ",", , , ID , ",{"$f":"IFERROR(VLOOKUP(J236,[1]functii!D:E,2,FALSE),\"-\")","v":"-"}]
[null,232,null,null,null,null,null,null,null,", ",", , , ID , ",{"$f":"IFERROR(VLOOKUP(J237,[1]functii!D:E,2,FALSE),\"-\")","v":"-"}]
[null,233,null,null,null,null,null,null,null,", ",", , , ID , ",{"$f":"IFERROR(VLOOKUP(J238,[1]functii!D:E,2,FALSE),\"-\")","v":"-"}]
[null,234,null,null,null,null,null,null,null,", ",", , , ID , ",{"$f":"IFERROR(VLOOKUP(J239,[1]functii!D:E,2,FALSE),\"-\")","v":"-"}]
[null,235,null,null,null,null,null,null,null,", ",", , , ID , ",{"$f":"IFERROR(VLOOKUP(J240,[1]functii!D:E,2,FALSE),\"-\")","v":"-"}]
[null,236,null,null,null,null,null,null,null,", ",", , , ID , ",{"$f":"IFERROR(VLOOKUP(J241,[1]functii!D:E,2,FALSE),\"-\")","v":"-"}]
[null,237,null,null,null,null,null,null,null,", ",", , , ID , ",{"$f":"IFERROR(VLOOKUP(J242,[1]functii!D:E,2,FALSE),\"-\")","v":"-"}]
[null,238,null,null,null,null,null,null,null,", ",", , , ID , ",{"$f":"IFERROR(VLOOKUP(J243,[1]functii!D:E,2,FALSE),\"-\")","v":"-"}]
[null,239,null,null,null,null,null,null,null,", ",", , , ID , ",{"$f":"IFERROR(VLOOKUP(J244,[1]functii!D:E,2,FALSE),\"-\")","v":"-"}]
[null,240,null,null,null,null,null,null,null,", ",", , , ID , ",{"$f":"IFERROR(VLOOKUP(J245,[1]functii!D:E,2,FALSE),\"-\")","v":"-"}]
[null,241,null,null,null,null,null,null,null,", ",", , , ID , ",{"$f":"IFERROR(VLOOKUP(J246,[1]functii!D:E,2,FALSE),\"-\")","v":"-"}]
[null,242,null,null,null,null,null,null,null,", ",", , , ID , ",{"$f":"IFERROR(VLOOKUP(J247,[1]functii!D:E,2,FALSE),\"-\")","v":"-"}]
[null,243,null,null,null,null,null,null,null,", ",", , , ID , ",{"$f":"IFERROR(VLOOKUP(J248,[1]functii!D:E,2,FALSE),\"-\")","v":"-"}]
[null,244,null,null,null,null,null,null,null,", ",", , , ID , ",{"$f":"IFERROR(VLOOKUP(J249,[1]functii!D:E,2,FALSE),\"-\")","v":"-"}]
[null,245,null,null,null,null,null,null,null,", ",", , , ID , ",{"$f":"IFERROR(VLOOKUP(J250,[1]functii!D:E,2,FALSE),\"-\")","v":"-"}]
[null,246,null,null,null,null,null,null,null,", ",", , , ID , ",{"$f":"IFERROR(VLOOKUP(J251,[1]functii!D:E,2,FALSE),\"-\")","v":"-"}]
[null,247,null,null,null,null,null,null,null,", ",", , , ID , ",{"$f":"IFERROR(VLOOKUP(J252,[1]functii!D:E,2,FALSE),\"-\")","v":"-"}]
[null,248,null,null,null,null,null,null,null,", ",", , , ID , ",{"$f":"IFERROR(VLOOKUP(J253,[1]functii!D:E,2,FALSE),\"-\")","v":"-"}]
[null,249,null,null,null,null,null,null,null,", ",", , , ID , ",{"$f":"IFERROR(VLOOKUP(J254,[1]functii!D:E,2,FALSE),\"-\")","v":"-"}]
[null,250,null,null,null,null,null,null,null,", ",", , , ID , ",{"$f":"IFERROR(VLOOKUP(J255,[1]functii!D:E,2,FALSE),\"-\")","v":"-"}]
[null,251,null,null,null,null,null,null,null,", ",", , , ID , ",{"$f":"IFERROR(VLOOKUP(J256,[1]functii!D:E,2,FALSE),\"-\")","v":"-"}]
[null,252,null,null,null,null,null,null,null,", ",", , , ID , ",{"$f":"IFERROR(VLOOKUP(J257,[1]functii!D:E,2,FALSE),\"-\")","v":"-"}]
[null,253,null,null,null,null,null,null,null,", ",", , , ID , ",{"$f":"IFERROR(VLOOKUP(J258,[1]functii!D:E,2,FALSE),\"-\")","v":"-"}]
[null,254,null,null,null,null,null,null,null,", ",", , , ID , ",{"$f":"IFERROR(VLOOKUP(J259,[1]functii!D:E,2,FALSE),\"-\")","v":"-"}]
[null,255,null,null,null,null,null,null,null,", ",", , , ID , ",{"$f":"IFERROR(VLOOKUP(J260,[1]functii!D:E,2,FALSE),\"-\")","v":"-"}]
[null,256,null,null,null,null,null,null,null,", ",", , , ID , ",{"$f":"IFERROR(VLOOKUP(J261,[1]functii!D:E,2,FALSE),\"-\")","v":"-"}]
[null,257,null,null,null,null,null,null,null,{"$f":"_xlfn.CONCAT(D262,\",\",\" \",F262)","v":", "},{"$f":"CONCATENATE(D262,\", \",E262,\", \",F262,\", ID \",G262,\", \",H262)","v":", , , ID , "},{"$f":"IFERROR(VLOOKUP(J262,[1]functii!D:E,2,FALSE),\"-\")","v":"-"}]
[null,258,null,null,null,null,null,null,null,", ",", , , ID , ",{"$f":"IFERROR(VLOOKUP(J263,[1]functii!D:E,2,FALSE),\"-\")","v":"-"}]
[null,259,null,null,null,null,null,null,null,", ",", , , ID , ",{"$f":"IFERROR(VLOOKUP(J264,[1]functii!D:E,2,FALSE),\"-\")","v":"-"}]
[null,260,null,null,null,null,null,null,null,", ",", , , ID , ",{"$f":"IFERROR(VLOOKUP(J265,[1]functii!D:E,2,FALSE),\"-\")","v":"-"}]
[null,261,null,null,null,null,null,null,null,", ",", , , ID , ",{"$f":"IFERROR(VLOOKUP(J266,[1]functii!D:E,2,FALSE),\"-\")","v":"-"}]
[null,262,null,null,null,null,null,null,null,", ",", , , ID , ",{"$f":"IFERROR(VLOOKUP(J267,[1]functii!D:E,2,FALSE),\"-\")","v":"-"}]
[null,263,null,null,null,null,null,null,null,", ",", , , ID , ",{"$f":"IFERROR(VLOOKUP(J268,[1]functii!D:E,2,FALSE),\"-\")","v":"-"}]
[null,264,null,null,null,null,null,null,null,", ",", , , ID , ",{"$f":"IFERROR(VLOOKUP(J269,[1]functii!D:E,2,FALSE),\"-\")","v":"-"}]
[null,265,null,null,null,null,null,null,null,", ",", , , ID , ",{"$f":"IFERROR(VLOOKUP(J270,[1]functii!D:E,2,FALSE),\"-\")","v":"-"}]
[null,266,null,null,null,null,null,null,null,", ",", , , ID , ",{"$f":"IFERROR(VLOOKUP(J271,[1]functii!D:E,2,FALSE),\"-\")","v":"-"}]
[null,267,null,null,null,null,null,null,null,", ",", , , ID , ",{"$f":"IFERROR(VLOOKUP(J272,[1]functii!D:E,2,FALSE),\"-\")","v":"-"}]
[null,268,null,null,null,null,null,null,null,", ",", , , ID , ",{"$f":"IFERROR(VLOOKUP(J273,[1]functii!D:E,2,FALSE),\"-\")","v":"-"}]
[null,269,null,null,null,null,null,null,null,", ",", , , ID , ",{"$f":"IFERROR(VLOOKUP(J274,[1]functii!D:E,2,FALSE),\"-\")","v":"-"}]
[null,270,null,null,null,null,null,null,null,", ",", , , ID , ",{"$f":"IFERROR(VLOOKUP(J275,[1]functii!D:E,2,FALSE),\"-\")","v":"-"}]
[null,271,null,null,null,null,null,null,null,", ",", , , ID , ",{"$f":"IFERROR(VLOOKUP(J276,[1]functii!D:E,2,FALSE),\"-\")","v":"-"}]
[null,272,null,null,null,null,null,null,null,", ",", , , ID , ",{"$f":"IFERROR(VLOOKUP(J277,[1]functii!D:E,2,FALSE),\"-\")","v":"-"}]
[null,273,null,null,null,null,null,null,null,", ",", , , ID , ",{"$f":"IFERROR(VLOOKUP(J278,[1]functii!D:E,2,FALSE),\"-\")","v":"-"}]
[null,274,null,null,null,null,null,null,null,", ",", , , ID , ",{"$f":"IFERROR(VLOOKUP(J279,[1]functii!D:E,2,FALSE),\"-\")","v":"-"}]
[null,275,null,null,null,null,null,null,null,", ",", , , ID , ",{"$f":"IFERROR(VLOOKUP(J280,[1]functii!D:E,2,FALSE),\"-\")","v":"-"}]
[null,276,null,null,null,null,null,null,null,", ",", , , ID , ",{"$f":"IFERROR(VLOOKUP(J281,[1]functii!D:E,2,FALSE),\"-\")","v":"-"}]
[null,277,null,null,null,null,null,null,null,", ",", , , ID , ",{"$f":"IFERROR(VLOOKUP(J282,[1]functii!D:E,2,FALSE),\"-\")","v":"-"}]
[null,278,null,null,null,null,null,null,null,", ",", , , ID , ",{"$f":"IFERROR(VLOOKUP(J283,[1]functii!D:E,2,FALSE),\"-\")","v":"-"}]
[null,279,null,null,null,null,null,null,null,", ",", , , ID , ",{"$f":"IFERROR(VLOOKUP(J284,[1]functii!D:E,2,FALSE),\"-\")","v":"-"}]
[null,280,null,null,null,null,null,null,null,", ",", , , ID , ",{"$f":"IFERROR(VLOOKUP(J285,[1]functii!D:E,2,FALSE),\"-\")","v":"-"}]
[null,281,null,null,null,null,null,null,null,", ",", , , ID , ",{"$f":"IFERROR(VLOOKUP(J286,[1]functii!D:E,2,FALSE),\"-\")","v":"-"}]
[null,282,null,null,null,null,null,null,null,", ",", , , ID , ",{"$f":"IFERROR(VLOOKUP(J287,[1]functii!D:E,2,FALSE),\"-\")","v":"-"}]
[null,283,null,null,null,null,null,null,null,", ",", , , ID , ",{"$f":"IFERROR(VLOOKUP(J288,[1]functii!D:E,2,FALSE),\"-\")","v":"-"}]
[null,284,null,null,null,null,null,null,null,", ",", , , ID , ",{"$f":"IFERROR(VLOOKUP(J289,[1]functii!D:E,2,FALSE),\"-\")","v":"-"}]
[null,285,null,null,null,null,null,null,null,", ",", , , ID , ",{"$f":"IFERROR(VLOOKUP(J290,[1]functii!D:E,2,FALSE),\"-\")","v":"-"}]
[null,286,null,null,null,null,null,null,null,", ",", , , ID , ",{"$f":"IFERROR(VLOOKUP(J291,[1]functii!D:E,2,FALSE),\"-\")","v":"-"}]
[null,287,null,null,null,null,null,null,null,", ",", , , ID , ",{"$f":"IFERROR(VLOOKUP(J292,[1]functii!D:E,2,FALSE),\"-\")","v":"-"}]
[null,288,null,null,null,null,null,null,null,", ",", , , ID , ",{"$f":"IFERROR(VLOOKUP(J293,[1]functii!D:E,2,FALSE),\"-\")","v":"-"}]
[null,289,null,null,null,null,null,null,null,", ",", , , ID , ",{"$f":"IFERROR(VLOOKUP(J294,[1]functii!D:E,2,FALSE),\"-\")","v":"-"}]
[null,290,null,null,null,null,null,null,null,", ",", , , ID , ",{"$f":"IFERROR(VLOOKUP(J295,[1]functii!D:E,2,FALSE),\"-\")","v":"-"}]
[null,291,null,null,null,null,null,null,null,", ",", , , ID , ",{"$f":"IFERROR(VLOOKUP(J296,[1]functii!D:E,2,FALSE),\"-\")","v":"-"}]
[null,292,null,null,null,null,null,null,null,", ",", , , ID , ",{"$f":"IFERROR(VLOOKUP(J297,[1]functii!D:E,2,FALSE),\"-\")","v":"-"}]
[null,293,null,null,null,null,null,null,null,", ",", , , ID , ",{"$f":"IFERROR(VLOOKUP(J298,[1]functii!D:E,2,FALSE),\"-\")","v":"-"}]
[null,294,null,null,null,null,null,null,null,", ",", , , ID , ",{"$f":"IFERROR(VLOOKUP(J299,[1]functii!D:E,2,FALSE),\"-\")","v":"-"}]
[null,295,null,null,null,null,null,null,null,", ",", , , ID , ",{"$f":"IFERROR(VLOOKUP(J300,[1]functii!D:E,2,FALSE),\"-\")","v":"-"}]
[null,296,null,null,null,null,null,null,null,", ",", , , ID , ",{"$f":"IFERROR(VLOOKUP(J301,[1]functii!D:E,2,FALSE),\"-\")","v":"-"}]
[null,297,null,null,null,null,null,null,null,", ",", , , ID , ",{"$f":"IFERROR(VLOOKUP(J302,[1]functii!D:E,2,FALSE),\"-\")","v":"-"}]
[null,298,null,null,null,null,null,null,null,", ",", , , ID , ",{"$f":"IFERROR(VLOOKUP(J303,[1]functii!D:E,2,FALSE),\"-\")","v":"-"}]
[null,299,null,null,null,null,null,null,null,", ",", , , ID , ",{"$f":"IFERROR(VLOOKUP(J304,[1]functii!D:E,2,FALSE),\"-\")","v":"-"}]
[null,300,null,null,null,null,null,null,null,", ",", , , ID , ",{"$f":"IFERROR(VLOOKUP(J305,[1]functii!D:E,2,FALSE),\"-\")","v":"-"}]
[null,301,null,null,null,null,null,null,null,", ",", , , ID , ",{"$f":"IFERROR(VLOOKUP(J306,[1]functii!D:E,2,FALSE),\"-\")","v":"-"}]
[null,302,null,null,null,null,null,null,null,", ",", , , ID , ",{"$f":"IFERROR(VLOOKUP(J307,[1]functii!D:E,2,FALSE),\"-\")","v":"-"}]
[null,303,null,null,null,null,null,null,null,", ",", , , ID , ",{"$f":"IFERROR(VLOOKUP(J308,[1]functii!D:E,2,FALSE),\"-\")","v":"-"}]
[null,304,null,null,null,null,null,null,null,", ",", , , ID , ",{"$f":"IFERROR(VLOOKUP(J309,[1]functii!D:E,2,FALSE),\"-\")","v":"-"}]
[null,305,null,null,null,null,null,null,null,", ",", , , ID , ",{"$f":"IFERROR(VLOOKUP(J310,[1]functii!D:E,2,FALSE),\"-\")","v":"-"}]
[null,306,null,null,null,null,null,null,null,", ",", , , ID , ",{"$f":"IFERROR(VLOOKUP(J311,[1]functii!D:E,2,FALSE),\"-\")","v":"-"}]
[null,307,null,null,null,null,null,null,null,", ",", , , ID , ",{"$f":"IFERROR(VLOOKUP(J312,[1]functii!D:E,2,FALSE),\"-\")","v":"-"}]
[null,308,null,null,null,null,null,null,null,", ",", , , ID , ",{"$f":"IFERROR(VLOOKUP(J313,[1]functii!D:E,2,FALSE),\"-\")","v":"-"}]
[null,309,null,null,null,null,null,null,null,", ",", , , ID , ",{"$f":"IFERROR(VLOOKUP(J314,[1]functii!D:E,2,FALSE),\"-\")","v":"-"}]
[null,310,null,null,null,null,null,null,null,", ",", , , ID , ",{"$f":"IFERROR(VLOOKUP(J315,[1]functii!D:E,2,FALSE),\"-\")","v":"-"}]
[null,311,null,null,null,null,null,null,null,", ",", , , ID , ",{"$f":"IFERROR(VLOOKUP(J316,[1]functii!D:E,2,FALSE),\"-\")","v":"-"}]
[null,312,null,null,null,null,null,null,null,", ",", , , ID , ",{"$f":"IFERROR(VLOOKUP(J317,[1]functii!D:E,2,FALSE),\"-\")","v":"-"}]
[null,313,null,null,null,null,null,null,null,", ",", , , ID , ",{"$f":"IFERROR(VLOOKUP(J318,[1]functii!D:E,2,FALSE),\"-\")","v":"-"}]
[null,314,null,null,null,null,null,null,null,", ",", , , ID , ",{"$f":"IFERROR(VLOOKUP(J319,[1]functii!D:E,2,FALSE),\"-\")","v":"-"}]
[null,315,null,null,null,null,null,null,null,", ",", , , ID , ",{"$f":"IFERROR(VLOOKUP(J320,[1]functii!D:E,2,FALSE),\"-\")","v":"-"}]
[null,316,null,null,null,null,null,null,null,", ",", , , ID , ",{"$f":"IFERROR(VLOOKUP(J321,[1]functii!D:E,2,FALSE),\"-\")","v":"-"}]
[null,317,null,null,null,null,null,null,null,", ",", , , ID , ",{"$f":"IFERROR(VLOOKUP(J322,[1]functii!D:E,2,FALSE),\"-\")","v":"-"}]
[null,318,null,null,null,null,null,null,null,", ",", , , ID , ",{"$f":"IFERROR(VLOOKUP(J323,[1]functii!D:E,2,FALSE),\"-\")","v":"-"}]
[null,319,null,null,null,null,null,null,null,", ",", , , ID , ",{"$f":"IFERROR(VLOOKUP(J324,[1]functii!D:E,2,FALSE),\"-\")","v":"-"}]
[null,320,null,null,null,null,null,null,null,", ",", , , ID , ",{"$f":"IFERROR(VLOOKUP(J325,[1]functii!D:E,2,FALSE),\"-\")","v":"-"}]
[null,321,null,null,null,null,null,null,null,{"$f":"_xlfn.CONCAT(D326,\",\",\" \",F326)","v":", "},{"$f":"CONCATENATE(D326,\", \",E326,\", \",F326,\", ID \",G326,\", \",H326)","v":", , , ID , "},{"$f":"IFERROR(VLOOKUP(J326,[1]functii!D:E,2,FALSE),\"-\")","v":"-"}]
[null,322,null,null,null,null,null,null,null,", ",", , , ID , ",{"$f":"IFERROR(VLOOKUP(J327,[1]functii!D:E,2,FALSE),\"-\")","v":"-"}]
[null,323,null,null,null,null,null,null,null,", ",", , , ID , ",{"$f":"IFERROR(VLOOKUP(J328,[1]functii!D:E,2,FALSE),\"-\")","v":"-"}]
[null,324,null,null,null,null,null,null,null,", ",", , , ID , ",{"$f":"IFERROR(VLOOKUP(J329,[1]functii!D:E,2,FALSE),\"-\")","v":"-"}]
[null,325,null,null,null,null,null,null,null,", ",", , , ID , ",{"$f":"IFERROR(VLOOKUP(J330,[1]functii!D:E,2,FALSE),\"-\")","v":"-"}]
[null,326,null,null,null,null,null,null,null,", ",", , , ID , ",{"$f":"IFERROR(VLOOKUP(J331,[1]functii!D:E,2,FALSE),\"-\")","v":"-"}]
[null,327,null,null,null,null,null,null,null,", ",", , , ID , ",{"$f":"IFERROR(VLOOKUP(J332,[1]functii!D:E,2,FALSE),\"-\")","v":"-"}]
[null,328,null,null,null,null,null,null,null,", ",", , , ID , ",{"$f":"IFERROR(VLOOKUP(J333,[1]functii!D:E,2,FALSE),\"-\")","v":"-"}]
[null,329,null,null,null,null,null,null,null,", ",", , , ID , ",{"$f":"IFERROR(VLOOKUP(J334,[1]functii!D:E,2,FALSE),\"-\")","v":"-"}]
[null,330,null,null,null,null,null,null,null,", ",", , , ID , ",{"$f":"IFERROR(VLOOKUP(J335,[1]functii!D:E,2,FALSE),\"-\")","v":"-"}]
[null,331,null,null,null,null,null,null,null,", ",", , , ID , ",{"$f":"IFERROR(VLOOKUP(J336,[1]functii!D:E,2,FALSE),\"-\")","v":"-"}]
[null,332,null,null,null,null,null,null,null,", ",", , , ID , ",{"$f":"IFERROR(VLOOKUP(J337,[1]functii!D:E,2,FALSE),\"-\")","v":"-"}]
[null,333,null,null,null,null,null,null,null,", ",", , , ID , ",{"$f":"IFERROR(VLOOKUP(J338,[1]functii!D:E,2,FALSE),\"-\")","v":"-"}]
[null,334,null,null,null,null,null,null,null,", ",", , , ID , ",{"$f":"IFERROR(VLOOKUP(J339,[1]functii!D:E,2,FALSE),\"-\")","v":"-"}]
[null,335,null,null,null,null,null,null,null,", ",", , , ID , ",{"$f":"IFERROR(VLOOKUP(J340,[1]functii!D:E,2,FALSE),\"-\")","v":"-"}]
[null,336,null,null,null,null,null,null,null,", ",", , , ID , ",{"$f":"IFERROR(VLOOKUP(J341,[1]functii!D:E,2,FALSE),\"-\")","v":"-"}]
[null,337,null,null,null,null,null,null,null,", ",", , , ID , ",{"$f":"IFERROR(VLOOKUP(J342,[1]functii!D:E,2,FALSE),\"-\")","v":"-"}]
[null,338,null,null,null,null,null,null,null,", ",", , , ID , ",{"$f":"IFERROR(VLOOKUP(J343,[1]functii!D:E,2,FALSE),\"-\")","v":"-"}]
[null,339,null,null,null,null,null,null,null,", ",", , , ID , ",{"$f":"IFERROR(VLOOKUP(J344,[1]functii!D:E,2,FALSE),\"-\")","v":"-"}]
[null,340,null,null,null,null,null,null,null,", ",", , , ID , ",{"$f":"IFERROR(VLOOKUP(J345,[1]functii!D:E,2,FALSE),\"-\")","v":"-"}]
[null,341,null,null,null,null,null,null,null,", ",", , , ID , ",{"$f":"IFERROR(VLOOKUP(J346,[1]functii!D:E,2,FALSE),\"-\")","v":"-"}]
[null,342,null,null,null,null,null,null,null,", ",", , , ID , ",{"$f":"IFERROR(VLOOKUP(J347,[1]functii!D:E,2,FALSE),\"-\")","v":"-"}]
[null,343,null,null,null,null,null,null,null,", ",", , , ID , ",{"$f":"IFERROR(VLOOKUP(J348,[1]functii!D:E,2,FALSE),\"-\")","v":"-"}]
[null,344,null,null,null,null,null,null,null,", ",", , , ID , ",{"$f":"IFERROR(VLOOKUP(J349,[1]functii!D:E,2,FALSE),\"-\")","v":"-"}]
[null,345,null,null,null,null,null,null,null,", ",", , , ID , ",{"$f":"IFERROR(VLOOKUP(J350,[1]functii!D:E,2,FALSE),\"-\")","v":"-"}]
[null,346,null,null,null,null,null,null,null,", ",", , , ID , ",{"$f":"IFERROR(VLOOKUP(J351,[1]functii!D:E,2,FALSE),\"-\")","v":"-"}]
[null,347,null,null,null,null,null,null,null,", ",", , , ID , ",{"$f":"IFERROR(VLOOKUP(J352,[1]functii!D:E,2,FALSE),\"-\")","v":"-"}]
[null,348,null,null,null,null,null,null,null,", ",", , , ID , ",{"$f":"IFERROR(VLOOKUP(J353,[1]functii!D:E,2,FALSE),\"-\")","v":"-"}]
[null,349,null,null,null,null,null,null,null,", ",", , , ID , ",{"$f":"IFERROR(VLOOKUP(J354,[1]functii!D:E,2,FALSE),\"-\")","v":"-"}]
[null,350,null,null,null,null,null,null,null,", ",", , , ID , ",{"$f":"IFERROR(VLOOKUP(J355,[1]functii!D:E,2,FALSE),\"-\")","v":"-"}]
[null,351,null,null,null,null,null,null,null,", ",", , , ID , ",{"$f":"IFERROR(VLOOKUP(J356,[1]functii!D:E,2,FALSE),\"-\")","v":"-"}]
[null,352,null,null,null,null,null,null,null,", ",", , , ID , ",{"$f":"IFERROR(VLOOKUP(J357,[1]functii!D:E,2,FALSE),\"-\")","v":"-"}]
[null,353,null,null,null,null,null,null,null,", ",", , , ID , ",{"$f":"IFERROR(VLOOKUP(J358,[1]functii!D:E,2,FALSE),\"-\")","v":"-"}]
[null,354,null,null,null,null,null,null,null,", ",", , , ID , ",{"$f":"IFERROR(VLOOKUP(J359,[1]functii!D:E,2,FALSE),\"-\")","v":"-"}]
[null,355,null,null,null,null,null,null,null,", ",", , , ID , ",{"$f":"IFERROR(VLOOKUP(J360,[1]functii!D:E,2,FALSE),\"-\")","v":"-"}]
[null,356,null,null,null,null,null,null,null,", ",", , , ID , ",{"$f":"IFERROR(VLOOKUP(J361,[1]functii!D:E,2,FALSE),\"-\")","v":"-"}]
[null,357,null,null,null,null,null,null,null,", ",", , , ID , ",{"$f":"IFERROR(VLOOKUP(J362,[1]functii!D:E,2,FALSE),\"-\")","v":"-"}]
[null,358,null,null,null,null,null,null,null,", ",", , , ID , ",{"$f":"IFERROR(VLOOKUP(J363,[1]functii!D:E,2,FALSE),\"-\")","v":"-"}]
[null,359,null,null,null,null,null,null,null,", ",", , , ID , ",{"$f":"IFERROR(VLOOKUP(J364,[1]functii!D:E,2,FALSE),\"-\")","v":"-"}]
[null,360,null,null,null,null,null,null,null,", ",", , , ID , ",{"$f":"IFERROR(VLOOKUP(J365,[1]functii!D:E,2,FALSE),\"-\")","v":"-"}]
[null,361,null,null,null,null,null,null,null,", ",", , , ID , ",{"$f":"IFERROR(VLOOKUP(J366,[1]functii!D:E,2,FALSE),\"-\")","v":"-"}]
[null,362,null,null,null,null,null,null,null,", ",", , , ID , ",{"$f":"IFERROR(VLOOKUP(J367,[1]functii!D:E,2,FALSE),\"-\")","v":"-"}]
[null,363,null,null,null,null,null,null,null,", ",", , , ID , ",{"$f":"IFERROR(VLOOKUP(J368,[1]functii!D:E,2,FALSE),\"-\")","v":"-"}]
[null,364,null,null,null,null,null,null,null,", ",", , , ID , ",{"$f":"IFERROR(VLOOKUP(J369,[1]functii!D:E,2,FALSE),\"-\")","v":"-"}]
[null,365,null,null,null,null,null,null,null,", ",", , , ID , ",{"$f":"IFERROR(VLOOKUP(J370,[1]functii!D:E,2,FALSE),\"-\")","v":"-"}]
[null,366,null,null,null,null,null,null,null,", ",", , , ID , ",{"$f":"IFERROR(VLOOKUP(J371,[1]functii!D:E,2,FALSE),\"-\")","v":"-"}]
[null,367,null,null,null,null,null,null,null,", ",", , , ID , ",{"$f":"IFERROR(VLOOKUP(J372,[1]functii!D:E,2,FALSE),\"-\")","v":"-"}]
[null,368,null,null,null,null,null,null,null,", ",", , , ID , ",{"$f":"IFERROR(VLOOKUP(J373,[1]functii!D:E,2,FALSE),\"-\")","v":"-"}]
[null,369,null,null,null,null,null,null,null,", ",", , , ID , ",{"$f":"IFERROR(VLOOKUP(J374,[1]functii!D:E,2,FALSE),\"-\")","v":"-"}]
[null,370,null,null,null,null,null,null,null,", ",", , , ID , ",{"$f":"IFERROR(VLOOKUP(J375,[1]functii!D:E,2,FALSE),\"-\")","v":"-"}]
[null,371,null,null,null,null,null,null,null,", ",", , , ID , ",{"$f":"IFERROR(VLOOKUP(J376,[1]functii!D:E,2,FALSE),\"-\")","v":"-"}]
[null,372,null,null,null,null,null,null,null,", ",", , , ID , ",{"$f":"IFERROR(VLOOKUP(J377,[1]functii!D:E,2,FALSE),\"-\")","v":"-"}]
[null,373,null,null,null,null,null,null,null,", ",", , , ID , ",{"$f":"IFERROR(VLOOKUP(J378,[1]functii!D:E,2,FALSE),\"-\")","v":"-"}]
[null,374,null,null,null,null,null,null,null,", ",", , , ID , ",{"$f":"IFERROR(VLOOKUP(J379,[1]functii!D:E,2,FALSE),\"-\")","v":"-"}]
[null,375,null,null,null,null,null,null,null,", ",", , , ID , ",{"$f":"IFERROR(VLOOKUP(J380,[1]functii!D:E,2,FALSE),\"-\")","v":"-"}]
[null,376,null,null,null,null,null,null,null,", ",", , , ID , ",{"$f":"IFERROR(VLOOKUP(J381,[1]functii!D:E,2,FALSE),\"-\")","v":"-"}]
[null,377,null,null,null,null,null,null,null,", ",", , , ID , ",{"$f":"IFERROR(VLOOKUP(J382,[1]functii!D:E,2,FALSE),\"-\")","v":"-"}]
[null,378,null,null,null,null,null,null,null,", ",", , , ID , ",{"$f":"IFERROR(VLOOKUP(J383,[1]functii!D:E,2,FALSE),\"-\")","v":"-"}]
[null,379,null,null,null,null,null,null,null,", ",", , , ID , ",{"$f":"IFERROR(VLOOKUP(J384,[1]functii!D:E,2,FALSE),\"-\")","v":"-"}]
[null,380,null,null,null,null,null,null,null,", ",", , , ID , ",{"$f":"IFERROR(VLOOKUP(J385,[1]functii!D:E,2,FALSE),\"-\")","v":"-"}]
[null,381,null,null,null,null,null,null,null,", ",", , , ID , ",{"$f":"IFERROR(VLOOKUP(J386,[1]functii!D:E,2,FALSE),\"-\")","v":"-"}]
[null,382,null,null,null,null,null,null,null,", ",", , , ID , ",{"$f":"IFERROR(VLOOKUP(J387,[1]functii!D:E,2,FALSE),\"-\")","v":"-"}]
[null,383,null,null,null,null,null,null,null,", ",", , , ID , ",{"$f":"IFERROR(VLOOKUP(J388,[1]functii!D:E,2,FALSE),\"-\")","v":"-"}]
[null,384,null,null,null,null,null,null,null,", ",", , , ID , ",{"$f":"IFERROR(VLOOKUP(J389,[1]functii!D:E,2,FALSE),\"-\")","v":"-"}]
[null,385,null,null,null,null,null,null,null,{"$f":"_xlfn.CONCAT(D390,\",\",\" \",F390)","v":", "},{"$f":"CONCATENATE(D390,\", \",E390,\", \",F390,\", ID \",G390,\", \",H390)","v":", , , ID , "},{"$f":"IFERROR(VLOOKUP(J390,[1]functii!D:E,2,FALSE),\"-\")","v":"-"}]
[null,386,null,null,null,null,null,null,null,", ",", , , ID , ",{"$f":"IFERROR(VLOOKUP(J391,[1]functii!D:E,2,FALSE),\"-\")","v":"-"}]
[null,387,null,null,null,null,null,null,null,", ",", , , ID , ",{"$f":"IFERROR(VLOOKUP(J392,[1]functii!D:E,2,FALSE),\"-\")","v":"-"}]
[null,388,null,null,null,null,null,null,null,", ",", , , ID , ",{"$f":"IFERROR(VLOOKUP(J393,[1]functii!D:E,2,FALSE),\"-\")","v":"-"}]
[null,389,null,null,null,null,null,null,null,", ",", , , ID , ",{"$f":"IFERROR(VLOOKUP(J394,[1]functii!D:E,2,FALSE),\"-\")","v":"-"}]
[null,390,null,null,null,null,null,null,null,", ",", , , ID , ",{"$f":"IFERROR(VLOOKUP(J395,[1]functii!D:E,2,FALSE),\"-\")","v":"-"}]
[null,391,null,null,null,null,null,null,null,", ",", , , ID , ",{"$f":"IFERROR(VLOOKUP(J396,[1]functii!D:E,2,FALSE),\"-\")","v":"-"}]
[null,392,null,null,null,null,null,null,null,", ",", , , ID , ",{"$f":"IFERROR(VLOOKUP(J397,[1]functii!D:E,2,FALSE),\"-\")","v":"-"}]
[null,393,null,null,null,null,null,null,null,", ",", , , ID , ",{"$f":"IFERROR(VLOOKUP(J398,[1]functii!D:E,2,FALSE),\"-\")","v":"-"}]
[null,394,null,null,null,null,null,null,null,", ",", , , ID , ",{"$f":"IFERROR(VLOOKUP(J399,[1]functii!D:E,2,FALSE),\"-\")","v":"-"}]
[null,395,null,null,null,null,null,null,null,", ",", , , ID , ",{"$f":"IFERROR(VLOOKUP(J400,[1]functii!D:E,2,FALSE),\"-\")","v":"-"}]
[null,396,null,null,null,null,null,null,null,", ",", , , ID , ",{"$f":"IFERROR(VLOOKUP(J401,[1]functii!D:E,2,FALSE),\"-\")","v":"-"}]
[null,397,null,null,null,null,null,null,null,", ",", , , ID , ",{"$f":"IFERROR(VLOOKUP(J402,[1]functii!D:E,2,FALSE),\"-\")","v":"-"}]
[null,398,null,null,null,null,null,null,null,", ",", , , ID , ",{"$f":"IFERROR(VLOOKUP(J403,[1]functii!D:E,2,FALSE),\"-\")","v":"-"}]
[null,399,null,null,null,null,null,null,null,", ",", , , ID , ",{"$f":"IFERROR(VLOOKUP(J404,[1]functii!D:E,2,FALSE),\"-\")","v":"-"}]
[null,400,null,null,null,null,null,null,null,", ",", , , ID , ",{"$f":"IFERROR(VLOOKUP(J405,[1]functii!D:E,2,FALSE),\"-\")","v":"-"}]
[null,401,null,null,null,null,null,null,null,", ",", , , ID , ",{"$f":"IFERROR(VLOOKUP(J406,[1]functii!D:E,2,FALSE),\"-\")","v":"-"}]
[null,402,null,null,null,null,null,null,null,", ",", , , ID , ",{"$f":"IFERROR(VLOOKUP(J407,[1]functii!D:E,2,FALSE),\"-\")","v":"-"}]
[null,403,null,null,null,null,null,null,null,", ",", , , ID , ",{"$f":"IFERROR(VLOOKUP(J408,[1]functii!D:E,2,FALSE),\"-\")","v":"-"}]
[null,404,null,null,null,null,null,null,null,", ",", , , ID , ",{"$f":"IFERROR(VLOOKUP(J409,[1]functii!D:E,2,FALSE),\"-\")","v":"-"}]
[null,405,null,null,null,null,null,null,null,", ",", , , ID , ",{"$f":"IFERROR(VLOOKUP(J410,[1]functii!D:E,2,FALSE),\"-\")","v":"-"}]
[null,406,null,null,null,null,null,null,null,", ",", , , ID , ",{"$f":"IFERROR(VLOOKUP(J411,[1]functii!D:E,2,FALSE),\"-\")","v":"-"}]
[null,407,null,null,null,null,null,null,null,", ",", , , ID , ",{"$f":"IFERROR(VLOOKUP(J412,[1]functii!D:E,2,FALSE),\"-\")","v":"-"}]
[null,408,null,null,null,null,null,null,null,", ",", , , ID , ",{"$f":"IFERROR(VLOOKUP(J413,[1]functii!D:E,2,FALSE),\"-\")","v":"-"}]
[null,409,null,null,null,null,null,null,null,", ",", , , ID , ",{"$f":"IFERROR(VLOOKUP(J414,[1]functii!D:E,2,FALSE),\"-\")","v":"-"}]
[null,410,null,null,null,null,null,null,null,", ",", , , ID , ",{"$f":"IFERROR(VLOOKUP(J415,[1]functii!D:E,2,FALSE),\"-\")","v":"-"}]
[null,411,null,null,null,null,null,null,null,", ",", , , ID , ",{"$f":"IFERROR(VLOOKUP(J416,[1]functii!D:E,2,FALSE),\"-\")","v":"-"}]
[null,412,null,null,null,null,null,null,null,", ",", , , ID , ",{"$f":"IFERROR(VLOOKUP(J417,[1]functii!D:E,2,FALSE),\"-\")","v":"-"}]
[null,413,null,null,null,null,null,null,null,", ",", , , ID , ",{"$f":"IFERROR(VLOOKUP(J418,[1]functii!D:E,2,FALSE),\"-\")","v":"-"}]
[null,414,null,null,null,null,null,null,null,", ",", , , ID , ",{"$f":"IFERROR(VLOOKUP(J419,[1]functii!D:E,2,FALSE),\"-\")","v":"-"}]
[null,415,null,null,null,null,null,null,null,", ",", , , ID , ",{"$f":"IFERROR(VLOOKUP(J420,[1]functii!D:E,2,FALSE),\"-\")","v":"-"}]
[null,416,null,null,null,null,null,null,null,", ",", , , ID , ",{"$f":"IFERROR(VLOOKUP(J421,[1]functii!D:E,2,FALSE),\"-\")","v":"-"}]
[null,417,null,null,null,null,null,null,null,", ",", , , ID , ",{"$f":"IFERROR(VLOOKUP(J422,[1]functii!D:E,2,FALSE),\"-\")","v":"-"}]
[null,418,null,null,null,null,null,null,null,", ",", , , ID , ",{"$f":"IFERROR(VLOOKUP(J423,[1]functii!D:E,2,FALSE),\"-\")","v":"-"}]
[null,419,null,null,null,null,null,null,null,", ",", , , ID , ",{"$f":"IFERROR(VLOOKUP(J424,[1]functii!D:E,2,FALSE),\"-\")","v":"-"}]
[null,420,null,null,null,null,null,null,null,", ",", , , ID , ",{"$f":"IFERROR(VLOOKUP(J425,[1]functii!D:E,2,FALSE),\"-\")","v":"-"}]
[null,421,null,null,null,null,null,null,null,", ",", , , ID , ",{"$f":"IFERROR(VLOOKUP(J426,[1]functii!D:E,2,FALSE),\"-\")","v":"-"}]
[null,422,null,null,null,null,null,null,null,", ",", , , ID , ",{"$f":"IFERROR(VLOOKUP(J427,[1]functii!D:E,2,FALSE),\"-\")","v":"-"}]
[null,423,null,null,null,null,null,null,null,", ",", , , ID , ",{"$f":"IFERROR(VLOOKUP(J428,[1]functii!D:E,2,FALSE),\"-\")","v":"-"}]
[null,424,null,null,null,null,null,null,null,", ",", , , ID , ",{"$f":"IFERROR(VLOOKUP(J429,[1]functii!D:E,2,FALSE),\"-\")","v":"-"}]
[null,425,null,null,null,null,null,null,null,", ",", , , ID , ",{"$f":"IFERROR(VLOOKUP(J430,[1]functii!D:E,2,FALSE),\"-\")","v":"-"}]
[null,426,null,null,null,null,null,null,null,", ",", , , ID , ",{"$f":"IFERROR(VLOOKUP(J431,[1]functii!D:E,2,FALSE),\"-\")","v":"-"}]
[null,427,null,null,null,null,null,null,null,", ",", , , ID , ",{"$f":"IFERROR(VLOOKUP(J432,[1]functii!D:E,2,FALSE),\"-\")","v":"-"}]
[null,428,null,null,null,null,null,null,null,", ",", , , ID , ",{"$f":"IFERROR(VLOOKUP(J433,[1]functii!D:E,2,FALSE),\"-\")","v":"-"}]
[null,429,null,null,null,null,null,null,null,", ",", , , ID , ",{"$f":"IFERROR(VLOOKUP(J434,[1]functii!D:E,2,FALSE),\"-\")","v":"-"}]
[null,430,null,null,null,null,null,null,null,", ",", , , ID , ",{"$f":"IFERROR(VLOOKUP(J435,[1]functii!D:E,2,FALSE),\"-\")","v":"-"}]
[null,431,null,null,null,null,null,null,null,", ",", , , ID , ",{"$f":"IFERROR(VLOOKUP(J436,[1]functii!D:E,2,FALSE),\"-\")","v":"-"}]
[null,432,null,null,null,null,null,null,null,", ",", , , ID , ",{"$f":"IFERROR(VLOOKUP(J437,[1]functii!D:E,2,FALSE),\"-\")","v":"-"}]
[null,433,null,null,null,null,null,null,null,", ",", , , ID , ",{"$f":"IFERROR(VLOOKUP(J438,[1]functii!D:E,2,FALSE),\"-\")","v":"-"}]
[null,434,null,null,null,null,null,null,null,", ",", , , ID , ",{"$f":"IFERROR(VLOOKUP(J439,[1]functii!D:E,2,FALSE),\"-\")","v":"-"}]
[null,435,null,null,null,null,null,null,null,", ",", , , ID , ",{"$f":"IFERROR(VLOOKUP(J440,[1]functii!D:E,2,FALSE),\"-\")","v":"-"}]
[null,436,null,null,null,null,null,null,null,", ",", , , ID , ",{"$f":"IFERROR(VLOOKUP(J441,[1]functii!D:E,2,FALSE),\"-\")","v":"-"}]
[null,437,null,null,null,null,null,null,null,", ",", , , ID , ",{"$f":"IFERROR(VLOOKUP(J442,[1]functii!D:E,2,FALSE),\"-\")","v":"-"}]
[null,438,null,null,null,null,null,null,null,", ",", , , ID , ",{"$f":"IFERROR(VLOOKUP(J443,[1]functii!D:E,2,FALSE),\"-\")","v":"-"}]
[null,439,null,null,null,null,null,null,null,", ",", , , ID , ",{"$f":"IFERROR(VLOOKUP(J444,[1]functii!D:E,2,FALSE),\"-\")","v":"-"}]
[null,440,null,null,null,null,null,null,null,", ",", , , ID , ",{"$f":"IFERROR(VLOOKUP(J445,[1]functii!D:E,2,FALSE),\"-\")","v":"-"}]
[null,441,null,null,null,null,null,null,null,", ",", , , ID , ",{"$f":"IFERROR(VLOOKUP(J446,[1]functii!D:E,2,FALSE),\"-\")","v":"-"}]
[null,442,null,null,null,null,null,null,null,", ",", , , ID , ",{"$f":"IFERROR(VLOOKUP(J447,[1]functii!D:E,2,FALSE),\"-\")","v":"-"}]
[null,443,null,null,null,null,null,null,null,", ",", , , ID , ",{"$f":"IFERROR(VLOOKUP(J448,[1]functii!D:E,2,FALSE),\"-\")","v":"-"}]
[null,444,null,null,null,null,null,null,null,", ",", , , ID , ",{"$f":"IFERROR(VLOOKUP(J449,[1]functii!D:E,2,FALSE),\"-\")","v":"-"}]
[null,445,null,null,null,null,null,null,null,", ",", , , ID , ",{"$f":"IFERROR(VLOOKUP(J450,[1]functii!D:E,2,FALSE),\"-\")","v":"-"}]
[null,446,null,null,null,null,null,null,null,", ",", , , ID , ",{"$f":"IFERROR(VLOOKUP(J451,[1]functii!D:E,2,FALSE),\"-\")","v":"-"}]
[null,447,null,null,null,null,null,null,null,", ",", , , ID , ",{"$f":"IFERROR(VLOOKUP(J452,[1]functii!D:E,2,FALSE),\"-\")","v":"-"}]
[null,448,null,null,null,null,null,null,null,", ",", , , ID , ",{"$f":"IFERROR(VLOOKUP(J453,[1]functii!D:E,2,FALSE),\"-\")","v":"-"}]
[null,449,null,null,null,null,null,null,null,{"$f":"_xlfn.CONCAT(D454,\",\",\" \",F454)","v":", "},{"$f":"CONCATENATE(D454,\", \",E454,\", \",F454,\", ID \",G454,\", \",H454)","v":", , , ID , "},{"$f":"IFERROR(VLOOKUP(J454,[1]functii!D:E,2,FALSE),\"-\")","v":"-"}]
[null,450,null,null,null,null,null,null,null,", ",", , , ID , ",{"$f":"IFERROR(VLOOKUP(J455,[1]functii!D:E,2,FALSE),\"-\")","v":"-"}]
[null,451,null,null,null,null,null,null,null,", ",", , , ID , ",{"$f":"IFERROR(VLOOKUP(J456,[1]functii!D:E,2,FALSE),\"-\")","v":"-"}]
[null,452,null,null,null,null,null,null,null,", ",", , , ID , ",{"$f":"IFERROR(VLOOKUP(J457,[1]functii!D:E,2,FALSE),\"-\")","v":"-"}]
[null,453,null,null,null,null,null,null,null,", ",", , , ID , ",{"$f":"IFERROR(VLOOKUP(J458,[1]functii!D:E,2,FALSE),\"-\")","v":"-"}]
[null,454,null,null,null,null,null,null,null,", ",", , , ID , ",{"$f":"IFERROR(VLOOKUP(J459,[1]functii!D:E,2,FALSE),\"-\")","v":"-"}]
[null,455,null,null,null,null,null,null,null,", ",", , , ID , ",{"$f":"IFERROR(VLOOKUP(J460,[1]functii!D:E,2,FALSE),\"-\")","v":"-"}]
[null,456,null,null,null,null,null,null,null,", ",", , , ID , ",{"$f":"IFERROR(VLOOKUP(J461,[1]functii!D:E,2,FALSE),\"-\")","v":"-"}]
[null,457,null,null,null,null,null,null,null,", ",", , , ID , ",{"$f":"IFERROR(VLOOKUP(J462,[1]functii!D:E,2,FALSE),\"-\")","v":"-"}]
[null,458,null,null,null,null,null,null,null,", ",", , , ID , ",{"$f":"IFERROR(VLOOKUP(J463,[1]functii!D:E,2,FALSE),\"-\")","v":"-"}]
[null,459,null,null,null,null,null,null,null,", ",", , , ID , ",{"$f":"IFERROR(VLOOKUP(J464,[1]functii!D:E,2,FALSE),\"-\")","v":"-"}]
[null,460,null,null,null,null,null,null,null,", ",", , , ID , ",{"$f":"IFERROR(VLOOKUP(J465,[1]functii!D:E,2,FALSE),\"-\")","v":"-"}]
[null,461,null,null,null,null,null,null,null,", ",", , , ID , ",{"$f":"IFERROR(VLOOKUP(J466,[1]functii!D:E,2,FALSE),\"-\")","v":"-"}]
[null,462,null,null,null,null,null,null,null,", ",", , , ID , ",{"$f":"IFERROR(VLOOKUP(J467,[1]functii!D:E,2,FALSE),\"-\")","v":"-"}]
[null,463,null,null,null,null,null,null,null,", ",", , , ID , ",{"$f":"IFERROR(VLOOKUP(J468,[1]functii!D:E,2,FALSE),\"-\")","v":"-"}]
[null,464,null,null,null,null,null,null,null,", ",", , , ID , ",{"$f":"IFERROR(VLOOKUP(J469,[1]functii!D:E,2,FALSE),\"-\")","v":"-"}]
[null,465,null,null,null,null,null,null,null,", ",", , , ID , ",{"$f":"IFERROR(VLOOKUP(J470,[1]functii!D:E,2,FALSE),\"-\")","v":"-"}]
[null,466,null,null,null,null,null,null,null,", ",", , , ID , ",{"$f":"IFERROR(VLOOKUP(J471,[1]functii!D:E,2,FALSE),\"-\")","v":"-"}]
[null,467,null,null,null,null,null,null,null,", ",", , , ID , ",{"$f":"IFERROR(VLOOKUP(J472,[1]functii!D:E,2,FALSE),\"-\")","v":"-"}]
[null,468,null,null,null,null,null,null,null,", ",", , , ID , ",{"$f":"IFERROR(VLOOKUP(J473,[1]functii!D:E,2,FALSE),\"-\")","v":"-"}]
[null,469,null,null,null,null,null,null,null,", ",", , , ID , ",{"$f":"IFERROR(VLOOKUP(J474,[1]functii!D:E,2,FALSE),\"-\")","v":"-"}]
[null,470,null,null,null,null,null,null,null,", ",", , , ID , ",{"$f":"IFERROR(VLOOKUP(J475,[1]functii!D:E,2,FALSE),\"-\")","v":"-"}]
[null,471,null,null,null,null,null,null,null,", ",", , , ID , ",{"$f":"IFERROR(VLOOKUP(J476,[1]functii!D:E,2,FALSE),\"-\")","v":"-"}]
[null,472,null,null,null,null,null,null,null,", ",", , , ID , ",{"$f":"IFERROR(VLOOKUP(J477,[1]functii!D:E,2,FALSE),\"-\")","v":"-"}]
[null,473,null,null,null,null,null,null,null,", ",", , , ID , ",{"$f":"IFERROR(VLOOKUP(J478,[1]functii!D:E,2,FALSE),\"-\")","v":"-"}]
[null,474,null,null,null,null,null,null,null,", ",", , , ID , ",{"$f":"IFERROR(VLOOKUP(J479,[1]functii!D:E,2,FALSE),\"-\")","v":"-"}]
[null,475,null,null,null,null,null,null,null,", ",", , , ID , ",{"$f":"IFERROR(VLOOKUP(J480,[1]functii!D:E,2,FALSE),\"-\")","v":"-"}]
[null,476,null,null,null,null,null,null,null,", ",", , , ID , ",{"$f":"IFERROR(VLOOKUP(J481,[1]functii!D:E,2,FALSE),\"-\")","v":"-"}]
[null,477,null,null,null,null,null,null,null,", ",", , , ID , ",{"$f":"IFERROR(VLOOKUP(J482,[1]functii!D:E,2,FALSE),\"-\")","v":"-"}]
[null,478,null,null,null,null,null,null,null,", ",", , , ID , ",{"$f":"IFERROR(VLOOKUP(J483,[1]functii!D:E,2,FALSE),\"-\")","v":"-"}]
[null,479,null,null,null,null,null,null,null,", ",", , , ID , ",{"$f":"IFERROR(VLOOKUP(J484,[1]functii!D:E,2,FALSE),\"-\")","v":"-"}]
[null,480,null,null,null,null,null,null,null,", ",", , , ID , ",{"$f":"IFERROR(VLOOKUP(J485,[1]functii!D:E,2,FALSE),\"-\")","v":"-"}]
[null,481,null,null,null,null,null,null,null,", ",", , , ID , ",{"$f":"IFERROR(VLOOKUP(J486,[1]functii!D:E,2,FALSE),\"-\")","v":"-"}]
[null,482,null,null,null,null,null,null,null,", ",", , , ID , ",{"$f":"IFERROR(VLOOKUP(J487,[1]functii!D:E,2,FALSE),\"-\")","v":"-"}]
[null,483,null,null,null,null,null,null,null,", ",", , , ID , ",{"$f":"IFERROR(VLOOKUP(J488,[1]functii!D:E,2,FALSE),\"-\")","v":"-"}]
[null,484,null,null,null,null,null,null,null,", ",", , , ID , ",{"$f":"IFERROR(VLOOKUP(J489,[1]functii!D:E,2,FALSE),\"-\")","v":"-"}]
[null,485,null,null,null,null,null,null,null,", ",", , , ID , ",{"$f":"IFERROR(VLOOKUP(J490,[1]functii!D:E,2,FALSE),\"-\")","v":"-"}]
[null,486,null,null,null,null,null,null,null,", ",", , , ID , ",{"$f":"IFERROR(VLOOKUP(J491,[1]functii!D:E,2,FALSE),\"-\")","v":"-"}]
[null,487,null,null,null,null,null,null,null,", ",", , , ID , ",{"$f":"IFERROR(VLOOKUP(J492,[1]functii!D:E,2,FALSE),\"-\")","v":"-"}]
[null,488,null,null,null,null,null,null,null,", ",", , , ID , ",{"$f":"IFERROR(VLOOKUP(J493,[1]functii!D:E,2,FALSE),\"-\")","v":"-"}]
[null,489,null,null,null,null,null,null,null,", ",", , , ID , ",{"$f":"IFERROR(VLOOKUP(J494,[1]functii!D:E,2,FALSE),\"-\")","v":"-"}]
[null,490,null,null,null,null,null,null,null,", ",", , , ID , ",{"$f":"IFERROR(VLOOKUP(J495,[1]functii!D:E,2,FALSE),\"-\")","v":"-"}]
[null,491,null,null,null,null,null,null,null,", ",", , , ID , ",{"$f":"IFERROR(VLOOKUP(J496,[1]functii!D:E,2,FALSE),\"-\")","v":"-"}]
[null,492,null,null,null,null,null,null,null,", ",", , , ID , ",{"$f":"IFERROR(VLOOKUP(J497,[1]functii!D:E,2,FALSE),\"-\")","v":"-"}]
[null,493,null,null,null,null,null,null,null,", ",", , , ID , ",{"$f":"IFERROR(VLOOKUP(J498,[1]functii!D:E,2,FALSE),\"-\")","v":"-"}]
[null,494,null,null,null,null,null,null,null,", ",", , , ID , ",{"$f":"IFERROR(VLOOKUP(J499,[1]functii!D:E,2,FALSE),\"-\")","v":"-"}]
[null,495,null,null,null,null,null,null,null,", ",", , , ID , ",{"$f":"IFERROR(VLOOKUP(J500,[1]functii!D:E,2,FALSE),\"-\")","v":"-"}]
[null,496,null,null,null,null,null,null,null,", ",", , , ID , ",{"$f":"IFERROR(VLOOKUP(J501,[1]functii!D:E,2,FALSE),\"-\")","v":"-"}]
[null,497,null,null,null,null,null,null,null,", ",", , , ID , ",{"$f":"IFERROR(VLOOKUP(J502,[1]functii!D:E,2,FALSE),\"-\")","v":"-"}]
[null,498,null,null,null,null,null,null,null,", ",", , , ID , ",{"$f":"IFERROR(VLOOKUP(J503,[1]functii!D:E,2,FALSE),\"-\")","v":"-"}]
[null,499,null,null,null,null,null,null,null,", ",", , , ID , ",{"$f":"IFERROR(VLOOKUP(J504,[1]functii!D:E,2,FALSE),\"-\")","v":"-"}]
[null,500,null,null,null,null,null,null,null,", ",", , , ID , ",{"$f":"IFERROR(VLOOKUP(J505,[1]functii!D:E,2,FALSE),\"-\")","v":"-"}]
[null,501,null,null,null,null,null,null,null,", ",", , , ID , ",{"$f":"IFERROR(VLOOKUP(J506,[1]functii!D:E,2,FALSE),\"-\")","v":"-"}]
[null,502,null,null,null,null,null,null,null,", ",", , , ID , ",{"$f":"IFERROR(VLOOKUP(J507,[1]functii!D:E,2,FALSE),\"-\")","v":"-"}]
[null,503,null,null,null,null,null,null,null,", ",", , , ID , ",{"$f":"IFERROR(VLOOKUP(J508,[1]functii!D:E,2,FALSE),\"-\")","v":"-"}]
[null,504,null,null,null,null,null,null,null,", ",", , , ID , ",{"$f":"IFERROR(VLOOKUP(J509,[1]functii!D:E,2,FALSE),\"-\")","v":"-"}]
[null,505,null,null,null,null,null,null,null,", ",", , , ID , ",{"$f":"IFERROR(VLOOKUP(J510,[1]functii!D:E,2,FALSE),\"-\")","v":"-"}]
[null,506,null,null,null,null,null,null,null,", ",", , , ID , ",{"$f":"IFERROR(VLOOKUP(J511,[1]functii!D:E,2,FALSE),\"-\")","v":"-"}]
[null,507,null,null,null,null,null,null,null,", ",", , , ID , ",{"$f":"IFERROR(VLOOKUP(J512,[1]functii!D:E,2,FALSE),\"-\")","v":"-"}]
[null,508,null,null,null,null,null,null,null,", ",", , , ID , ",{"$f":"IFERROR(VLOOKUP(J513,[1]functii!D:E,2,FALSE),\"-\")","v":"-"}]
[null,509,null,null,null,null,null,null,null,", ",", , , ID , ",{"$f":"IFERROR(VLOOKUP(J514,[1]functii!D:E,2,FALSE),\"-\")","v":"-"}]
[null,510,null,null,null,null,null,null,null,", ",", , , ID , ",{"$f":"IFERROR(VLOOKUP(J515,[1]functii!D:E,2,FALSE),\"-\")","v":"-"}]
[null,511,null,null,null,null,null,null,null,", ",", , , ID , ",{"$f":"IFERROR(VLOOKUP(J516,[1]functii!D:E,2,FALSE),\"-\")","v":"-"}]
[null,512,null,null,null,null,null,null,null,", ",", , , ID , ",{"$f":"IFERROR(VLOOKUP(J517,[1]functii!D:E,2,FALSE),\"-\")","v":"-"}]
[null,513,null,null,null,null,null,null,null,{"$f":"_xlfn.CONCAT(D518,\",\",\" \",F518)","v":", "},{"$f":"CONCATENATE(D518,\", \",E518,\", \",F518,\", ID \",G518,\", \",H518)","v":", , , ID , "},{"$f":"IFERROR(VLOOKUP(J518,[1]functii!D:E,2,FALSE),\"-\")","v":"-"}]
[null,514,null,null,null,null,null,null,null,", ",", , , ID , ",{"$f":"IFERROR(VLOOKUP(J519,[1]functii!D:E,2,FALSE),\"-\")","v":"-"}]
[null,515,null,null,null,null,null,null,null,", ",", , , ID , ",{"$f":"IFERROR(VLOOKUP(J520,[1]functii!D:E,2,FALSE),\"-\")","v":"-"}]
[null,516,null,null,null,null,null,null,null,", ",", , , ID , ",{"$f":"IFERROR(VLOOKUP(J521,[1]functii!D:E,2,FALSE),\"-\")","v":"-"}]
[null,517,null,null,null,null,null,null,null,", ",", , , ID , ",{"$f":"IFERROR(VLOOKUP(J522,[1]functii!D:E,2,FALSE),\"-\")","v":"-"}]
[null,518,null,null,null,null,null,null,null,", ",", , , ID , ",{"$f":"IFERROR(VLOOKUP(J523,[1]functii!D:E,2,FALSE),\"-\")","v":"-"}]
[null,519,null,null,null,null,null,null,null,", ",", , , ID , ",{"$f":"IFERROR(VLOOKUP(J524,[1]functii!D:E,2,FALSE),\"-\")","v":"-"}]
[null,520,null,null,null,null,null,null,null,", ",", , , ID , ",{"$f":"IFERROR(VLOOKUP(J525,[1]functii!D:E,2,FALSE),\"-\")","v":"-"}]
[null,521,null,null,null,null,null,null,null,", ",", , , ID , ",{"$f":"IFERROR(VLOOKUP(J526,[1]functii!D:E,2,FALSE),\"-\")","v":"-"}]
[null,522,null,null,null,null,null,null,null,", ",", , , ID , ",{"$f":"IFERROR(VLOOKUP(J527,[1]functii!D:E,2,FALSE),\"-\")","v":"-"}]
[null,523,null,null,null,null,null,null,null,", ",", , , ID , ",{"$f":"IFERROR(VLOOKUP(J528,[1]functii!D:E,2,FALSE),\"-\")","v":"-"}]
[null,524,null,null,null,null,null,null,null,", ",", , , ID , ",{"$f":"IFERROR(VLOOKUP(J529,[1]functii!D:E,2,FALSE),\"-\")","v":"-"}]
[null,525,null,null,null,null,null,null,null,", ",", , , ID , ",{"$f":"IFERROR(VLOOKUP(J530,[1]functii!D:E,2,FALSE),\"-\")","v":"-"}]
[null,526,null,null,null,null,null,null,null,", ",", , , ID , ",{"$f":"IFERROR(VLOOKUP(J531,[1]functii!D:E,2,FALSE),\"-\")","v":"-"}]
[null,527,null,null,null,null,null,null,null,", ",", , , ID , ",{"$f":"IFERROR(VLOOKUP(J532,[1]functii!D:E,2,FALSE),\"-\")","v":"-"}]
[null,528,null,null,null,null,null,null,null,", ",", , , ID , ",{"$f":"IFERROR(VLOOKUP(J533,[1]functii!D:E,2,FALSE),\"-\")","v":"-"}]
[null,529,null,null,null,null,null,null,null,", ",", , , ID , ",{"$f":"IFERROR(VLOOKUP(J534,[1]functii!D:E,2,FALSE),\"-\")","v":"-"}]
[null,530,null,null,null,null,null,null,null,", ",", , , ID , ",{"$f":"IFERROR(VLOOKUP(J535,[1]functii!D:E,2,FALSE),\"-\")","v":"-"}]
[null,531,null,null,null,null,null,null,null,", ",", , , ID , ",{"$f":"IFERROR(VLOOKUP(J536,[1]functii!D:E,2,FALSE),\"-\")","v":"-"}]
[null,532,null,null,null,null,null,null,null,", ",", , , ID , ",{"$f":"IFERROR(VLOOKUP(J537,[1]functii!D:E,2,FALSE),\"-\")","v":"-"}]
[null,533,null,null,null,null,null,null,null,", ",", , , ID , ",{"$f":"IFERROR(VLOOKUP(J538,[1]functii!D:E,2,FALSE),\"-\")","v":"-"}]
[null,534,null,null,null,null,null,null,null,", ",", , , ID , ",{"$f":"IFERROR(VLOOKUP(J539,[1]functii!D:E,2,FALSE),\"-\")","v":"-"}]
[null,535,null,null,null,null,null,null,null,", ",", , , ID , ",{"$f":"IFERROR(VLOOKUP(J540,[1]functii!D:E,2,FALSE),\"-\")","v":"-"}]
[null,536,null,null,null,null,null,null,null,", ",", , , ID , ",{"$f":"IFERROR(VLOOKUP(J541,[1]functii!D:E,2,FALSE),\"-\")","v":"-"}]
[null,537,null,null,null,null,null,null,null,", ",", , , ID , ",{"$f":"IFERROR(VLOOKUP(J542,[1]functii!D:E,2,FALSE),\"-\")","v":"-"}]
[null,538,null,null,null,null,null,null,null,", ",", , , ID , ",{"$f":"IFERROR(VLOOKUP(J543,[1]functii!D:E,2,FALSE),\"-\")","v":"-"}]
[null,539,null,null,null,null,null,null,null,", ",", , , ID , ",{"$f":"IFERROR(VLOOKUP(J544,[1]functii!D:E,2,FALSE),\"-\")","v":"-"}]
[null,540,null,null,null,null,null,null,null,", ",", , , ID , ",{"$f":"IFERROR(VLOOKUP(J545,[1]functii!D:E,2,FALSE),\"-\")","v":"-"}]
[null,541,null,null,null,null,null,null,null,", ",", , , ID , ",{"$f":"IFERROR(VLOOKUP(J546,[1]functii!D:E,2,FALSE),\"-\")","v":"-"}]
[null,542,null,null,null,null,null,null,null,", ",", , , ID , ",{"$f":"IFERROR(VLOOKUP(J547,[1]functii!D:E,2,FALSE),\"-\")","v":"-"}]
[null,543,null,null,null,null,null,null,null,", ",", , , ID , ",{"$f":"IFERROR(VLOOKUP(J548,[1]functii!D:E,2,FALSE),\"-\")","v":"-"}]
[null,544,null,null,null,null,null,null,null,", ",", , , ID , ",{"$f":"IFERROR(VLOOKUP(J549,[1]functii!D:E,2,FALSE),\"-\")","v":"-"}]
[null,545,null,null,null,null,null,null,null,", ",", , , ID , ",{"$f":"IFERROR(VLOOKUP(J550,[1]functii!D:E,2,FALSE),\"-\")","v":"-"}]
[null,546,null,null,null,null,null,null,null,", ",", , , ID , ",{"$f":"IFERROR(VLOOKUP(J551,[1]functii!D:E,2,FALSE),\"-\")","v":"-"}]
[null,547,null,null,null,null,null,null,null,", ",", , , ID , ",{"$f":"IFERROR(VLOOKUP(J552,[1]functii!D:E,2,FALSE),\"-\")","v":"-"}]
[null,548,null,null,null,null,null,null,null,", ",", , , ID , ",{"$f":"IFERROR(VLOOKUP(J553,[1]functii!D:E,2,FALSE),\"-\")","v":"-"}]
[null,549,null,null,null,null,null,null,null,", ",", , , ID , ",{"$f":"IFERROR(VLOOKUP(J554,[1]functii!D:E,2,FALSE),\"-\")","v":"-"}]
[null,550,null,null,null,null,null,null,null,", ",", , , ID , ",{"$f":"IFERROR(VLOOKUP(J555,[1]functii!D:E,2,FALSE),\"-\")","v":"-"}]
[null,551,null,null,null,null,null,null,null,", ",", , , ID , ",{"$f":"IFERROR(VLOOKUP(J556,[1]functii!D:E,2,FALSE),\"-\")","v":"-"}]
[null,552,null,null,null,null,null,null,null,", ",", , , ID , ",{"$f":"IFERROR(VLOOKUP(J557,[1]functii!D:E,2,FALSE),\"-\")","v":"-"}]
[null,553,null,null,null,null,null,null,null,", ",", , , ID , ",{"$f":"IFERROR(VLOOKUP(J558,[1]functii!D:E,2,FALSE),\"-\")","v":"-"}]
[null,554,null,null,null,null,null,null,null,", ",", , , ID , ",{"$f":"IFERROR(VLOOKUP(J559,[1]functii!D:E,2,FALSE),\"-\")","v":"-"}]
[null,555,null,null,null,null,null,null,null,", ",", , , ID , ",{"$f":"IFERROR(VLOOKUP(J560,[1]functii!D:E,2,FALSE),\"-\")","v":"-"}]
[null,556,null,null,null,null,null,null,null,", ",", , , ID , ",{"$f":"IFERROR(VLOOKUP(J561,[1]functii!D:E,2,FALSE),\"-\")","v":"-"}]
[null,557,null,null,null,null,null,null,null,", ",", , , ID , ",{"$f":"IFERROR(VLOOKUP(J562,[1]functii!D:E,2,FALSE),\"-\")","v":"-"}]
[null,558,null,null,null,null,null,null,null,", ",", , , ID , ",{"$f":"IFERROR(VLOOKUP(J563,[1]functii!D:E,2,FALSE),\"-\")","v":"-"}]
[null,559,null,null,null,null,null,null,null,", ",", , , ID , ",{"$f":"IFERROR(VLOOKUP(J564,[1]functii!D:E,2,FALSE),\"-\")","v":"-"}]
[null,560,null,null,null,null,null,null,null,", ",", , , ID , ",{"$f":"IFERROR(VLOOKUP(J565,[1]functii!D:E,2,FALSE),\"-\")","v":"-"}]
[null,561,null,null,null,null,null,null,null,", ",", , , ID , ",{"$f":"IFERROR(VLOOKUP(J566,[1]functii!D:E,2,FALSE),\"-\")","v":"-"}]
[null,562,null,null,null,null,null,null,null,", ",", , , ID , ",{"$f":"IFERROR(VLOOKUP(J567,[1]functii!D:E,2,FALSE),\"-\")","v":"-"}]
[null,563,null,null,null,null,null,null,null,", ",", , , ID , ",{"$f":"IFERROR(VLOOKUP(J568,[1]functii!D:E,2,FALSE),\"-\")","v":"-"}]
[null,564,null,null,null,null,null,null,null,", ",", , , ID , ",{"$f":"IFERROR(VLOOKUP(J569,[1]functii!D:E,2,FALSE),\"-\")","v":"-"}]
[null,565,null,null,null,null,null,null,null,", ",", , , ID , ",{"$f":"IFERROR(VLOOKUP(J570,[1]functii!D:E,2,FALSE),\"-\")","v":"-"}]
[null,566,null,null,null,null,null,null,null,", ",", , , ID , ",{"$f":"IFERROR(VLOOKUP(J571,[1]functii!D:E,2,FALSE),\"-\")","v":"-"}]
[null,567,null,null,null,null,null,null,null,", ",", , , ID , ",{"$f":"IFERROR(VLOOKUP(J572,[1]functii!D:E,2,FALSE),\"-\")","v":"-"}]
[null,568,null,null,null,null,null,null,null,", ",", , , ID , ",{"$f":"IFERROR(VLOOKUP(J573,[1]functii!D:E,2,FALSE),\"-\")","v":"-"}]
[null,569,null,null,null,null,null,null,null,", ",", , , ID , ",{"$f":"IFERROR(VLOOKUP(J574,[1]functii!D:E,2,FALSE),\"-\")","v":"-"}]
[null,570,null,null,null,null,null,null,null,", ",", , , ID , ",{"$f":"IFERROR(VLOOKUP(J575,[1]functii!D:E,2,FALSE),\"-\")","v":"-"}]
[null,571,null,null,null,null,null,null,null,", ",", , , ID , ",{"$f":"IFERROR(VLOOKUP(J576,[1]functii!D:E,2,FALSE),\"-\")","v":"-"}]
[null,572,null,null,null,null,null,null,null,", ",", , , ID , ",{"$f":"IFERROR(VLOOKUP(J577,[1]functii!D:E,2,FALSE),\"-\")","v":"-"}]
[null,573,null,null,null,null,null,null,null,", ",", , , ID , ",{"$f":"IFERROR(VLOOKUP(J578,[1]functii!D:E,2,FALSE),\"-\")","v":"-"}]
[null,574,null,null,null,null,null,null,null,", ",", , , ID , ",{"$f":"IFERROR(VLOOKUP(J579,[1]functii!D:E,2,FALSE),\"-\")","v":"-"}]
[null,575,null,null,null,null,null,null,null,", ",", , , ID , ",{"$f":"IFERROR(VLOOKUP(J580,[1]functii!D:E,2,FALSE),\"-\")","v":"-"}]
[null,576,null,null,null,null,null,null,null,", ",", , , ID , ",{"$f":"IFERROR(VLOOKUP(J581,[1]functii!D:E,2,FALSE),\"-\")","v":"-"}]
[null,577,null,null,null,null,null,null,null,{"$f":"_xlfn.CONCAT(D582,\",\",\" \",F582)","v":", "},{"$f":"CONCATENATE(D582,\", \",E582,\", \",F582,\", ID \",G582,\", \",H582)","v":", , , ID , "},{"$f":"IFERROR(VLOOKUP(J582,[1]functii!D:E,2,FALSE),\"-\")","v":"-"}]
[null,578,null,null,null,null,null,null,null,", ",", , , ID , ",{"$f":"IFERROR(VLOOKUP(J583,[1]functii!D:E,2,FALSE),\"-\")","v":"-"}]
[null,579,null,null,null,null,null,null,null,", ",", , , ID , ",{"$f":"IFERROR(VLOOKUP(J584,[1]functii!D:E,2,FALSE),\"-\")","v":"-"}]
[null,580,null,null,null,null,null,null,null,", ",", , , ID , ",{"$f":"IFERROR(VLOOKUP(J585,[1]functii!D:E,2,FALSE),\"-\")","v":"-"}]
[null,581,null,null,null,null,null,null,null,", ",", , , ID , ",{"$f":"IFERROR(VLOOKUP(J586,[1]functii!D:E,2,FALSE),\"-\")","v":"-"}]
[null,582,null,null,null,null,null,null,null,", ",", , , ID , ",{"$f":"IFERROR(VLOOKUP(J587,[1]functii!D:E,2,FALSE),\"-\")","v":"-"}]
[null,583,null,null,null,null,null,null,null,", ",", , , ID , ",{"$f":"IFERROR(VLOOKUP(J588,[1]functii!D:E,2,FALSE),\"-\")","v":"-"}]
[null,584,null,null,null,null,null,null,null,", ",", , , ID , ",{"$f":"IFERROR(VLOOKUP(J589,[1]functii!D:E,2,FALSE),\"-\")","v":"-"}]
[null,585,null,null,null,null,null,null,null,", ",", , , ID , ",{"$f":"IFERROR(VLOOKUP(J590,[1]functii!D:E,2,FALSE),\"-\")","v":"-"}]
[null,586,null,null,null,null,null,null,null,", ",", , , ID , ",{"$f":"IFERROR(VLOOKUP(J591,[1]functii!D:E,2,FALSE),\"-\")","v":"-"}]
[null,587,null,null,null,null,null,null,null,", ",", , , ID , ",{"$f":"IFERROR(VLOOKUP(J592,[1]functii!D:E,2,FALSE),\"-\")","v":"-"}]
[null,588,null,null,null,null,null,null,null,", ",", , , ID , ",{"$f":"IFERROR(VLOOKUP(J593,[1]functii!D:E,2,FALSE),\"-\")","v":"-"}]
[null,589,null,null,null,null,null,null,null,", ",", , , ID , ",{"$f":"IFERROR(VLOOKUP(J594,[1]functii!D:E,2,FALSE),\"-\")","v":"-"}]
[null,590,null,null,null,null,null,null,null,", ",", , , ID , ",{"$f":"IFERROR(VLOOKUP(J595,[1]functii!D:E,2,FALSE),\"-\")","v":"-"}]
[null,591,null,null,null,null,null,null,null,", ",", , , ID , ",{"$f":"IFERROR(VLOOKUP(J596,[1]functii!D:E,2,FALSE),\"-\")","v":"-"}]
[null,592,null,null,null,null,null,null,null,", ",", , , ID , ",{"$f":"IFERROR(VLOOKUP(J597,[1]functii!D:E,2,FALSE),\"-\")","v":"-"}]
[null,593,null,null,null,null,null,null,null,", ",", , , ID , ",{"$f":"IFERROR(VLOOKUP(J598,[1]functii!D:E,2,FALSE),\"-\")","v":"-"}]
[null,594,null,null,null,null,null,null,null,", ",", , , ID , ",{"$f":"IFERROR(VLOOKUP(J599,[1]functii!D:E,2,FALSE),\"-\")","v":"-"}]
[null,595,null,null,null,null,null,null,null,", ",", , , ID , ",{"$f":"IFERROR(VLOOKUP(J600,[1]functii!D:E,2,FALSE),\"-\")","v":"-"}]
[null,596,null,null,null,null,null,null,null,", ",", , , ID , ",{"$f":"IFERROR(VLOOKUP(J601,[1]functii!D:E,2,FALSE),\"-\")","v":"-"}]
[null,597,null,null,null,null,null,null,null,", ",", , , ID , ",{"$f":"IFERROR(VLOOKUP(J602,[1]functii!D:E,2,FALSE),\"-\")","v":"-"}]
[null,598,null,null,null,null,null,null,null,", ",", , , ID , ",{"$f":"IFERROR(VLOOKUP(J603,[1]functii!D:E,2,FALSE),\"-\")","v":"-"}]
[null,599,null,null,null,null,null,null,null,", ",", , , ID , ",{"$f":"IFERROR(VLOOKUP(J604,[1]functii!D:E,2,FALSE),\"-\")","v":"-"}]
[null,600,null,null,null,null,null,null,null,", ",", , , ID , ",{"$f":"IFERROR(VLOOKUP(J605,[1]functii!D:E,2,FALSE),\"-\")","v":"-"}]
[null,601,null,null,null,null,null,null,null,", ",", , , ID , ",{"$f":"IFERROR(VLOOKUP(J606,[1]functii!D:E,2,FALSE),\"-\")","v":"-"}]
[null,602,null,null,null,null,null,null,null,", ",", , , ID , ",{"$f":"IFERROR(VLOOKUP(J607,[1]functii!D:E,2,FALSE),\"-\")","v":"-"}]
[null,603,null,null,null,null,null,null,null,", ",", , , ID , ",{"$f":"IFERROR(VLOOKUP(J608,[1]functii!D:E,2,FALSE),\"-\")","v":"-"}]
[null,604,null,null,null,null,null,null,null,", ",", , , ID , ",{"$f":"IFERROR(VLOOKUP(J609,[1]functii!D:E,2,FALSE),\"-\")","v":"-"}]
[null,605,null,null,null,null,null,null,null,", ",", , , ID , ",{"$f":"IFERROR(VLOOKUP(J610,[1]functii!D:E,2,FALSE),\"-\")","v":"-"}]
[null,606,null,null,null,null,null,null,null,", ",", , , ID , ",{"$f":"IFERROR(VLOOKUP(J611,[1]functii!D:E,2,FALSE),\"-\")","v":"-"}]
[null,607,null,null,null,null,null,null,null,", ",", , , ID , ",{"$f":"IFERROR(VLOOKUP(J612,[1]functii!D:E,2,FALSE),\"-\")","v":"-"}]
[null,608,null,null,null,null,null,null,null,", ",", , , ID , ",{"$f":"IFERROR(VLOOKUP(J613,[1]functii!D:E,2,FALSE),\"-\")","v":"-"}]
[null,609,null,null,null,null,null,null,null,", ",", , , ID , ",{"$f":"IFERROR(VLOOKUP(J614,[1]functii!D:E,2,FALSE),\"-\")","v":"-"}]
[null,610,null,null,null,null,null,null,null,", ",", , , ID , ",{"$f":"IFERROR(VLOOKUP(J615,[1]functii!D:E,2,FALSE),\"-\")","v":"-"}]
[null,611,null,null,null,null,null,null,null,", ",", , , ID , ",{"$f":"IFERROR(VLOOKUP(J616,[1]functii!D:E,2,FALSE),\"-\")","v":"-"}]
[null,612,null,null,null,null,null,null,null,", ",", , , ID , ",{"$f":"IFERROR(VLOOKUP(J617,[1]functii!D:E,2,FALSE),\"-\")","v":"-"}]
[null,613,null,null,null,null,null,null,null,", ",", , , ID , ",{"$f":"IFERROR(VLOOKUP(J618,[1]functii!D:E,2,FALSE),\"-\")","v":"-"}]
[null,614,null,null,null,null,null,null,null,", ",", , , ID , ",{"$f":"IFERROR(VLOOKUP(J619,[1]functii!D:E,2,FALSE),\"-\")","v":"-"}]
[null,615,null,null,null,null,null,null,null,", ",", , , ID , ",{"$f":"IFERROR(VLOOKUP(J620,[1]functii!D:E,2,FALSE),\"-\")","v":"-"}]
[null,616,null,null,null,null,null,null,null,", ",", , , ID , ",{"$f":"IFERROR(VLOOKUP(J621,[1]functii!D:E,2,FALSE),\"-\")","v":"-"}]
[null,617,null,null,null,null,null,null,null,", ",", , , ID , ",{"$f":"IFERROR(VLOOKUP(J622,[1]functii!D:E,2,FALSE),\"-\")","v":"-"}]
[null,618,null,null,null,null,null,null,null,", ",", , , ID , ",{"$f":"IFERROR(VLOOKUP(J623,[1]functii!D:E,2,FALSE),\"-\")","v":"-"}]
[null,619,null,null,null,null,null,null,null,", ",", , , ID , ",{"$f":"IFERROR(VLOOKUP(J624,[1]functii!D:E,2,FALSE),\"-\")","v":"-"}]
[null,620,null,null,null,null,null,null,null,", ",", , , ID , ",{"$f":"IFERROR(VLOOKUP(J625,[1]functii!D:E,2,FALSE),\"-\")","v":"-"}]
[null,621,null,null,null,null,null,null,null,", ",", , , ID , ",{"$f":"IFERROR(VLOOKUP(J626,[1]functii!D:E,2,FALSE),\"-\")","v":"-"}]
[null,622,null,null,null,null,null,null,null,", ",", , , ID , ",{"$f":"IFERROR(VLOOKUP(J627,[1]functii!D:E,2,FALSE),\"-\")","v":"-"}]
[null,623,null,null,null,null,null,null,null,", ",", , , ID , ",{"$f":"IFERROR(VLOOKUP(J628,[1]functii!D:E,2,FALSE),\"-\")","v":"-"}]
[null,624,null,null,null,null,null,null,null,", ",", , , ID , ",{"$f":"IFERROR(VLOOKUP(J629,[1]functii!D:E,2,FALSE),\"-\")","v":"-"}]
[null,625,null,null,null,null,null,null,null,", ",", , , ID , ",{"$f":"IFERROR(VLOOKUP(J630,[1]functii!D:E,2,FALSE),\"-\")","v":"-"}]
[null,626,null,null,null,null,null,null,null,", ",", , , ID , ",{"$f":"IFERROR(VLOOKUP(J631,[1]functii!D:E,2,FALSE),\"-\")","v":"-"}]
[null,627,null,null,null,null,null,null,null,", ",", , , ID , ",{"$f":"IFERROR(VLOOKUP(J632,[1]functii!D:E,2,FALSE),\"-\")","v":"-"}]
[null,628,null,null,null,null,null,null,null,", ",", , , ID , ",{"$f":"IFERROR(VLOOKUP(J633,[1]functii!D:E,2,FALSE),\"-\")","v":"-"}]
[null,629,null,null,null,null,null,null,null,", ",", , , ID , ",{"$f":"IFERROR(VLOOKUP(J634,[1]functii!D:E,2,FALSE),\"-\")","v":"-"}]
[null,630,null,null,null,null,null,null,null,", ",", , , ID , ",{"$f":"IFERROR(VLOOKUP(J635,[1]functii!D:E,2,FALSE),\"-\")","v":"-"}]
[null,631,null,null,null,null,null,null,null,", ",", , , ID , ",{"$f":"IFERROR(VLOOKUP(J636,[1]functii!D:E,2,FALSE),\"-\")","v":"-"}]
[null,632,null,null,null,null,null,null,null,", ",", , , ID , ",{"$f":"IFERROR(VLOOKUP(J637,[1]functii!D:E,2,FALSE),\"-\")","v":"-"}]
[null,633,null,null,null,null,null,null,null,", ",", , , ID , ",{"$f":"IFERROR(VLOOKUP(J638,[1]functii!D:E,2,FALSE),\"-\")","v":"-"}]
[null,634,null,null,null,null,null,null,null,", ",", , , ID , ",{"$f":"IFERROR(VLOOKUP(J639,[1]functii!D:E,2,FALSE),\"-\")","v":"-"}]
[null,635,null,null,null,null,null,null,null,", ",", , , ID , ",{"$f":"IFERROR(VLOOKUP(J640,[1]functii!D:E,2,FALSE),\"-\")","v":"-"}]
[null,636,null,null,null,null,null,null,null,", ",", , , ID , ",{"$f":"IFERROR(VLOOKUP(J641,[1]functii!D:E,2,FALSE),\"-\")","v":"-"}]
[null,637,null,null,null,null,null,null,null,", ",", , , ID , ",{"$f":"IFERROR(VLOOKUP(J642,[1]functii!D:E,2,FALSE),\"-\")","v":"-"}]
[null,638,null,null,null,null,null,null,null,", ",", , , ID , ",{"$f":"IFERROR(VLOOKUP(J643,[1]functii!D:E,2,FALSE),\"-\")","v":"-"}]
[null,639,null,null,null,null,null,null,null,", ",", , , ID , ",{"$f":"IFERROR(VLOOKUP(J644,[1]functii!D:E,2,FALSE),\"-\")","v":"-"}]
[null,640,null,null,null,null,null,null,null,", ",", , , ID , ",{"$f":"IFERROR(VLOOKUP(J645,[1]functii!D:E,2,FALSE),\"-\")","v":"-"}]
[null,641,null,null,null,null,null,null,null,{"$f":"_xlfn.CONCAT(D646,\",\",\" \",F646)","v":", "},{"$f":"CONCATENATE(D646,\", \",E646,\", \",F646,\", ID \",G646,\", \",H646)","v":", , , ID , "},{"$f":"IFERROR(VLOOKUP(J646,[1]functii!D:E,2,FALSE),\"-\")","v":"-"}]
[null,642,null,null,null,null,null,null,null,", ",", , , ID , ",{"$f":"IFERROR(VLOOKUP(J647,[1]functii!D:E,2,FALSE),\"-\")","v":"-"}]
[null,643,null,null,null,null,null,null,null,", ",", , , ID , ",{"$f":"IFERROR(VLOOKUP(J648,[1]functii!D:E,2,FALSE),\"-\")","v":"-"}]
[null,644,null,null,null,null,null,null,null,", ",", , , ID , ",{"$f":"IFERROR(VLOOKUP(J649,[1]functii!D:E,2,FALSE),\"-\")","v":"-"}]
[null,645,null,null,null,null,null,null,null,", ",", , , ID , ",{"$f":"IFERROR(VLOOKUP(J650,[1]functii!D:E,2,FALSE),\"-\")","v":"-"}]
[null,646,null,null,null,null,null,null,null,", ",", , , ID , ",{"$f":"IFERROR(VLOOKUP(J651,[1]functii!D:E,2,FALSE),\"-\")","v":"-"}]
[null,647,null,null,null,null,null,null,null,", ",", , , ID , ",{"$f":"IFERROR(VLOOKUP(J652,[1]functii!D:E,2,FALSE),\"-\")","v":"-"}]
[null,648,null,null,null,null,null,null,null,", ",", , , ID , ",{"$f":"IFERROR(VLOOKUP(J653,[1]functii!D:E,2,FALSE),\"-\")","v":"-"}]
[null,649,null,null,null,null,null,null,null,", ",", , , ID , ",{"$f":"IFERROR(VLOOKUP(J654,[1]functii!D:E,2,FALSE),\"-\")","v":"-"}]
[null,650,null,null,null,null,null,null,null,", ",", , , ID , ",{"$f":"IFERROR(VLOOKUP(J655,[1]functii!D:E,2,FALSE),\"-\")","v":"-"}]
[null,651,null,null,null,null,null,null,null,", ",", , , ID , ",{"$f":"IFERROR(VLOOKUP(J656,[1]functii!D:E,2,FALSE),\"-\")","v":"-"}]
[null,652,null,null,null,null,null,null,null,", ",", , , ID , ",{"$f":"IFERROR(VLOOKUP(J657,[1]functii!D:E,2,FALSE),\"-\")","v":"-"}]
[null,653,null,null,null,null,null,null,null,", ",", , , ID , ",{"$f":"IFERROR(VLOOKUP(J658,[1]functii!D:E,2,FALSE),\"-\")","v":"-"}]
[null,654,null,null,null,null,null,null,null,", ",", , , ID , ",{"$f":"IFERROR(VLOOKUP(J659,[1]functii!D:E,2,FALSE),\"-\")","v":"-"}]
[null,655,null,null,null,null,null,null,null,", ",", , , ID , ",{"$f":"IFERROR(VLOOKUP(J660,[1]functii!D:E,2,FALSE),\"-\")","v":"-"}]
[null,656,null,null,null,null,null,null,null,", ",", , , ID , ",{"$f":"IFERROR(VLOOKUP(J661,[1]functii!D:E,2,FALSE),\"-\")","v":"-"}]
[null,657,null,null,null,null,null,null,null,", ",", , , ID , ",{"$f":"IFERROR(VLOOKUP(J662,[1]functii!D:E,2,FALSE),\"-\")","v":"-"}]
[null,658,null,null,null,null,null,null,null,", ",", , , ID , ",{"$f":"IFERROR(VLOOKUP(J663,[1]functii!D:E,2,FALSE),\"-\")","v":"-"}]
[null,659,null,null,null,null,null,null,null,", ",", , , ID , ",{"$f":"IFERROR(VLOOKUP(J664,[1]functii!D:E,2,FALSE),\"-\")","v":"-"}]
[null,660,null,null,null,null,null,null,null,", ",", , , ID , ",{"$f":"IFERROR(VLOOKUP(J665,[1]functii!D:E,2,FALSE),\"-\")","v":"-"}]
[null,661,null,null,null,null,null,null,null,", ",", , , ID , ",{"$f":"IFERROR(VLOOKUP(J666,[1]functii!D:E,2,FALSE),\"-\")","v":"-"}]
[null,662,null,null,null,null,null,null,null,", ",", , , ID , ",{"$f":"IFERROR(VLOOKUP(J667,[1]functii!D:E,2,FALSE),\"-\")","v":"-"}]
[null,663,null,null,null,null,null,null,null,", ",", , , ID , ",{"$f":"IFERROR(VLOOKUP(J668,[1]functii!D:E,2,FALSE),\"-\")","v":"-"}]
[null,664,null,null,null,null,null,null,null,", ",", , , ID , ",{"$f":"IFERROR(VLOOKUP(J669,[1]functii!D:E,2,FALSE),\"-\")","v":"-"}]
[null,665,null,null,null,null,null,null,null,", ",", , , ID , ",{"$f":"IFERROR(VLOOKUP(J670,[1]functii!D:E,2,FALSE),\"-\")","v":"-"}]
[null,666,null,null,null,null,null,null,null,", ",", , , ID , ",{"$f":"IFERROR(VLOOKUP(J671,[1]functii!D:E,2,FALSE),\"-\")","v":"-"}]
[null,667,null,null,null,null,null,null,null,", ",", , , ID , ",{"$f":"IFERROR(VLOOKUP(J672,[1]functii!D:E,2,FALSE),\"-\")","v":"-"}]
[null,668,null,null,null,null,null,null,null,", ",", , , ID , ",{"$f":"IFERROR(VLOOKUP(J673,[1]functii!D:E,2,FALSE),\"-\")","v":"-"}]
[null,669,null,null,null,null,null,null,null,", ",", , , ID , ",{"$f":"IFERROR(VLOOKUP(J674,[1]functii!D:E,2,FALSE),\"-\")","v":"-"}]
[null,670,null,null,null,null,null,null,null,", ",", , , ID , ",{"$f":"IFERROR(VLOOKUP(J675,[1]functii!D:E,2,FALSE),\"-\")","v":"-"}]
[null,671,null,null,null,null,null,null,null,", ",", , , ID , ",{"$f":"IFERROR(VLOOKUP(J676,[1]functii!D:E,2,FALSE),\"-\")","v":"-"}]
[null,672,null,null,null,null,null,null,null,", ",", , , ID , ",{"$f":"IFERROR(VLOOKUP(J677,[1]functii!D:E,2,FALSE),\"-\")","v":"-"}]
[null,673,null,null,null,null,null,null,null,", ",", , , ID , ",{"$f":"IFERROR(VLOOKUP(J678,[1]functii!D:E,2,FALSE),\"-\")","v":"-"}]
[null,674,null,null,null,null,null,null,null,", ",", , , ID , ",{"$f":"IFERROR(VLOOKUP(J679,[1]functii!D:E,2,FALSE),\"-\")","v":"-"}]
[null,675,null,null,null,null,null,null,null,", ",", , , ID , ",{"$f":"IFERROR(VLOOKUP(J680,[1]functii!D:E,2,FALSE),\"-\")","v":"-"}]
[null,676,null,null,null,null,null,null,null,", ",", , , ID , ",{"$f":"IFERROR(VLOOKUP(J681,[1]functii!D:E,2,FALSE),\"-\")","v":"-"}]
[null,677,null,null,null,null,null,null,null,", ",", , , ID , ",{"$f":"IFERROR(VLOOKUP(J682,[1]functii!D:E,2,FALSE),\"-\")","v":"-"}]
[null,678,null,null,null,null,null,null,null,", ",", , , ID , ",{"$f":"IFERROR(VLOOKUP(J683,[1]functii!D:E,2,FALSE),\"-\")","v":"-"}]
[null,679,null,null,null,null,null,null,null,", ",", , , ID , ",{"$f":"IFERROR(VLOOKUP(J684,[1]functii!D:E,2,FALSE),\"-\")","v":"-"}]
[null,680,null,null,null,null,null,null,null,", ",", , , ID , ",{"$f":"IFERROR(VLOOKUP(J685,[1]functii!D:E,2,FALSE),\"-\")","v":"-"}]
[null,681,null,null,null,null,null,null,null,", ",", , , ID , ",{"$f":"IFERROR(VLOOKUP(J686,[1]functii!D:E,2,FALSE),\"-\")","v":"-"}]
[null,682,null,null,null,null,null,null,null,", ",", , , ID , ",{"$f":"IFERROR(VLOOKUP(J687,[1]functii!D:E,2,FALSE),\"-\")","v":"-"}]
[null,683,null,null,null,null,null,null,null,", ",", , , ID , ",{"$f":"IFERROR(VLOOKUP(J688,[1]functii!D:E,2,FALSE),\"-\")","v":"-"}]
[null,684,null,null,null,null,null,null,null,", ",", , , ID , ",{"$f":"IFERROR(VLOOKUP(J689,[1]functii!D:E,2,FALSE),\"-\")","v":"-"}]
[null,685,null,null,null,null,null,null,null,", ",", , , ID , ",{"$f":"IFERROR(VLOOKUP(J690,[1]functii!D:E,2,FALSE),\"-\")","v":"-"}]
[null,686,null,null,null,null,null,null,null,", ",", , , ID , ",{"$f":"IFERROR(VLOOKUP(J691,[1]functii!D:E,2,FALSE),\"-\")","v":"-"}]
[null,687,null,null,null,null,null,null,null,", ",", , , ID , ",{"$f":"IFERROR(VLOOKUP(J692,[1]functii!D:E,2,FALSE),\"-\")","v":"-"}]
[null,688,null,null,null,null,null,null,null,", ",", , , ID , ",{"$f":"IFERROR(VLOOKUP(J693,[1]functii!D:E,2,FALSE),\"-\")","v":"-"}]
[null,689,null,null,null,null,null,null,null,", ",", , , ID , ",{"$f":"IFERROR(VLOOKUP(J694,[1]functii!D:E,2,FALSE),\"-\")","v":"-"}]
[null,690,null,null,null,null,null,null,null,", ",", , , ID , ",{"$f":"IFERROR(VLOOKUP(J695,[1]functii!D:E,2,FALSE),\"-\")","v":"-"}]
[null,691,null,null,null,null,null,null,null,", ",", , , ID , ",{"$f":"IFERROR(VLOOKUP(J696,[1]functii!D:E,2,FALSE),\"-\")","v":"-"}]
[null,692,null,null,null,null,null,null,null,", ",", , , ID , ",{"$f":"IFERROR(VLOOKUP(J697,[1]functii!D:E,2,FALSE),\"-\")","v":"-"}]
[null,693,null,null,null,null,null,null,null,", ",", , , ID , ",{"$f":"IFERROR(VLOOKUP(J698,[1]functii!D:E,2,FALSE),\"-\")","v":"-"}]
[null,694,null,null,null,null,null,null,null,", ",", , , ID , ",{"$f":"IFERROR(VLOOKUP(J699,[1]functii!D:E,2,FALSE),\"-\")","v":"-"}]
[null,695,null,null,null,null,null,null,null,", ",", , , ID , ",{"$f":"IFERROR(VLOOKUP(J700,[1]functii!D:E,2,FALSE),\"-\")","v":"-"}]
[null,696,null,null,null,null,null,null,null,", ",", , , ID , ",{"$f":"IFERROR(VLOOKUP(J701,[1]functii!D:E,2,FALSE),\"-\")","v":"-"}]
[null,697,null,null,null,null,null,null,null,", ",", , , ID , ",{"$f":"IFERROR(VLOOKUP(J702,[1]functii!D:E,2,FALSE),\"-\")","v":"-"}]
[null,698,null,null,null,null,null,null,null,", ",", , , ID , ",{"$f":"IFERROR(VLOOKUP(J703,[1]functii!D:E,2,FALSE),\"-\")","v":"-"}]
[null,699,null,null,null,null,null,null,null,", ",", , , ID , ",{"$f":"IFERROR(VLOOKUP(J704,[1]functii!D:E,2,FALSE),\"-\")","v":"-"}]
[null,700,null,null,null,null,null,null,null,", ",", , , ID , ",{"$f":"IFERROR(VLOOKUP(J705,[1]functii!D:E,2,FALSE),\"-\")","v":"-"}]
[null,701,null,null,null,null,null,null,null,", ",", , , ID , ",{"$f":"IFERROR(VLOOKUP(J706,[1]functii!D:E,2,FALSE),\"-\")","v":"-"}]
[null,702,null,null,null,null,null,null,null,", ",", , , ID , ",{"$f":"IFERROR(VLOOKUP(J707,[1]functii!D:E,2,FALSE),\"-\")","v":"-"}]
[null,703,null,null,null,null,null,null,null,", ",", , , ID , ",{"$f":"IFERROR(VLOOKUP(J708,[1]functii!D:E,2,FALSE),\"-\")","v":"-"}]
[null,704,null,null,null,null,null,null,null,", ",", , , ID , ",{"$f":"IFERROR(VLOOKUP(J709,[1]functii!D:E,2,FALSE),\"-\")","v":"-"}]
[null,705,null,null,null,null,null,null,null,{"$f":"_xlfn.CONCAT(D710,\",\",\" \",F710)","v":", "},{"$f":"CONCATENATE(D710,\", \",E710,\", \",F710,\", ID \",G710,\", \",H710)","v":", , , ID , "},{"$f":"IFERROR(VLOOKUP(J710,[1]functii!D:E,2,FALSE),\"-\")","v":"-"}]
[null,706,null,null,null,null,null,null,null,", ",", , , ID , ",{"$f":"IFERROR(VLOOKUP(J711,[1]functii!D:E,2,FALSE),\"-\")","v":"-"}]
[null,707,null,null,null,null,null,null,null,", ",", , , ID , ",{"$f":"IFERROR(VLOOKUP(J712,[1]functii!D:E,2,FALSE),\"-\")","v":"-"}]
[null,708,null,null,null,null,null,null,null,", ",", , , ID , ",{"$f":"IFERROR(VLOOKUP(J713,[1]functii!D:E,2,FALSE),\"-\")","v":"-"}]
[null,709,null,null,null,null,null,null,null,", ",", , , ID , ",{"$f":"IFERROR(VLOOKUP(J714,[1]functii!D:E,2,FALSE),\"-\")","v":"-"}]
[null,710,null,null,null,null,null,null,null,", ",", , , ID , ",{"$f":"IFERROR(VLOOKUP(J715,[1]functii!D:E,2,FALSE),\"-\")","v":"-"}]
[null,711,null,null,null,null,null,null,null,", ",", , , ID , ",{"$f":"IFERROR(VLOOKUP(J716,[1]functii!D:E,2,FALSE),\"-\")","v":"-"}]
[null,712,null,null,null,null,null,null,null,", ",", , , ID , ",{"$f":"IFERROR(VLOOKUP(J717,[1]functii!D:E,2,FALSE),\"-\")","v":"-"}]
[null,713,null,null,null,null,null,null,null,", ",", , , ID , ",{"$f":"IFERROR(VLOOKUP(J718,[1]functii!D:E,2,FALSE),\"-\")","v":"-"}]
[null,714,null,null,null,null,null,null,null,", ",", , , ID , ",{"$f":"IFERROR(VLOOKUP(J719,[1]functii!D:E,2,FALSE),\"-\")","v":"-"}]
[null,715,null,null,null,null,null,null,null,", ",", , , ID , ",{"$f":"IFERROR(VLOOKUP(J720,[1]functii!D:E,2,FALSE),\"-\")","v":"-"}]
[null,716,null,null,null,null,null,null,null,", ",", , , ID , ",{"$f":"IFERROR(VLOOKUP(J721,[1]functii!D:E,2,FALSE),\"-\")","v":"-"}]
[null,717,null,null,null,null,null,null,null,", ",", , , ID , ",{"$f":"IFERROR(VLOOKUP(J722,[1]functii!D:E,2,FALSE),\"-\")","v":"-"}]
[null,718,null,null,null,null,null,null,null,", ",", , , ID , ",{"$f":"IFERROR(VLOOKUP(J723,[1]functii!D:E,2,FALSE),\"-\")","v":"-"}]
[null,719,null,null,null,null,null,null,null,", ",", , , ID , ",{"$f":"IFERROR(VLOOKUP(J724,[1]functii!D:E,2,FALSE),\"-\")","v":"-"}]
[null,720,null,null,null,null,null,null,null,", ",", , , ID , ",{"$f":"IFERROR(VLOOKUP(J725,[1]functii!D:E,2,FALSE),\"-\")","v":"-"}]
[null,721,null,null,null,null,null,null,null,", ",", , , ID , ",{"$f":"IFERROR(VLOOKUP(J726,[1]functii!D:E,2,FALSE),\"-\")","v":"-"}]
[null,722,null,null,null,null,null,null,null,", ",", , , ID , ",{"$f":"IFERROR(VLOOKUP(J727,[1]functii!D:E,2,FALSE),\"-\")","v":"-"}]
[null,723,null,null,null,null,null,null,null,", ",", , , ID , ",{"$f":"IFERROR(VLOOKUP(J728,[1]functii!D:E,2,FALSE),\"-\")","v":"-"}]
[null,724,null,null,null,null,null,null,null,", ",", , , ID , ",{"$f":"IFERROR(VLOOKUP(J729,[1]functii!D:E,2,FALSE),\"-\")","v":"-"}]
[null,725,null,null,null,null,null,null,null,", ",", , , ID , ",{"$f":"IFERROR(VLOOKUP(J730,[1]functii!D:E,2,FALSE),\"-\")","v":"-"}]
[null,726,null,null,null,null,null,null,null,", ",", , , ID , ",{"$f":"IFERROR(VLOOKUP(J731,[1]functii!D:E,2,FALSE),\"-\")","v":"-"}]
[null,727,null,null,null,null,null,null,null,", ",", , , ID , ",{"$f":"IFERROR(VLOOKUP(J732,[1]functii!D:E,2,FALSE),\"-\")","v":"-"}]
[null,728,null,null,null,null,null,null,null,", ",", , , ID , ",{"$f":"IFERROR(VLOOKUP(J733,[1]functii!D:E,2,FALSE),\"-\")","v":"-"}]
[null,729,null,null,null,null,null,null,null,", ",", , , ID , ",{"$f":"IFERROR(VLOOKUP(J734,[1]functii!D:E,2,FALSE),\"-\")","v":"-"}]
[null,730,null,null,null,null,null,null,null,", ",", , , ID , ",{"$f":"IFERROR(VLOOKUP(J735,[1]functii!D:E,2,FALSE),\"-\")","v":"-"}]
[null,731,null,null,null,null,null,null,null,", ",", , , ID , ",{"$f":"IFERROR(VLOOKUP(J736,[1]functii!D:E,2,FALSE),\"-\")","v":"-"}]
[null,732,null,null,null,null,null,null,null,", ",", , , ID , ",{"$f":"IFERROR(VLOOKUP(J737,[1]functii!D:E,2,FALSE),\"-\")","v":"-"}]
[null,733,null,null,null,null,null,null,null,", ",", , , ID , ",{"$f":"IFERROR(VLOOKUP(J738,[1]functii!D:E,2,FALSE),\"-\")","v":"-"}]
[null,734,null,null,null,null,null,null,null,", ",", , , ID , ",{"$f":"IFERROR(VLOOKUP(J739,[1]functii!D:E,2,FALSE),\"-\")","v":"-"}]
[null,735,null,null,null,null,null,null,null,", ",", , , ID , ",{"$f":"IFERROR(VLOOKUP(J740,[1]functii!D:E,2,FALSE),\"-\")","v":"-"}]
[null,736,null,null,null,null,null,null,null,", ",", , , ID , ",{"$f":"IFERROR(VLOOKUP(J741,[1]functii!D:E,2,FALSE),\"-\")","v":"-"}]
[null,737,null,null,null,null,null,null,null,", ",", , , ID , ",{"$f":"IFERROR(VLOOKUP(J742,[1]functii!D:E,2,FALSE),\"-\")","v":"-"}]
[null,738,null,null,null,null,null,null,null,", ",", , , ID , ",{"$f":"IFERROR(VLOOKUP(J743,[1]functii!D:E,2,FALSE),\"-\")","v":"-"}]
[null,739,null,null,null,null,null,null,null,", ",", , , ID , ",{"$f":"IFERROR(VLOOKUP(J744,[1]functii!D:E,2,FALSE),\"-\")","v":"-"}]
[null,740,null,null,null,null,null,null,null,", ",", , , ID , ",{"$f":"IFERROR(VLOOKUP(J745,[1]functii!D:E,2,FALSE),\"-\")","v":"-"}]
[null,741,null,null,null,null,null,null,null,", ",", , , ID , ",{"$f":"IFERROR(VLOOKUP(J746,[1]functii!D:E,2,FALSE),\"-\")","v":"-"}]
[null,742,null,null,null,null,null,null,null,", ",", , , ID , ",{"$f":"IFERROR(VLOOKUP(J747,[1]functii!D:E,2,FALSE),\"-\")","v":"-"}]
[null,743,null,null,null,null,null,null,null,", ",", , , ID , ",{"$f":"IFERROR(VLOOKUP(J748,[1]functii!D:E,2,FALSE),\"-\")","v":"-"}]
[null,744,null,null,null,null,null,null,null,", ",", , , ID , ",{"$f":"IFERROR(VLOOKUP(J749,[1]functii!D:E,2,FALSE),\"-\")","v":"-"}]
[null,745,null,null,null,null,null,null,null,", ",", , , ID , ",{"$f":"IFERROR(VLOOKUP(J750,[1]functii!D:E,2,FALSE),\"-\")","v":"-"}]
[null,746,null,null,null,null,null,null,null,", ",", , , ID , ",{"$f":"IFERROR(VLOOKUP(J751,[1]functii!D:E,2,FALSE),\"-\")","v":"-"}]
[null,747,null,null,null,null,null,null,null,", ",", , , ID , ",{"$f":"IFERROR(VLOOKUP(J752,[1]functii!D:E,2,FALSE),\"-\")","v":"-"}]
[null,748,null,null,null,null,null,null,null,", ",", , , ID , ",{"$f":"IFERROR(VLOOKUP(J753,[1]functii!D:E,2,FALSE),\"-\")","v":"-"}]
[null,749,null,null,null,null,null,null,null,", ",", , , ID , ",{"$f":"IFERROR(VLOOKUP(J754,[1]functii!D:E,2,FALSE),\"-\")","v":"-"}]
[null,750,null,null,null,null,null,null,null,", ",", , , ID , ",{"$f":"IFERROR(VLOOKUP(J755,[1]functii!D:E,2,FALSE),\"-\")","v":"-"}]
[null,751,null,null,null,null,null,null,null,", ",", , , ID , ",{"$f":"IFERROR(VLOOKUP(J756,[1]functii!D:E,2,FALSE),\"-\")","v":"-"}]
[null,752,null,null,null,null,null,null,null,", ",", , , ID , ",{"$f":"IFERROR(VLOOKUP(J757,[1]functii!D:E,2,FALSE),\"-\")","v":"-"}]
[null,753,null,null,null,null,null,null,null,", ",", , , ID , ",{"$f":"IFERROR(VLOOKUP(J758,[1]functii!D:E,2,FALSE),\"-\")","v":"-"}]
[null,754,null,null,null,null,null,null,null,", ",", , , ID , ",{"$f":"IFERROR(VLOOKUP(J759,[1]functii!D:E,2,FALSE),\"-\")","v":"-"}]
[null,755,null,null,null,null,null,null,null,", ",", , , ID , ",{"$f":"IFERROR(VLOOKUP(J760,[1]functii!D:E,2,FALSE),\"-\")","v":"-"}]
[null,756,null,null,null,null,null,null,null,", ",", , , ID , ",{"$f":"IFERROR(VLOOKUP(J761,[1]functii!D:E,2,FALSE),\"-\")","v":"-"}]
[null,757,null,null,null,null,null,null,null,", ",", , , ID , ",{"$f":"IFERROR(VLOOKUP(J762,[1]functii!D:E,2,FALSE),\"-\")","v":"-"}]
[null,758,null,null,null,null,null,null,null,", ",", , , ID , ",{"$f":"IFERROR(VLOOKUP(J763,[1]functii!D:E,2,FALSE),\"-\")","v":"-"}]
[null,759,null,null,null,null,null,null,null,", ",", , , ID , ",{"$f":"IFERROR(VLOOKUP(J764,[1]functii!D:E,2,FALSE),\"-\")","v":"-"}]
[null,760,null,null,null,null,null,null,null,", ",", , , ID , ",{"$f":"IFERROR(VLOOKUP(J765,[1]functii!D:E,2,FALSE),\"-\")","v":"-"}]
[null,761,null,null,null,null,null,null,null,", ",", , , ID , ",{"$f":"IFERROR(VLOOKUP(J766,[1]functii!D:E,2,FALSE),\"-\")","v":"-"}]
[null,762,null,null,null,null,null,null,null,", ",", , , ID , ",{"$f":"IFERROR(VLOOKUP(J767,[1]functii!D:E,2,FALSE),\"-\")","v":"-"}]
[null,763,null,null,null,null,null,null,null,", ",", , , ID , ",{"$f":"IFERROR(VLOOKUP(J768,[1]functii!D:E,2,FALSE),\"-\")","v":"-"}]
[null,764,null,null,null,null,null,null,null,", ",", , , ID , ",{"$f":"IFERROR(VLOOKUP(J769,[1]functii!D:E,2,FALSE),\"-\")","v":"-"}]
[null,765,null,null,null,null,null,null,null,", ",", , , ID , ",{"$f":"IFERROR(VLOOKUP(J770,[1]functii!D:E,2,FALSE),\"-\")","v":"-"}]
[null,766,null,null,null,null,null,null,null,", ",", , , ID , ",{"$f":"IFERROR(VLOOKUP(J771,[1]functii!D:E,2,FALSE),\"-\")","v":"-"}]
[null,767,null,null,null,null,null,null,null,", ",", , , ID , ",{"$f":"IFERROR(VLOOKUP(J772,[1]functii!D:E,2,FALSE),\"-\")","v":"-"}]
[null,768,null,null,null,null,null,null,null,", ",", , , ID , ",{"$f":"IFERROR(VLOOKUP(J773,[1]functii!D:E,2,FALSE),\"-\")","v":"-"}]
[null,769,null,null,null,null,null,null,null,{"$f":"_xlfn.CONCAT(D774,\",\",\" \",F774)","v":", "},{"$f":"CONCATENATE(D774,\", \",E774,\", \",F774,\", ID \",G774,\", \",H774)","v":", , , ID , "},{"$f":"IFERROR(VLOOKUP(J774,[1]functii!D:E,2,FALSE),\"-\")","v":"-"}]
[null,770,null,null,null,null,null,null,null,", ",", , , ID , ",{"$f":"IFERROR(VLOOKUP(J775,[1]functii!D:E,2,FALSE),\"-\")","v":"-"}]
[null,771,null,null,null,null,null,null,null,", ",", , , ID , ",{"$f":"IFERROR(VLOOKUP(J776,[1]functii!D:E,2,FALSE),\"-\")","v":"-"}]
[null,772,null,null,null,null,null,null,null,", ",", , , ID , ",{"$f":"IFERROR(VLOOKUP(J777,[1]functii!D:E,2,FALSE),\"-\")","v":"-"}]
[null,773,null,null,null,null,null,null,null,", ",", , , ID , ",{"$f":"IFERROR(VLOOKUP(J778,[1]functii!D:E,2,FALSE),\"-\")","v":"-"}]
[null,774,null,null,null,null,null,null,null,", ",", , , ID , ",{"$f":"IFERROR(VLOOKUP(J779,[1]functii!D:E,2,FALSE),\"-\")","v":"-"}]
[null,775,null,null,null,null,null,null,null,", ",", , , ID , ",{"$f":"IFERROR(VLOOKUP(J780,[1]functii!D:E,2,FALSE),\"-\")","v":"-"}]
[null,776,null,null,null,null,null,null,null,", ",", , , ID , ",{"$f":"IFERROR(VLOOKUP(J781,[1]functii!D:E,2,FALSE),\"-\")","v":"-"}]
[null,777,null,null,null,null,null,null,null,", ",", , , ID , ",{"$f":"IFERROR(VLOOKUP(J782,[1]functii!D:E,2,FALSE),\"-\")","v":"-"}]
[null,778,null,null,null,null,null,null,null,", ",", , , ID , ",{"$f":"IFERROR(VLOOKUP(J783,[1]functii!D:E,2,FALSE),\"-\")","v":"-"}]
[null,779,null,null,null,null,null,null,null,", ",", , , ID , ",{"$f":"IFERROR(VLOOKUP(J784,[1]functii!D:E,2,FALSE),\"-\")","v":"-"}]
[null,780,null,null,null,null,null,null,null,", ",", , , ID , ",{"$f":"IFERROR(VLOOKUP(J785,[1]functii!D:E,2,FALSE),\"-\")","v":"-"}]
[null,781,null,null,null,null,null,null,null,", ",", , , ID , ",{"$f":"IFERROR(VLOOKUP(J786,[1]functii!D:E,2,FALSE),\"-\")","v":"-"}]
[null,782,null,null,null,null,null,null,null,", ",", , , ID , ",{"$f":"IFERROR(VLOOKUP(J787,[1]functii!D:E,2,FALSE),\"-\")","v":"-"}]
[null,783,null,null,null,null,null,null,null,", ",", , , ID , ",{"$f":"IFERROR(VLOOKUP(J788,[1]functii!D:E,2,FALSE),\"-\")","v":"-"}]
[null,784,null,null,null,null,null,null,null,", ",", , , ID , ",{"$f":"IFERROR(VLOOKUP(J789,[1]functii!D:E,2,FALSE),\"-\")","v":"-"}]
[null,785,null,null,null,null,null,null,null,", ",", , , ID , ",{"$f":"IFERROR(VLOOKUP(J790,[1]functii!D:E,2,FALSE),\"-\")","v":"-"}]
[null,786,null,null,null,null,null,null,null,", ",", , , ID , ",{"$f":"IFERROR(VLOOKUP(J791,[1]functii!D:E,2,FALSE),\"-\")","v":"-"}]
[null,787,null,null,null,null,null,null,null,", ",", , , ID , ",{"$f":"IFERROR(VLOOKUP(J792,[1]functii!D:E,2,FALSE),\"-\")","v":"-"}]
[null,788,null,null,null,null,null,null,null,", ",", , , ID , ",{"$f":"IFERROR(VLOOKUP(J793,[1]functii!D:E,2,FALSE),\"-\")","v":"-"}]
[null,789,null,null,null,null,null,null,null,", ",", , , ID , ",{"$f":"IFERROR(VLOOKUP(J794,[1]functii!D:E,2,FALSE),\"-\")","v":"-"}]
[null,790,null,null,null,null,null,null,null,", ",", , , ID , ",{"$f":"IFERROR(VLOOKUP(J795,[1]functii!D:E,2,FALSE),\"-\")","v":"-"}]
[null,791,null,null,null,null,null,null,null,", ",", , , ID , ",{"$f":"IFERROR(VLOOKUP(J796,[1]functii!D:E,2,FALSE),\"-\")","v":"-"}]
[null,792,null,null,null,null,null,null,null,", ",", , , ID , ",{"$f":"IFERROR(VLOOKUP(J797,[1]functii!D:E,2,FALSE),\"-\")","v":"-"}]
[null,793,null,null,null,null,null,null,null,", ",", , , ID , ",{"$f":"IFERROR(VLOOKUP(J798,[1]functii!D:E,2,FALSE),\"-\")","v":"-"}]
[null,794,null,null,null,null,null,null,null,", ",", , , ID , ",{"$f":"IFERROR(VLOOKUP(J799,[1]functii!D:E,2,FALSE),\"-\")","v":"-"}]
[null,795,null,null,null,null,null,null,null,", ",", , , ID , ",{"$f":"IFERROR(VLOOKUP(J800,[1]functii!D:E,2,FALSE),\"-\")","v":"-"}]
[null,796,null,null,null,null,null,null,null,", ",", , , ID , ",{"$f":"IFERROR(VLOOKUP(J801,[1]functii!D:E,2,FALSE),\"-\")","v":"-"}]
[null,797,null,null,null,null,null,null,null,", ",", , , ID , ",{"$f":"IFERROR(VLOOKUP(J802,[1]functii!D:E,2,FALSE),\"-\")","v":"-"}]
[null,798,null,null,null,null,null,null,null,", ",", , , ID , ",{"$f":"IFERROR(VLOOKUP(J803,[1]functii!D:E,2,FALSE),\"-\")","v":"-"}]
[null,799,null,null,null,null,null,null,null,", ",", , , ID , ",{"$f":"IFERROR(VLOOKUP(J804,[1]functii!D:E,2,FALSE),\"-\")","v":"-"}]
[null,800,null,null,null,null,null,null,null,", ",", , , ID , ",{"$f":"IFERROR(VLOOKUP(J805,[1]functii!D:E,2,FALSE),\"-\")","v":"-"}]
[null,801,null,null,null,null,null,null,null,", ",", , , ID , ",{"$f":"IFERROR(VLOOKUP(J806,[1]functii!D:E,2,FALSE),\"-\")","v":"-"}]
[null,802,null,null,null,null,null,null,null,", ",", , , ID , ",{"$f":"IFERROR(VLOOKUP(J807,[1]functii!D:E,2,FALSE),\"-\")","v":"-"}]
[null,803,null,null,null,null,null,null,null,", ",", , , ID , ",{"$f":"IFERROR(VLOOKUP(J808,[1]functii!D:E,2,FALSE),\"-\")","v":"-"}]
[null,804,null,null,null,null,null,null,null,", ",", , , ID , ",{"$f":"IFERROR(VLOOKUP(J809,[1]functii!D:E,2,FALSE),\"-\")","v":"-"}]
[null,805,null,null,null,null,null,null,null,", ",", , , ID , ",{"$f":"IFERROR(VLOOKUP(J810,[1]functii!D:E,2,FALSE),\"-\")","v":"-"}]
[null,806,null,null,null,null,null,null,null,", ",", , , ID , ",{"$f":"IFERROR(VLOOKUP(J811,[1]functii!D:E,2,FALSE),\"-\")","v":"-"}]
[null,807,null,null,null,null,null,null,null,", ",", , , ID , ",{"$f":"IFERROR(VLOOKUP(J812,[1]functii!D:E,2,FALSE),\"-\")","v":"-"}]
[null,808,null,null,null,null,null,null,null,", ",", , , ID , ",{"$f":"IFERROR(VLOOKUP(J813,[1]functii!D:E,2,FALSE),\"-\")","v":"-"}]
[null,809,null,null,null,null,null,null,null,", ",", , , ID , ",{"$f":"IFERROR(VLOOKUP(J814,[1]functii!D:E,2,FALSE),\"-\")","v":"-"}]
[null,810,null,null,null,null,null,null,null,", ",", , , ID , ",{"$f":"IFERROR(VLOOKUP(J815,[1]functii!D:E,2,FALSE),\"-\")","v":"-"}]
[null,811,null,null,null,null,null,null,null,", ",", , , ID , ",{"$f":"IFERROR(VLOOKUP(J816,[1]functii!D:E,2,FALSE),\"-\")","v":"-"}]
[null,812,null,null,null,null,null,null,null,", ",", , , ID , ",{"$f":"IFERROR(VLOOKUP(J817,[1]functii!D:E,2,FALSE),\"-\")","v":"-"}]
[null,813,null,null,null,null,null,null,null,", ",", , , ID , ",{"$f":"IFERROR(VLOOKUP(J818,[1]functii!D:E,2,FALSE),\"-\")","v":"-"}]
[null,814,null,null,null,null,null,null,null,", ",", , , ID , ",{"$f":"IFERROR(VLOOKUP(J819,[1]functii!D:E,2,FALSE),\"-\")","v":"-"}]
[null,815,null,null,null,null,null,null,null,", ",", , , ID , ",{"$f":"IFERROR(VLOOKUP(J820,[1]functii!D:E,2,FALSE),\"-\")","v":"-"}]
[null,816,null,null,null,null,null,null,null,", ",", , , ID , ",{"$f":"IFERROR(VLOOKUP(J821,[1]functii!D:E,2,FALSE),\"-\")","v":"-"}]
[null,817,null,null,null,null,null,null,null,", ",", , , ID , ",{"$f":"IFERROR(VLOOKUP(J822,[1]functii!D:E,2,FALSE),\"-\")","v":"-"}]
[null,818,null,null,null,null,null,null,null,", ",", , , ID , ",{"$f":"IFERROR(VLOOKUP(J823,[1]functii!D:E,2,FALSE),\"-\")","v":"-"}]
[null,819,null,null,null,null,null,null,null,", ",", , , ID , ",{"$f":"IFERROR(VLOOKUP(J824,[1]functii!D:E,2,FALSE),\"-\")","v":"-"}]
[null,820,null,null,null,null,null,null,null,", ",", , , ID , ",{"$f":"IFERROR(VLOOKUP(J825,[1]functii!D:E,2,FALSE),\"-\")","v":"-"}]
[null,821,null,null,null,null,null,null,null,", ",", , , ID , ",{"$f":"IFERROR(VLOOKUP(J826,[1]functii!D:E,2,FALSE),\"-\")","v":"-"}]
[null,822,null,null,null,null,null,null,null,", ",", , , ID , ",{"$f":"IFERROR(VLOOKUP(J827,[1]functii!D:E,2,FALSE),\"-\")","v":"-"}]
[null,823,null,null,null,null,null,null,null,", ",", , , ID , ",{"$f":"IFERROR(VLOOKUP(J828,[1]functii!D:E,2,FALSE),\"-\")","v":"-"}]
[null,824,null,null,null,null,null,null,null,", ",", , , ID , ",{"$f":"IFERROR(VLOOKUP(J829,[1]functii!D:E,2,FALSE),\"-\")","v":"-"}]
[null,825,null,null,null,null,null,null,null,", ",", , , ID , ",{"$f":"IFERROR(VLOOKUP(J830,[1]functii!D:E,2,FALSE),\"-\")","v":"-"}]
[null,826,null,null,null,null,null,null,null,", ",", , , ID , ",{"$f":"IFERROR(VLOOKUP(J831,[1]functii!D:E,2,FALSE),\"-\")","v":"-"}]
[null,827,null,null,null,null,null,null,null,", ",", , , ID , ",{"$f":"IFERROR(VLOOKUP(J832,[1]functii!D:E,2,FALSE),\"-\")","v":"-"}]
[null,828,null,null,null,null,null,null,null,", ",", , , ID , ",{"$f":"IFERROR(VLOOKUP(J833,[1]functii!D:E,2,FALSE),\"-\")","v":"-"}]
[null,829,null,null,null,null,null,null,null,", ",", , , ID , ",{"$f":"IFERROR(VLOOKUP(J834,[1]functii!D:E,2,FALSE),\"-\")","v":"-"}]
[null,830,null,null,null,null,null,null,null,", ",", , , ID , ",{"$f":"IFERROR(VLOOKUP(J835,[1]functii!D:E,2,FALSE),\"-\")","v":"-"}]
[null,831,null,null,null,null,null,null,null,", ",", , , ID , ",{"$f":"IFERROR(VLOOKUP(J836,[1]functii!D:E,2,FALSE),\"-\")","v":"-"}]
[null,832,null,null,null,null,null,null,null,", ",", , , ID , ",{"$f":"IFERROR(VLOOKUP(J837,[1]functii!D:E,2,FALSE),\"-\")","v":"-"}]
[null,833,null,null,null,null,null,null,null,{"$f":"_xlfn.CONCAT(D838,\",\",\" \",F838)","v":", "},{"$f":"CONCATENATE(D838,\", \",E838,\", \",F838,\", ID \",G838,\", \",H838)","v":", , , ID , "},{"$f":"IFERROR(VLOOKUP(J838,[1]functii!D:E,2,FALSE),\"-\")","v":"-"}]
[null,834,null,null,null,null,null,null,null,", ",", , , ID , ",{"$f":"IFERROR(VLOOKUP(J839,[1]functii!D:E,2,FALSE),\"-\")","v":"-"}]
[null,835,null,null,null,null,null,null,null,", ",", , , ID , ",{"$f":"IFERROR(VLOOKUP(J840,[1]functii!D:E,2,FALSE),\"-\")","v":"-"}]
[null,836,null,null,null,null,null,null,null,", ",", , , ID , ",{"$f":"IFERROR(VLOOKUP(J841,[1]functii!D:E,2,FALSE),\"-\")","v":"-"}]
[null,837,null,null,null,null,null,null,null,", ",", , , ID , ",{"$f":"IFERROR(VLOOKUP(J842,[1]functii!D:E,2,FALSE),\"-\")","v":"-"}]
[null,838,null,null,null,null,null,null,null,", ",", , , ID , ",{"$f":"IFERROR(VLOOKUP(J843,[1]functii!D:E,2,FALSE),\"-\")","v":"-"}]
[null,839,null,null,null,null,null,null,null,", ",", , , ID , ",{"$f":"IFERROR(VLOOKUP(J844,[1]functii!D:E,2,FALSE),\"-\")","v":"-"}]
[null,840,null,null,null,null,null,null,null,", ",", , , ID , ",{"$f":"IFERROR(VLOOKUP(J845,[1]functii!D:E,2,FALSE),\"-\")","v":"-"}]
[null,841,null,null,null,null,null,null,null,", ",", , , ID , ",{"$f":"IFERROR(VLOOKUP(J846,[1]functii!D:E,2,FALSE),\"-\")","v":"-"}]
[null,842,null,null,null,null,null,null,null,", ",", , , ID , ",{"$f":"IFERROR(VLOOKUP(J847,[1]functii!D:E,2,FALSE),\"-\")","v":"-"}]
[null,843,null,null,null,null,null,null,null,", ",", , , ID , ",{"$f":"IFERROR(VLOOKUP(J848,[1]functii!D:E,2,FALSE),\"-\")","v":"-"}]
[null,844,null,null,null,null,null,null,null,", ",", , , ID , ",{"$f":"IFERROR(VLOOKUP(J849,[1]functii!D:E,2,FALSE),\"-\")","v":"-"}]
[null,845,null,null,null,null,null,null,null,", ",", , , ID , ",{"$f":"IFERROR(VLOOKUP(J850,[1]functii!D:E,2,FALSE),\"-\")","v":"-"}]
[null,846,null,null,null,null,null,null,null,", ",", , , ID , ",{"$f":"IFERROR(VLOOKUP(J851,[1]functii!D:E,2,FALSE),\"-\")","v":"-"}]
[null,847,null,null,null,null,null,null,null,", ",", , , ID , ",{"$f":"IFERROR(VLOOKUP(J852,[1]functii!D:E,2,FALSE),\"-\")","v":"-"}]
[null,848,null,null,null,null,null,null,null,", ",", , , ID , ",{"$f":"IFERROR(VLOOKUP(J853,[1]functii!D:E,2,FALSE),\"-\")","v":"-"}]
[null,849,null,null,null,null,null,null,null,", ",", , , ID , ",{"$f":"IFERROR(VLOOKUP(J854,[1]functii!D:E,2,FALSE),\"-\")","v":"-"}]
[null,850,null,null,null,null,null,null,null,", ",", , , ID , ",{"$f":"IFERROR(VLOOKUP(J855,[1]functii!D:E,2,FALSE),\"-\")","v":"-"}]
[null,851,null,null,null,null,null,null,null,", ",", , , ID , ",{"$f":"IFERROR(VLOOKUP(J856,[1]functii!D:E,2,FALSE),\"-\")","v":"-"}]
[null,852,null,null,null,null,null,null,null,", ",", , , ID , ",{"$f":"IFERROR(VLOOKUP(J857,[1]functii!D:E,2,FALSE),\"-\")","v":"-"}]
[null,853,null,null,null,null,null,null,null,", ",", , , ID , ",{"$f":"IFERROR(VLOOKUP(J858,[1]functii!D:E,2,FALSE),\"-\")","v":"-"}]
[null,854,null,null,null,null,null,null,null,", ",", , , ID , ",{"$f":"IFERROR(VLOOKUP(J859,[1]functii!D:E,2,FALSE),\"-\")","v":"-"}]
[null,855,null,null,null,null,null,null,null,", ",", , , ID , ",{"$f":"IFERROR(VLOOKUP(J860,[1]functii!D:E,2,FALSE),\"-\")","v":"-"}]
[null,856,null,null,null,null,null,null,null,", ",", , , ID , ",{"$f":"IFERROR(VLOOKUP(J861,[1]functii!D:E,2,FALSE),\"-\")","v":"-"}]
[null,857,null,null,null,null,null,null,null,", ",", , , ID , ",{"$f":"IFERROR(VLOOKUP(J862,[1]functii!D:E,2,FALSE),\"-\")","v":"-"}]
[null,858,null,null,null,null,null,null,null,", ",", , , ID , ",{"$f":"IFERROR(VLOOKUP(J863,[1]functii!D:E,2,FALSE),\"-\")","v":"-"}]
[null,859,null,null,null,null,null,null,null,", ",", , , ID , ",{"$f":"IFERROR(VLOOKUP(J864,[1]functii!D:E,2,FALSE),\"-\")","v":"-"}]
[null,860,null,null,null,null,null,null,null,", ",", , , ID , ",{"$f":"IFERROR(VLOOKUP(J865,[1]functii!D:E,2,FALSE),\"-\")","v":"-"}]
[null,861,null,null,null,null,null,null,null,", ",", , , ID , ",{"$f":"IFERROR(VLOOKUP(J866,[1]functii!D:E,2,FALSE),\"-\")","v":"-"}]
[null,862,null,null,null,null,null,null,null,", ",", , , ID , ",{"$f":"IFERROR(VLOOKUP(J867,[1]functii!D:E,2,FALSE),\"-\")","v":"-"}]
[null,863,null,null,null,null,null,null,null,", ",", , , ID , ",{"$f":"IFERROR(VLOOKUP(J868,[1]functii!D:E,2,FALSE),\"-\")","v":"-"}]
[null,864,null,null,null,null,null,null,null,", ",", , , ID , ",{"$f":"IFERROR(VLOOKUP(J869,[1]functii!D:E,2,FALSE),\"-\")","v":"-"}]
[null,865,null,null,null,null,null,null,null,", ",", , , ID , ",{"$f":"IFERROR(VLOOKUP(J870,[1]functii!D:E,2,FALSE),\"-\")","v":"-"}]
[null,866,null,null,null,null,null,null,null,", ",", , , ID , ",{"$f":"IFERROR(VLOOKUP(J871,[1]functii!D:E,2,FALSE),\"-\")","v":"-"}]
[null,867,null,null,null,null,null,null,null,", ",", , , ID , ",{"$f":"IFERROR(VLOOKUP(J872,[1]functii!D:E,2,FALSE),\"-\")","v":"-"}]
[null,868,null,null,null,null,null,null,null,", ",", , , ID , ",{"$f":"IFERROR(VLOOKUP(J873,[1]functii!D:E,2,FALSE),\"-\")","v":"-"}]
[null,869,null,null,null,null,null,null,null,", ",", , , ID , ",{"$f":"IFERROR(VLOOKUP(J874,[1]functii!D:E,2,FALSE),\"-\")","v":"-"}]
[null,870,null,null,null,null,null,null,null,", ",", , , ID , ",{"$f":"IFERROR(VLOOKUP(J875,[1]functii!D:E,2,FALSE),\"-\")","v":"-"}]
[null,871,null,null,null,null,null,null,null,", ",", , , ID , ",{"$f":"IFERROR(VLOOKUP(J876,[1]functii!D:E,2,FALSE),\"-\")","v":"-"}]
[null,872,null,null,null,null,null,null,null,", ",", , , ID , ",{"$f":"IFERROR(VLOOKUP(J877,[1]functii!D:E,2,FALSE),\"-\")","v":"-"}]
[null,873,null,null,null,null,null,null,null,", ",", , , ID , ",{"$f":"IFERROR(VLOOKUP(J878,[1]functii!D:E,2,FALSE),\"-\")","v":"-"}]
[null,874,null,null,null,null,null,null,null,", ",", , , ID , ",{"$f":"IFERROR(VLOOKUP(J879,[1]functii!D:E,2,FALSE),\"-\")","v":"-"}]
[null,875,null,null,null,null,null,null,null,", ",", , , ID , ",{"$f":"IFERROR(VLOOKUP(J880,[1]functii!D:E,2,FALSE),\"-\")","v":"-"}]
[null,876,null,null,null,null,null,null,null,", ",", , , ID , ",{"$f":"IFERROR(VLOOKUP(J881,[1]functii!D:E,2,FALSE),\"-\")","v":"-"}]
[null,877,null,null,null,null,null,null,null,", ",", , , ID , ",{"$f":"IFERROR(VLOOKUP(J882,[1]functii!D:E,2,FALSE),\"-\")","v":"-"}]
[null,878,null,null,null,null,null,null,null,", ",", , , ID , ",{"$f":"IFERROR(VLOOKUP(J883,[1]functii!D:E,2,FALSE),\"-\")","v":"-"}]
[null,879,null,null,null,null,null,null,null,", ",", , , ID , ",{"$f":"IFERROR(VLOOKUP(J884,[1]functii!D:E,2,FALSE),\"-\")","v":"-"}]
[null,880,null,null,null,null,null,null,null,", ",", , , ID , ",{"$f":"IFERROR(VLOOKUP(J885,[1]functii!D:E,2,FALSE),\"-\")","v":"-"}]
[null,881,null,null,null,null,null,null,null,", ",", , , ID , ",{"$f":"IFERROR(VLOOKUP(J886,[1]functii!D:E,2,FALSE),\"-\")","v":"-"}]
[null,882,null,null,null,null,null,null,null,", ",", , , ID , ",{"$f":"IFERROR(VLOOKUP(J887,[1]functii!D:E,2,FALSE),\"-\")","v":"-"}]
[null,883,null,null,null,null,null,null,null,", ",", , , ID , ",{"$f":"IFERROR(VLOOKUP(J888,[1]functii!D:E,2,FALSE),\"-\")","v":"-"}]
[null,884,null,null,null,null,null,null,null,", ",", , , ID , ",{"$f":"IFERROR(VLOOKUP(J889,[1]functii!D:E,2,FALSE),\"-\")","v":"-"}]
[null,885,null,null,null,null,null,null,null,", ",", , , ID , ",{"$f":"IFERROR(VLOOKUP(J890,[1]functii!D:E,2,FALSE),\"-\")","v":"-"}]
[null,886,null,null,null,null,null,null,null,", ",", , , ID , ",{"$f":"IFERROR(VLOOKUP(J891,[1]functii!D:E,2,FALSE),\"-\")","v":"-"}]
[null,887,null,null,null,null,null,null,null,", ",", , , ID , ",{"$f":"IFERROR(VLOOKUP(J892,[1]functii!D:E,2,FALSE),\"-\")","v":"-"}]
[null,888,null,null,null,null,null,null,null,", ",", , , ID , ",{"$f":"IFERROR(VLOOKUP(J893,[1]functii!D:E,2,FALSE),\"-\")","v":"-"}]
[null,889,null,null,null,null,null,null,null,", ",", , , ID , ",{"$f":"IFERROR(VLOOKUP(J894,[1]functii!D:E,2,FALSE),\"-\")","v":"-"}]
[null,890,null,null,null,null,null,null,null,", ",", , , ID , ",{"$f":"IFERROR(VLOOKUP(J895,[1]functii!D:E,2,FALSE),\"-\")","v":"-"}]
[null,891,null,null,null,null,null,null,null,", ",", , , ID , ",{"$f":"IFERROR(VLOOKUP(J896,[1]functii!D:E,2,FALSE),\"-\")","v":"-"}]
[null,892,null,null,null,null,null,null,null,", ",", , , ID , ",{"$f":"IFERROR(VLOOKUP(J897,[1]functii!D:E,2,FALSE),\"-\")","v":"-"}]
[null,893,null,null,null,null,null,null,null,", ",", , , ID , ",{"$f":"IFERROR(VLOOKUP(J898,[1]functii!D:E,2,FALSE),\"-\")","v":"-"}]
[null,894,null,null,null,null,null,null,null,", ",", , , ID , ",{"$f":"IFERROR(VLOOKUP(J899,[1]functii!D:E,2,FALSE),\"-\")","v":"-"}]
[null,895,null,null,null,null,null,null,null,", ",", , , ID , ",{"$f":"IFERROR(VLOOKUP(J900,[1]functii!D:E,2,FALSE),\"-\")","v":"-"}]
[null,896,null,null,null,null,null,null,null,", ",", , , ID , ",{"$f":"IFERROR(VLOOKUP(J901,[1]functii!D:E,2,FALSE),\"-\")","v":"-"}]
[null,897,null,null,null,null,null,null,null,{"$f":"_xlfn.CONCAT(D902,\",\",\" \",F902)","v":", "},{"$f":"CONCATENATE(D902,\", \",E902,\", \",F902,\", ID \",G902,\", \",H902)","v":", , , ID , "},{"$f":"IFERROR(VLOOKUP(J902,[1]functii!D:E,2,FALSE),\"-\")","v":"-"}]
[null,898,null,null,null,null,null,null,null,", ",", , , ID , ",{"$f":"IFERROR(VLOOKUP(J903,[1]functii!D:E,2,FALSE),\"-\")","v":"-"}]
[null,899,null,null,null,null,null,null,null,", ",", , , ID , ",{"$f":"IFERROR(VLOOKUP(J904,[1]functii!D:E,2,FALSE),\"-\")","v":"-"}]
[null,900,null,null,null,null,null,null,null,", ",", , , ID , ",{"$f":"IFERROR(VLOOKUP(J905,[1]functii!D:E,2,FALSE),\"-\")","v":"-"}]
[null,901,null,null,null,null,null,null,null,", ",", , , ID , ",{"$f":"IFERROR(VLOOKUP(J906,[1]functii!D:E,2,FALSE),\"-\")","v":"-"}]
[null,902,null,null,null,null,null,null,null,", ",", , , ID , ",{"$f":"IFERROR(VLOOKUP(J907,[1]functii!D:E,2,FALSE),\"-\")","v":"-"}]
[null,903,null,null,null,null,null,null,null,", ",", , , ID , ",{"$f":"IFERROR(VLOOKUP(J908,[1]functii!D:E,2,FALSE),\"-\")","v":"-"}]
[null,904,null,null,null,null,null,null,null,", ",", , , ID , ",{"$f":"IFERROR(VLOOKUP(J909,[1]functii!D:E,2,FALSE),\"-\")","v":"-"}]
[null,905,null,null,null,null,null,null,null,", ",", , , ID , ",{"$f":"IFERROR(VLOOKUP(J910,[1]functii!D:E,2,FALSE),\"-\")","v":"-"}]
[null,906,null,null,null,null,null,null,null,", ",", , , ID , ",{"$f":"IFERROR(VLOOKUP(J911,[1]functii!D:E,2,FALSE),\"-\")","v":"-"}]
[null,907,null,null,null,null,null,null,null,", ",", , , ID , ",{"$f":"IFERROR(VLOOKUP(J912,[1]functii!D:E,2,FALSE),\"-\")","v":"-"}]
[null,908,null,null,null,null,null,null,null,", ",", , , ID , ",{"$f":"IFERROR(VLOOKUP(J913,[1]functii!D:E,2,FALSE),\"-\")","v":"-"}]
[null,909,null,null,null,null,null,null,null,", ",", , , ID , ",{"$f":"IFERROR(VLOOKUP(J914,[1]functii!D:E,2,FALSE),\"-\")","v":"-"}]
[null,910,null,null,null,null,null,null,null,", ",", , , ID , ",{"$f":"IFERROR(VLOOKUP(J915,[1]functii!D:E,2,FALSE),\"-\")","v":"-"}]
[null,911,null,null,null,null,null,null,null,", ",", , , ID , ",{"$f":"IFERROR(VLOOKUP(J916,[1]functii!D:E,2,FALSE),\"-\")","v":"-"}]
[null,912,null,null,null,null,null,null,null,", ",", , , ID , ",{"$f":"IFERROR(VLOOKUP(J917,[1]functii!D:E,2,FALSE),\"-\")","v":"-"}]
[null,913,null,null,null,null,null,null,null,", ",", , , ID , ",{"$f":"IFERROR(VLOOKUP(J918,[1]functii!D:E,2,FALSE),\"-\")","v":"-"}]
[null,914,null,null,null,null,null,null,null,", ",", , , ID , ",{"$f":"IFERROR(VLOOKUP(J919,[1]functii!D:E,2,FALSE),\"-\")","v":"-"}]
[null,915,null,null,null,null,null,null,null,", ",", , , ID , ",{"$f":"IFERROR(VLOOKUP(J920,[1]functii!D:E,2,FALSE),\"-\")","v":"-"}]
[null,916,null,null,null,null,null,null,null,", ",", , , ID , ",{"$f":"IFERROR(VLOOKUP(J921,[1]functii!D:E,2,FALSE),\"-\")","v":"-"}]
[null,917,null,null,null,null,null,null,null,", ",", , , ID , ",{"$f":"IFERROR(VLOOKUP(J922,[1]functii!D:E,2,FALSE),\"-\")","v":"-"}]
[null,918,null,null,null,null,null,null,null,", ",", , , ID , ",{"$f":"IFERROR(VLOOKUP(J923,[1]functii!D:E,2,FALSE),\"-\")","v":"-"}]
[null,919,null,null,null,null,null,null,null,", ",", , , ID , ",{"$f":"IFERROR(VLOOKUP(J924,[1]functii!D:E,2,FALSE),\"-\")","v":"-"}]
[null,920,null,null,null,null,null,null,null,", ",", , , ID , ",{"$f":"IFERROR(VLOOKUP(J925,[1]functii!D:E,2,FALSE),\"-\")","v":"-"}]
[null,921,null,null,null,null,null,null,null,", ",", , , ID , ",{"$f":"IFERROR(VLOOKUP(J926,[1]functii!D:E,2,FALSE),\"-\")","v":"-"}]
[null,922,null,null,null,null,null,null,null,", ",", , , ID , ",{"$f":"IFERROR(VLOOKUP(J927,[1]functii!D:E,2,FALSE),\"-\")","v":"-"}]
[null,923,null,null,null,null,null,null,null,", ",", , , ID , ",{"$f":"IFERROR(VLOOKUP(J928,[1]functii!D:E,2,FALSE),\"-\")","v":"-"}]
[null,924,null,null,null,null,null,null,null,", ",", , , ID , ",{"$f":"IFERROR(VLOOKUP(J929,[1]functii!D:E,2,FALSE),\"-\")","v":"-"}]
[null,925,null,null,null,null,null,null,null,", ",", , , ID , ",{"$f":"IFERROR(VLOOKUP(J930,[1]functii!D:E,2,FALSE),\"-\")","v":"-"}]
[null,926,null,null,null,null,null,null,null,", ",", , , ID , ",{"$f":"IFERROR(VLOOKUP(J931,[1]functii!D:E,2,FALSE),\"-\")","v":"-"}]
[null,927,null,null,null,null,null,null,null,", ",", , , ID , ",{"$f":"IFERROR(VLOOKUP(J932,[1]functii!D:E,2,FALSE),\"-\")","v":"-"}]
[null,928,null,null,null,null,null,null,null,", ",", , , ID , ",{"$f":"IFERROR(VLOOKUP(J933,[1]functii!D:E,2,FALSE),\"-\")","v":"-"}]
[null,929,null,null,null,null,null,null,null,", ",", , , ID , ",{"$f":"IFERROR(VLOOKUP(J934,[1]functii!D:E,2,FALSE),\"-\")","v":"-"}]
[null,930,null,null,null,null,null,null,null,", ",", , , ID , ",{"$f":"IFERROR(VLOOKUP(J935,[1]functii!D:E,2,FALSE),\"-\")","v":"-"}]
[null,931,null,null,null,null,null,null,null,", ",", , , ID , ",{"$f":"IFERROR(VLOOKUP(J936,[1]functii!D:E,2,FALSE),\"-\")","v":"-"}]
[null,932,null,null,null,null,null,null,null,", ",", , , ID , ",{"$f":"IFERROR(VLOOKUP(J937,[1]functii!D:E,2,FALSE),\"-\")","v":"-"}]
[null,933,null,null,null,null,null,null,null,", ",", , , ID , ",{"$f":"IFERROR(VLOOKUP(J938,[1]functii!D:E,2,FALSE),\"-\")","v":"-"}]
[null,934,null,null,null,null,null,null,null,", ",", , , ID , ",{"$f":"IFERROR(VLOOKUP(J939,[1]functii!D:E,2,FALSE),\"-\")","v":"-"}]
[null,935,null,null,null,null,null,null,null,", ",", , , ID , ",{"$f":"IFERROR(VLOOKUP(J940,[1]functii!D:E,2,FALSE),\"-\")","v":"-"}]
[null,936,null,null,null,null,null,null,null,", ",", , , ID , ",{"$f":"IFERROR(VLOOKUP(J941,[1]functii!D:E,2,FALSE),\"-\")","v":"-"}]
[null,937,null,null,null,null,null,null,null,", ",", , , ID , ",{"$f":"IFERROR(VLOOKUP(J942,[1]functii!D:E,2,FALSE),\"-\")","v":"-"}]
[null,938,null,null,null,null,null,null,null,", ",", , , ID , ",{"$f":"IFERROR(VLOOKUP(J943,[1]functii!D:E,2,FALSE),\"-\")","v":"-"}]
[null,939,null,null,null,null,null,null,null,", ",", , , ID , ",{"$f":"IFERROR(VLOOKUP(J944,[1]functii!D:E,2,FALSE),\"-\")","v":"-"}]
[null,940,null,null,null,null,null,null,null,", ",", , , ID , ",{"$f":"IFERROR(VLOOKUP(J945,[1]functii!D:E,2,FALSE),\"-\")","v":"-"}]
[null,941,null,null,null,null,null,null,null,", ",", , , ID , ",{"$f":"IFERROR(VLOOKUP(J946,[1]functii!D:E,2,FALSE),\"-\")","v":"-"}]
[null,942,null,null,null,null,null,null,null,", ",", , , ID , ",{"$f":"IFERROR(VLOOKUP(J947,[1]functii!D:E,2,FALSE),\"-\")","v":"-"}]
[null,943,null,null,null,null,null,null,null,", ",", , , ID , ",{"$f":"IFERROR(VLOOKUP(J948,[1]functii!D:E,2,FALSE),\"-\")","v":"-"}]
[null,944,null,null,null,null,null,null,null,", ",", , , ID , ",{"$f":"IFERROR(VLOOKUP(J949,[1]functii!D:E,2,FALSE),\"-\")","v":"-"}]
[null,945,null,null,null,null,null,null,null,", ",", , , ID , ",{"$f":"IFERROR(VLOOKUP(J950,[1]functii!D:E,2,FALSE),\"-\")","v":"-"}]
[null,946,null,null,null,null,null,null,null,", ",", , , ID , ",{"$f":"IFERROR(VLOOKUP(J951,[1]functii!D:E,2,FALSE),\"-\")","v":"-"}]
[null,947,null,null,null,null,null,null,null,", ",", , , ID , ",{"$f":"IFERROR(VLOOKUP(J952,[1]functii!D:E,2,FALSE),\"-\")","v":"-"}]
[null,948,null,null,null,null,null,null,null,", ",", , , ID , ",{"$f":"IFERROR(VLOOKUP(J953,[1]functii!D:E,2,FALSE),\"-\")","v":"-"}]
[null,949,null,null,null,null,null,null,null,", ",", , , ID , ",{"$f":"IFERROR(VLOOKUP(J954,[1]functii!D:E,2,FALSE),\"-\")","v":"-"}]
[null,950,null,null,null,null,null,null,null,", ",", , , ID , ",{"$f":"IFERROR(VLOOKUP(J955,[1]functii!D:E,2,FALSE),\"-\")","v":"-"}]
[null,951,null,null,null,null,null,null,null,", ",", , , ID , ",{"$f":"IFERROR(VLOOKUP(J956,[1]functii!D:E,2,FALSE),\"-\")","v":"-"}]
[null,952,null,null,null,null,null,null,null,", ",", , , ID , ",{"$f":"IFERROR(VLOOKUP(J957,[1]functii!D:E,2,FALSE),\"-\")","v":"-"}]
[null,953,null,null,null,null,null,null,null,", ",", , , ID , ",{"$f":"IFERROR(VLOOKUP(J958,[1]functii!D:E,2,FALSE),\"-\")","v":"-"}]
[null,954,null,null,null,null,null,null,null,", ",", , , ID , ",{"$f":"IFERROR(VLOOKUP(J959,[1]functii!D:E,2,FALSE),\"-\")","v":"-"}]
[null,955,null,null,null,null,null,null,null,", ",", , , ID , ",{"$f":"IFERROR(VLOOKUP(J960,[1]functii!D:E,2,FALSE),\"-\")","v":"-"}]
[null,956,null,null,null,null,null,null,null,", ",", , , ID , ",{"$f":"IFERROR(VLOOKUP(J961,[1]functii!D:E,2,FALSE),\"-\")","v":"-"}]
[null,957,null,null,null,null,null,null,null,", ",", , , ID , ",{"$f":"IFERROR(VLOOKUP(J962,[1]functii!D:E,2,FALSE),\"-\")","v":"-"}]
[null,958,null,null,null,null,null,null,null,", ",", , , ID , ",{"$f":"IFERROR(VLOOKUP(J963,[1]functii!D:E,2,FALSE),\"-\")","v":"-"}]
[null,959,null,null,null,null,null,null,null,", ",", , , ID , ",{"$f":"IFERROR(VLOOKUP(J964,[1]functii!D:E,2,FALSE),\"-\")","v":"-"}]
[null,960,null,null,null,null,null,null,null,", ",", , , ID , ",{"$f":"IFERROR(VLOOKUP(J965,[1]functii!D:E,2,FALSE),\"-\")","v":"-"}]
[null,961,null,null,null,null,null,null,null,{"$f":"_xlfn.CONCAT(D966,\",\",\" \",F966)","v":", "},{"$f":"CONCATENATE(D966,\", \",E966,\", \",F966,\", ID \",G966,\", \",H966)","v":", , , ID , "},{"$f":"IFERROR(VLOOKUP(J966,[1]functii!D:E,2,FALSE),\"-\")","v":"-"}]
[null,962,null,null,null,null,null,null,null,", ",", , , ID , ",{"$f":"IFERROR(VLOOKUP(J967,[1]functii!D:E,2,FALSE),\"-\")","v":"-"}]
[null,963,null,null,null,null,null,null,null,", ",", , , ID , ",{"$f":"IFERROR(VLOOKUP(J968,[1]functii!D:E,2,FALSE),\"-\")","v":"-"}]
[null,964,null,null,null,null,null,null,null,", ",", , , ID , ",{"$f":"IFERROR(VLOOKUP(J969,[1]functii!D:E,2,FALSE),\"-\")","v":"-"}]
[null,965,null,null,null,null,null,null,null,", ",", , , ID , ",{"$f":"IFERROR(VLOOKUP(J970,[1]functii!D:E,2,FALSE),\"-\")","v":"-"}]
[null,966,null,null,null,null,null,null,null,", ",", , , ID , ",{"$f":"IFERROR(VLOOKUP(J971,[1]functii!D:E,2,FALSE),\"-\")","v":"-"}]
[null,967,null,null,null,null,null,null,null,", ",", , , ID , ",{"$f":"IFERROR(VLOOKUP(J972,[1]functii!D:E,2,FALSE),\"-\")","v":"-"}]
[null,968,null,null,null,null,null,null,null,", ",", , , ID , ",{"$f":"IFERROR(VLOOKUP(J973,[1]functii!D:E,2,FALSE),\"-\")","v":"-"}]
[null,969,null,null,null,null,null,null,null,", ",", , , ID , ",{"$f":"IFERROR(VLOOKUP(J974,[1]functii!D:E,2,FALSE),\"-\")","v":"-"}]
[null,970,null,null,null,null,null,null,null,", ",", , , ID , ",{"$f":"IFERROR(VLOOKUP(J975,[1]functii!D:E,2,FALSE),\"-\")","v":"-"}]
[null,971,null,null,null,null,null,null,null,", ",", , , ID , ",{"$f":"IFERROR(VLOOKUP(J976,[1]functii!D:E,2,FALSE),\"-\")","v":"-"}]
[null,972,null,null,null,null,null,null,null,", ",", , , ID , ",{"$f":"IFERROR(VLOOKUP(J977,[1]functii!D:E,2,FALSE),\"-\")","v":"-"}]
[null,973,null,null,null,null,null,null,null,", ",", , , ID , ",{"$f":"IFERROR(VLOOKUP(J978,[1]functii!D:E,2,FALSE),\"-\")","v":"-"}]
[null,974,null,null,null,null,null,null,null,", ",", , , ID , ",{"$f":"IFERROR(VLOOKUP(J979,[1]functii!D:E,2,FALSE),\"-\")","v":"-"}]
[null,975,null,null,null,null,null,null,null,", ",", , , ID , ",{"$f":"IFERROR(VLOOKUP(J980,[1]functii!D:E,2,FALSE),\"-\")","v":"-"}]
[null,976,null,null,null,null,null,null,null,", ",", , , ID , ",{"$f":"IFERROR(VLOOKUP(J981,[1]functii!D:E,2,FALSE),\"-\")","v":"-"}]
[null,977,null,null,null,null,null,null,null,", ",", , , ID , ",{"$f":"IFERROR(VLOOKUP(J982,[1]functii!D:E,2,FALSE),\"-\")","v":"-"}]
[null,978,null,null,null,null,null,null,null,", ",", , , ID , ",{"$f":"IFERROR(VLOOKUP(J983,[1]functii!D:E,2,FALSE),\"-\")","v":"-"}]
[null,979,null,null,null,null,null,null,null,", ",", , , ID , ",{"$f":"IFERROR(VLOOKUP(J984,[1]functii!D:E,2,FALSE),\"-\")","v":"-"}]
[null,980,null,null,null,null,null,null,null,", ",", , , ID , ",{"$f":"IFERROR(VLOOKUP(J985,[1]functii!D:E,2,FALSE),\"-\")","v":"-"}]
[null,981,null,null,null,null,null,null,null,", ",", , , ID , ",{"$f":"IFERROR(VLOOKUP(J986,[1]functii!D:E,2,FALSE),\"-\")","v":"-"}]
[null,982,null,null,null,null,null,null,null,", ",", , , ID , ",{"$f":"IFERROR(VLOOKUP(J987,[1]functii!D:E,2,FALSE),\"-\")","v":"-"}]
[null,983,null,null,null,null,null,null,null,", ",", , , ID , ",{"$f":"IFERROR(VLOOKUP(J988,[1]functii!D:E,2,FALSE),\"-\")","v":"-"}]
[null,984,null,null,null,null,null,null,null,", ",", , , ID , ",{"$f":"IFERROR(VLOOKUP(J989,[1]functii!D:E,2,FALSE),\"-\")","v":"-"}]
[null,985,null,null,null,null,null,null,null,", ",", , , ID , ",{"$f":"IFERROR(VLOOKUP(J990,[1]functii!D:E,2,FALSE),\"-\")","v":"-"}]
[null,986,null,null,null,null,null,null,null,", ",", , , ID , ",{"$f":"IFERROR(VLOOKUP(J991,[1]functii!D:E,2,FALSE),\"-\")","v":"-"}]
[null,987,null,null,null,null,null,null,null,", ",", , , ID , ",{"$f":"IFERROR(VLOOKUP(J992,[1]functii!D:E,2,FALSE),\"-\")","v":"-"}]
[null,988,null,null,null,null,null,null,null,", ",", , , ID , ",{"$f":"IFERROR(VLOOKUP(J993,[1]functii!D:E,2,FALSE),\"-\")","v":"-"}]
[null,989,null,null,null,null,null,null,null,", ",", , , ID , ",{"$f":"IFERROR(VLOOKUP(J994,[1]functii!D:E,2,FALSE),\"-\")","v":"-"}]
[null,990,null,null,null,null,null,null,null,", ",", , , ID , ",{"$f":"IFERROR(VLOOKUP(J995,[1]functii!D:E,2,FALSE),\"-\")","v":"-"}]
[null,991,null,null,null,null,null,null,null,", ",", , , ID , ",{"$f":"IFERROR(VLOOKUP(J996,[1]functii!D:E,2,FALSE),\"-\")","v":"-"}]
[null,992,null,null,null,null,null,null,null,", ",", , , ID , ",{"$f":"IFERROR(VLOOKUP(J997,[1]functii!D:E,2,FALSE),\"-\")","v":"-"}]
[null,993,null,null,null,null,null,null,null,", ",", , , ID , ",{"$f":"IFERROR(VLOOKUP(J998,[1]functii!D:E,2,FALSE),\"-\")","v":"-"}]
[null,994,null,null,null,null,null,null,null,", ",", , , ID , ",{"$f":"IFERROR(VLOOKUP(J999,[1]functii!D:E,2,FALSE),\"-\")","v":"-"}]
[null,995,null,null,null,null,null,null,null,", ",", , , ID , ",{"$f":"IFERROR(VLOOKUP(J1000,[1]functii!D:E,2,FALSE),\"-\")","v":"-"}]
[null,996,null,null,null,null,null,null,null,", ",", , , ID , ",{"$f":"IFERROR(VLOOKUP(J1001,[1]functii!D:E,2,FALSE),\"-\")","v":"-"}]
[null,997,null,null,null,null,null,null,null,", ",", , , ID , ",{"$f":"IFERROR(VLOOKUP(J1002,[1]functii!D:E,2,FALSE),\"-\")","v":"-"}]
[null,998,null,null,null,null,null,null,null,", ",", , , ID , ",{"$f":"IFERROR(VLOOKUP(J1003,[1]functii!D:E,2,FALSE),\"-\")","v":"-"}]
[null,999,null,null,null,null,null,null,null,", ",", , , ID , ",{"$f":"IFERROR(VLOOKUP(J1004,[1]functii!D:E,2,FALSE),\"-\")","v":"-"}]
[null,1000,null,null,null,null,null,null,null,", ",", , , ID , ",{"$f":"IFERROR(VLOOKUP(J1005,[1]functii!D:E,2,FALSE),\"-\")","v":"-"}]
[null,1001,null,null,null,null,null,null,null,", ",", , , ID , ",{"$f":"IFERROR(VLOOKUP(J1006,[1]functii!D:E,2,FALSE),\"-\")","v":"-"}]
[null,1002,null,null,null,null,null,null,null,", ",", , , ID , ",{"$f":"IFERROR(VLOOKUP(J1007,[1]functii!D:E,2,FALSE),\"-\")","v":"-"}]
[null,1003,null,null,null,null,null,null,null,", ",", , , ID , ",{"$f":"IFERROR(VLOOKUP(J1008,[1]functii!D:E,2,FALSE),\"-\")","v":"-"}]
[null,1004,null,null,null,null,null,null,null,", ",", , , ID , ",{"$f":"IFERROR(VLOOKUP(J1009,[1]functii!D:E,2,FALSE),\"-\")","v":"-"}]
[null,1005,null,null,null,null,null,null,null,", ",", , , ID , ",{"$f":"IFERROR(VLOOKUP(J1010,[1]functii!D:E,2,FALSE),\"-\")","v":"-"}]
[null,1006,null,null,null,null,null,null,null,", ",", , , ID , ",{"$f":"IFERROR(VLOOKUP(J1011,[1]functii!D:E,2,FALSE),\"-\")","v":"-"}]
[null,1007,null,null,null,null,null,null,null,", ",", , , ID , ",{"$f":"IFERROR(VLOOKUP(J1012,[1]functii!D:E,2,FALSE),\"-\")","v":"-"}]
[null,1008,null,null,null,null,null,null,null,", ",", , , ID , ",{"$f":"IFERROR(VLOOKUP(J1013,[1]functii!D:E,2,FALSE),\"-\")","v":"-"}]
[null,1009,null,null,null,null,null,null,null,", ",", , , ID , ",{"$f":"IFERROR(VLOOKUP(J1014,[1]functii!D:E,2,FALSE),\"-\")","v":"-"}]
[null,1010,null,null,null,null,null,null,null,", ",", , , ID , ",{"$f":"IFERROR(VLOOKUP(J1015,[1]functii!D:E,2,FALSE),\"-\")","v":"-"}]
[null,1011,null,null,null,null,null,null,null,", ",", , , ID , ",{"$f":"IFERROR(VLOOKUP(J1016,[1]functii!D:E,2,FALSE),\"-\")","v":"-"}]
[null,1012,null,null,null,null,null,null,null,", ",", , , ID , ",{"$f":"IFERROR(VLOOKUP(J1017,[1]functii!D:E,2,FALSE),\"-\")","v":"-"}]
[null,1013,null,null,null,null,null,null,null,", ",", , , ID , ",{"$f":"IFERROR(VLOOKUP(J1018,[1]functii!D:E,2,FALSE),\"-\")","v":"-"}]
[null,1014,null,null,null,null,null,null,null,", ",", , , ID , ",{"$f":"IFERROR(VLOOKUP(J1019,[1]functii!D:E,2,FALSE),\"-\")","v":"-"}]
[null,1015,null,null,null,null,null,null,null,", ",", , , ID , ",{"$f":"IFERROR(VLOOKUP(J1020,[1]functii!D:E,2,FALSE),\"-\")","v":"-"}]
[null,1016,null,null,null,null,null,null,null,", ",", , , ID , ",{"$f":"IFERROR(VLOOKUP(J1021,[1]functii!D:E,2,FALSE),\"-\")","v":"-"}]
[null,1017,null,null,null,null,null,null,null,", ",", , , ID , ",{"$f":"IFERROR(VLOOKUP(J1022,[1]functii!D:E,2,FALSE),\"-\")","v":"-"}]
[null,1018,null,null,null,null,null,null,null,", ",", , , ID , ",{"$f":"IFERROR(VLOOKUP(J1023,[1]functii!D:E,2,FALSE),\"-\")","v":"-"}]
[null,1019,null,null,null,null,null,null,null,", ",", , , ID , ",{"$f":"IFERROR(VLOOKUP(J1024,[1]functii!D:E,2,FALSE),\"-\")","v":"-"}]
[null,1020,null,null,null,null,null,null,null,", ",", , , ID , ",{"$f":"IFERROR(VLOOKUP(J1025,[1]functii!D:E,2,FALSE),\"-\")","v":"-"}]
[null,1021,null,null,null,null,null,null,null,", ",", , , ID , ",{"$f":"IFERROR(VLOOKUP(J1026,[1]functii!D:E,2,FALSE),\"-\")","v":"-"}]
[null,1022,null,null,null,null,null,null,null,", ",", , , ID , ",{"$f":"IFERROR(VLOOKUP(J1027,[1]functii!D:E,2,FALSE),\"-\")","v":"-"}]
[null,1023,null,null,null,null,null,null,null,", ",", , , ID , ",{"$f":"IFERROR(VLOOKUP(J1028,[1]functii!D:E,2,FALSE),\"-\")","v":"-"}]
[null,1024,null,null,null,null,null,null,null,", ",", , , ID , ",{"$f":"IFERROR(VLOOKUP(J1029,[1]functii!D:E,2,FALSE),\"-\")","v":"-"}]
[null,1025,null,null,null,null,null,null,null,{"$f":"_xlfn.CONCAT(D1030,\",\",\" \",F1030)","v":", "},{"$f":"CONCATENATE(D1030,\", \",E1030,\", \",F1030,\", ID \",G1030,\", \",H1030)","v":", , , ID , "},{"$f":"IFERROR(VLOOKUP(J1030,[1]functii!D:E,2,FALSE),\"-\")","v":"-"}]
[null,1026,null,null,null,null,null,null,null,", ",", , , ID , ",{"$f":"IFERROR(VLOOKUP(J1031,[1]functii!D:E,2,FALSE),\"-\")","v":"-"}]
[null,1027,null,null,null,null,null,null,null,", ",", , , ID , ",{"$f":"IFERROR(VLOOKUP(J1032,[1]functii!D:E,2,FALSE),\"-\")","v":"-"}]
[null,1028,null,null,null,null,null,null,null,", ",", , , ID , ",{"$f":"IFERROR(VLOOKUP(J1033,[1]functii!D:E,2,FALSE),\"-\")","v":"-"}]
[null,1029,null,null,null,null,null,null,null,", ",", , , ID , ",{"$f":"IFERROR(VLOOKUP(J1034,[1]functii!D:E,2,FALSE),\"-\")","v":"-"}]
[null,1030,null,null,null,null,null,null,null,", ",", , , ID , ",{"$f":"IFERROR(VLOOKUP(J1035,[1]functii!D:E,2,FALSE),\"-\")","v":"-"}]
[null,1031,null,null,null,null,null,null,null,", ",", , , ID , ",{"$f":"IFERROR(VLOOKUP(J1036,[1]functii!D:E,2,FALSE),\"-\")","v":"-"}]
[null,1032,null,null,null,null,null,null,null,", ",", , , ID , ",{"$f":"IFERROR(VLOOKUP(J1037,[1]functii!D:E,2,FALSE),\"-\")","v":"-"}]
[null,1033,null,null,null,null,null,null,null,", ",", , , ID , ",{"$f":"IFERROR(VLOOKUP(J1038,[1]functii!D:E,2,FALSE),\"-\")","v":"-"}]
[null,1034,null,null,null,null,null,null,null,", ",", , , ID , ",{"$f":"IFERROR(VLOOKUP(J1039,[1]functii!D:E,2,FALSE),\"-\")","v":"-"}]
[null,1035,null,null,null,null,null,null,null,", ",", , , ID , ",{"$f":"IFERROR(VLOOKUP(J1040,[1]functii!D:E,2,FALSE),\"-\")","v":"-"}]
[null,1036,null,null,null,null,null,null,null,", ",", , , ID , ",{"$f":"IFERROR(VLOOKUP(J1041,[1]functii!D:E,2,FALSE),\"-\")","v":"-"}]
[null,1037,null,null,null,null,null,null,null,", ",", , , ID , ",{"$f":"IFERROR(VLOOKUP(J1042,[1]functii!D:E,2,FALSE),\"-\")","v":"-"}]
[null,1038,null,null,null,null,null,null,null,", ",", , , ID , ",{"$f":"IFERROR(VLOOKUP(J1043,[1]functii!D:E,2,FALSE),\"-\")","v":"-"}]
[null,1039,null,null,null,null,null,null,null,", ",", , , ID , ",{"$f":"IFERROR(VLOOKUP(J1044,[1]functii!D:E,2,FALSE),\"-\")","v":"-"}]
[null,1040,null,null,null,null,null,null,null,", ",", , , ID , ",{"$f":"IFERROR(VLOOKUP(J1045,[1]functii!D:E,2,FALSE),\"-\")","v":"-"}]
[null,1041,null,null,null,null,null,null,null,", ",", , , ID , ",{"$f":"IFERROR(VLOOKUP(J1046,[1]functii!D:E,2,FALSE),\"-\")","v":"-"}]
[null,1042,null,null,null,null,null,null,null,", ",", , , ID , ",{"$f":"IFERROR(VLOOKUP(J1047,[1]functii!D:E,2,FALSE),\"-\")","v":"-"}]
[null,1043,null,null,null,null,null,null,null,", ",", , , ID , ",{"$f":"IFERROR(VLOOKUP(J1048,[1]functii!D:E,2,FALSE),\"-\")","v":"-"}]
[null,1044,null,null,null,null,null,null,null,", ",", , , ID , ",{"$f":"IFERROR(VLOOKUP(J1049,[1]functii!D:E,2,FALSE),\"-\")","v":"-"}]
[null,1045,null,null,null,null,null,null,null,", ",", , , ID , ",{"$f":"IFERROR(VLOOKUP(J1050,[1]functii!D:E,2,FALSE),\"-\")","v":"-"}]
[null,1046,null,null,null,null,null,null,null,", ",", , , ID , ",{"$f":"IFERROR(VLOOKUP(J1051,[1]functii!D:E,2,FALSE),\"-\")","v":"-"}]
[null,1047,null,null,null,null,null,null,null,", ",", , , ID , ",{"$f":"IFERROR(VLOOKUP(J1052,[1]functii!D:E,2,FALSE),\"-\")","v":"-"}]
[null,1048,null,null,null,null,null,null,null,", ",", , , ID , ",{"$f":"IFERROR(VLOOKUP(J1053,[1]functii!D:E,2,FALSE),\"-\")","v":"-"}]
[null,1049,null,null,null,null,null,null,null,", ",", , , ID , ",{"$f":"IFERROR(VLOOKUP(J1054,[1]functii!D:E,2,FALSE),\"-\")","v":"-"}]
[null,1050,null,null,null,null,null,null,null,", ",", , , ID , ",{"$f":"IFERROR(VLOOKUP(J1055,[1]functii!D:E,2,FALSE),\"-\")","v":"-"}]
[null,1051,null,null,null,null,null,null,null,", ",", , , ID , ",{"$f":"IFERROR(VLOOKUP(J1056,[1]functii!D:E,2,FALSE),\"-\")","v":"-"}]
[null,1052,null,null,null,null,null,null,null,", ",", , , ID , ",{"$f":"IFERROR(VLOOKUP(J1057,[1]functii!D:E,2,FALSE),\"-\")","v":"-"}]
[null,1053,null,null,null,null,null,null,null,", ",", , , ID , ",{"$f":"IFERROR(VLOOKUP(J1058,[1]functii!D:E,2,FALSE),\"-\")","v":"-"}]
[null,1054,null,null,null,null,null,null,null,", ",", , , ID , ",{"$f":"IFERROR(VLOOKUP(J1059,[1]functii!D:E,2,FALSE),\"-\")","v":"-"}]
[null,1055,null,null,null,null,null,null,null,", ",", , , ID , ",{"$f":"IFERROR(VLOOKUP(J1060,[1]functii!D:E,2,FALSE),\"-\")","v":"-"}]
[null,1056,null,null,null,null,null,null,null,", ",", , , ID , ",{"$f":"IFERROR(VLOOKUP(J1061,[1]functii!D:E,2,FALSE),\"-\")","v":"-"}]
[null,1057,null,null,null,null,null,null,null,", ",", , , ID , ",{"$f":"IFERROR(VLOOKUP(J1062,[1]functii!D:E,2,FALSE),\"-\")","v":"-"}]
[null,1058,null,null,null,null,null,null,null,", ",", , , ID , ",{"$f":"IFERROR(VLOOKUP(J1063,[1]functii!D:E,2,FALSE),\"-\")","v":"-"}]
[null,1059,null,null,null,null,null,null,null,", ",", , , ID , ",{"$f":"IFERROR(VLOOKUP(J1064,[1]functii!D:E,2,FALSE),\"-\")","v":"-"}]
[null,1060,null,null,null,null,null,null,null,", ",", , , ID , ",{"$f":"IFERROR(VLOOKUP(J1065,[1]functii!D:E,2,FALSE),\"-\")","v":"-"}]
[null,1061,null,null,null,null,null,null,null,", ",", , , ID , ",{"$f":"IFERROR(VLOOKUP(J1066,[1]functii!D:E,2,FALSE),\"-\")","v":"-"}]
[null,1062,null,null,null,null,null,null,null,", ",", , , ID , ",{"$f":"IFERROR(VLOOKUP(J1067,[1]functii!D:E,2,FALSE),\"-\")","v":"-"}]
[null,1063,null,null,null,null,null,null,null,", ",", , , ID , ",{"$f":"IFERROR(VLOOKUP(J1068,[1]functii!D:E,2,FALSE),\"-\")","v":"-"}]
[null,1064,null,null,null,null,null,null,null,", ",", , , ID , ",{"$f":"IFERROR(VLOOKUP(J1069,[1]functii!D:E,2,FALSE),\"-\")","v":"-"}]
[null,1065,null,null,null,null,null,null,null,", ",", , , ID , ",{"$f":"IFERROR(VLOOKUP(J1070,[1]functii!D:E,2,FALSE),\"-\")","v":"-"}]
[null,1066,null,null,null,null,null,null,null,", ",", , , ID , ",{"$f":"IFERROR(VLOOKUP(J1071,[1]functii!D:E,2,FALSE),\"-\")","v":"-"}]
[null,1067,null,null,null,null,null,null,null,", ",", , , ID , ",{"$f":"IFERROR(VLOOKUP(J1072,[1]functii!D:E,2,FALSE),\"-\")","v":"-"}]
[null,1068,null,null,null,null,null,null,null,", ",", , , ID , ",{"$f":"IFERROR(VLOOKUP(J1073,[1]functii!D:E,2,FALSE),\"-\")","v":"-"}]
[null,1069,null,null,null,null,null,null,null,", ",", , , ID , ",{"$f":"IFERROR(VLOOKUP(J1074,[1]functii!D:E,2,FALSE),\"-\")","v":"-"}]
[null,1070,null,null,null,null,null,null,null,", ",", , , ID , ",{"$f":"IFERROR(VLOOKUP(J1075,[1]functii!D:E,2,FALSE),\"-\")","v":"-"}]
[null,1071,null,null,null,null,null,null,null,", ",", , , ID , ",{"$f":"IFERROR(VLOOKUP(J1076,[1]functii!D:E,2,FALSE),\"-\")","v":"-"}]
[null,1072,null,null,null,null,null,null,null,", ",", , , ID , ",{"$f":"IFERROR(VLOOKUP(J1077,[1]functii!D:E,2,FALSE),\"-\")","v":"-"}]
[null,1073,null,null,null,null,null,null,null,", ",", , , ID , ",{"$f":"IFERROR(VLOOKUP(J1078,[1]functii!D:E,2,FALSE),\"-\")","v":"-"}]
[null,1074,null,null,null,null,null,null,null,", ",", , , ID , ",{"$f":"IFERROR(VLOOKUP(J1079,[1]functii!D:E,2,FALSE),\"-\")","v":"-"}]
[null,1075,null,null,null,null,null,null,null,", ",", , , ID , ",{"$f":"IFERROR(VLOOKUP(J1080,[1]functii!D:E,2,FALSE),\"-\")","v":"-"}]
[null,1076,null,null,null,null,null,null,null,", ",", , , ID , ",{"$f":"IFERROR(VLOOKUP(J1081,[1]functii!D:E,2,FALSE),\"-\")","v":"-"}]
[null,1077,null,null,null,null,null,null,null,", ",", , , ID , ",{"$f":"IFERROR(VLOOKUP(J1082,[1]functii!D:E,2,FALSE),\"-\")","v":"-"}]
[null,1078,null,null,null,null,null,null,null,", ",", , , ID , ",{"$f":"IFERROR(VLOOKUP(J1083,[1]functii!D:E,2,FALSE),\"-\")","v":"-"}]
[null,1079,null,null,null,null,null,null,null,", ",", , , ID , ",{"$f":"IFERROR(VLOOKUP(J1084,[1]functii!D:E,2,FALSE),\"-\")","v":"-"}]
[null,1080,null,null,null,null,null,null,null,", ",", , , ID , ",{"$f":"IFERROR(VLOOKUP(J1085,[1]functii!D:E,2,FALSE),\"-\")","v":"-"}]
[null,1081,null,null,null,null,null,null,null,", ",", , , ID , ",{"$f":"IFERROR(VLOOKUP(J1086,[1]functii!D:E,2,FALSE),\"-\")","v":"-"}]
[null,1082,null,null,null,null,null,null,null,", ",", , , ID , ",{"$f":"IFERROR(VLOOKUP(J1087,[1]functii!D:E,2,FALSE),\"-\")","v":"-"}]
[null,1083,null,null,null,null,null,null,null,", ",", , , ID , ",{"$f":"IFERROR(VLOOKUP(J1088,[1]functii!D:E,2,FALSE),\"-\")","v":"-"}]
[null,1084,null,null,null,null,null,null,null,", ",", , , ID , ",{"$f":"IFERROR(VLOOKUP(J1089,[1]functii!D:E,2,FALSE),\"-\")","v":"-"}]
[null,1085,null,null,null,null,null,null,null,", ",", , , ID , ",{"$f":"IFERROR(VLOOKUP(J1090,[1]functii!D:E,2,FALSE),\"-\")","v":"-"}]
[null,1086,null,null,null,null,null,null,null,", ",", , , ID , ",{"$f":"IFERROR(VLOOKUP(J1091,[1]functii!D:E,2,FALSE),\"-\")","v":"-"}]
[null,1087,null,null,null,null,null,null,null,", ",", , , ID , ",{"$f":"IFERROR(VLOOKUP(J1092,[1]functii!D:E,2,FALSE),\"-\")","v":"-"}]
[null,1088,null,null,null,null,null,null,null,", ",", , , ID , ",{"$f":"IFERROR(VLOOKUP(J1093,[1]functii!D:E,2,FALSE),\"-\")","v":"-"}]
[null,1089,null,null,null,null,null,null,null,{"$f":"_xlfn.CONCAT(D1094,\",\",\" \",F1094)","v":", "},{"$f":"CONCATENATE(D1094,\", \",E1094,\", \",F1094,\", ID \",G1094,\", \",H1094)","v":", , , ID , "},{"$f":"IFERROR(VLOOKUP(J1094,[1]functii!D:E,2,FALSE),\"-\")","v":"-"}]
[null,1090,null,null,null,null,null,null,null,", ",", , , ID , ",{"$f":"IFERROR(VLOOKUP(J1095,[1]functii!D:E,2,FALSE),\"-\")","v":"-"}]
[null,1091,null,null,null,null,null,null,null,", ",", , , ID , ",{"$f":"IFERROR(VLOOKUP(J1096,[1]functii!D:E,2,FALSE),\"-\")","v":"-"}]
[null,1092,null,null,null,null,null,null,null,", ",", , , ID , ",{"$f":"IFERROR(VLOOKUP(J1097,[1]functii!D:E,2,FALSE),\"-\")","v":"-"}]
[null,1093,null,null,null,null,null,null,null,", ",", , , ID , ",{"$f":"IFERROR(VLOOKUP(J1098,[1]functii!D:E,2,FALSE),\"-\")","v":"-"}]
[null,1094,null,null,null,null,null,null,null,", ",", , , ID , ",{"$f":"IFERROR(VLOOKUP(J1099,[1]functii!D:E,2,FALSE),\"-\")","v":"-"}]
[null,1095,null,null,null,null,null,null,null,", ",", , , ID , ",{"$f":"IFERROR(VLOOKUP(J1100,[1]functii!D:E,2,FALSE),\"-\")","v":"-"}]
[null,1096,null,null,null,null,null,null,null,", ",", , , ID , ",{"$f":"IFERROR(VLOOKUP(J1101,[1]functii!D:E,2,FALSE),\"-\")","v":"-"}]
[null,1097,null,null,null,null,null,null,null,", ",", , , ID , ",{"$f":"IFERROR(VLOOKUP(J1102,[1]functii!D:E,2,FALSE),\"-\")","v":"-"}]
[null,1098,null,null,null,null,null,null,null,", ",", , , ID , ",{"$f":"IFERROR(VLOOKUP(J1103,[1]functii!D:E,2,FALSE),\"-\")","v":"-"}]
[null,1099,null,null,null,null,null,null,null,", ",", , , ID , ",{"$f":"IFERROR(VLOOKUP(J1104,[1]functii!D:E,2,FALSE),\"-\")","v":"-"}]
[null,1100,null,null,null,null,null,null,null,", ",", , , ID , ",{"$f":"IFERROR(VLOOKUP(J1105,[1]functii!D:E,2,FALSE),\"-\")","v":"-"}]
[null,1101,null,null,null,null,null,null,null,", ",", , , ID , ",{"$f":"IFERROR(VLOOKUP(J1106,[1]functii!D:E,2,FALSE),\"-\")","v":"-"}]
[null,1102,null,null,null,null,null,null,null,", ",", , , ID , ",{"$f":"IFERROR(VLOOKUP(J1107,[1]functii!D:E,2,FALSE),\"-\")","v":"-"}]
[null,1103,null,null,null,null,null,null,null,", ",", , , ID , ",{"$f":"IFERROR(VLOOKUP(J1108,[1]functii!D:E,2,FALSE),\"-\")","v":"-"}]
[null,1104,null,null,null,null,null,null,null,", ",", , , ID , ",{"$f":"IFERROR(VLOOKUP(J1109,[1]functii!D:E,2,FALSE),\"-\")","v":"-"}]
[null,1105,null,null,null,null,null,null,null,", ",", , , ID , ",{"$f":"IFERROR(VLOOKUP(J1110,[1]functii!D:E,2,FALSE),\"-\")","v":"-"}]
[null,1106,null,null,null,null,null,null,null,", ",", , , ID , ",{"$f":"IFERROR(VLOOKUP(J1111,[1]functii!D:E,2,FALSE),\"-\")","v":"-"}]
[null,1107,null,null,null,null,null,null,null,", ",", , , ID , ",{"$f":"IFERROR(VLOOKUP(J1112,[1]functii!D:E,2,FALSE),\"-\")","v":"-"}]
[null,1108,null,null,null,null,null,null,null,", ",", , , ID , ",{"$f":"IFERROR(VLOOKUP(J1113,[1]functii!D:E,2,FALSE),\"-\")","v":"-"}]
[null,1109,null,null,null,null,null,null,null,", ",", , , ID , ",{"$f":"IFERROR(VLOOKUP(J1114,[1]functii!D:E,2,FALSE),\"-\")","v":"-"}]
[null,1110,null,null,null,null,null,null,null,", ",", , , ID , ",{"$f":"IFERROR(VLOOKUP(J1115,[1]functii!D:E,2,FALSE),\"-\")","v":"-"}]
[null,1111,null,null,null,null,null,null,null,", ",", , , ID , ",{"$f":"IFERROR(VLOOKUP(J1116,[1]functii!D:E,2,FALSE),\"-\")","v":"-"}]
[null,1112,null,null,null,null,null,null,null,", ",", , , ID , ",{"$f":"IFERROR(VLOOKUP(J1117,[1]functii!D:E,2,FALSE),\"-\")","v":"-"}]
[null,1113,null,null,null,null,null,null,null,", ",", , , ID , ",{"$f":"IFERROR(VLOOKUP(J1118,[1]functii!D:E,2,FALSE),\"-\")","v":"-"}]
[null,1114,null,null,null,null,null,null,null,", ",", , , ID , ",{"$f":"IFERROR(VLOOKUP(J1119,[1]functii!D:E,2,FALSE),\"-\")","v":"-"}]
[null,1115,null,null,null,null,null,null,null,", ",", , , ID , ",{"$f":"IFERROR(VLOOKUP(J1120,[1]functii!D:E,2,FALSE),\"-\")","v":"-"}]
[null,1116,null,null,null,null,null,null,null,", ",", , , ID , ",{"$f":"IFERROR(VLOOKUP(J1121,[1]functii!D:E,2,FALSE),\"-\")","v":"-"}]
[null,1117,null,null,null,null,null,null,null,", ",", , , ID , ",{"$f":"IFERROR(VLOOKUP(J1122,[1]functii!D:E,2,FALSE),\"-\")","v":"-"}]
[null,1118,null,null,null,null,null,null,null,", ",", , , ID , ",{"$f":"IFERROR(VLOOKUP(J1123,[1]functii!D:E,2,FALSE),\"-\")","v":"-"}]
[null,1119,null,null,null,null,null,null,null,", ",", , , ID , ",{"$f":"IFERROR(VLOOKUP(J1124,[1]functii!D:E,2,FALSE),\"-\")","v":"-"}]
[null,1120,null,null,null,null,null,null,null,", ",", , , ID , ",{"$f":"IFERROR(VLOOKUP(J1125,[1]functii!D:E,2,FALSE),\"-\")","v":"-"}]
[null,1121,null,null,null,null,null,null,null,", ",", , , ID , ",{"$f":"IFERROR(VLOOKUP(J1126,[1]functii!D:E,2,FALSE),\"-\")","v":"-"}]
[null,1122,null,null,null,null,null,null,null,", ",", , , ID , ",{"$f":"IFERROR(VLOOKUP(J1127,[1]functii!D:E,2,FALSE),\"-\")","v":"-"}]
[null,1123,null,null,null,null,null,null,null,", ",", , , ID , ",{"$f":"IFERROR(VLOOKUP(J1128,[1]functii!D:E,2,FALSE),\"-\")","v":"-"}]
[null,1124,null,null,null,null,null,null,null,", ",", , , ID , ",{"$f":"IFERROR(VLOOKUP(J1129,[1]functii!D:E,2,FALSE),\"-\")","v":"-"}]
[null,1125,null,null,null,null,null,null,null,", ",", , , ID , ",{"$f":"IFERROR(VLOOKUP(J1130,[1]functii!D:E,2,FALSE),\"-\")","v":"-"}]
[null,1126,null,null,null,null,null,null,null,", ",", , , ID , ",{"$f":"IFERROR(VLOOKUP(J1131,[1]functii!D:E,2,FALSE),\"-\")","v":"-"}]
[null,1127,null,null,null,null,null,null,null,", ",", , , ID , ",{"$f":"IFERROR(VLOOKUP(J1132,[1]functii!D:E,2,FALSE),\"-\")","v":"-"}]
[null,1128,null,null,null,null,null,null,null,", ",", , , ID , ",{"$f":"IFERROR(VLOOKUP(J1133,[1]functii!D:E,2,FALSE),\"-\")","v":"-"}]
[null,1129,null,null,null,null,null,null,null,", ",", , , ID , ",{"$f":"IFERROR(VLOOKUP(J1134,[1]functii!D:E,2,FALSE),\"-\")","v":"-"}]
[null,1130,null,null,null,null,null,null,null,", ",", , , ID , ",{"$f":"IFERROR(VLOOKUP(J1135,[1]functii!D:E,2,FALSE),\"-\")","v":"-"}]
[null,1131,null,null,null,null,null,null,null,", ",", , , ID , ",{"$f":"IFERROR(VLOOKUP(J1136,[1]functii!D:E,2,FALSE),\"-\")","v":"-"}]
[null,1132,null,null,null,null,null,null,null,", ",", , , ID , ",{"$f":"IFERROR(VLOOKUP(J1137,[1]functii!D:E,2,FALSE),\"-\")","v":"-"}]
[null,1133,null,null,null,null,null,null,null,", ",", , , ID , ",{"$f":"IFERROR(VLOOKUP(J1138,[1]functii!D:E,2,FALSE),\"-\")","v":"-"}]
[null,1134,null,null,null,null,null,null,null,", ",", , , ID , ",{"$f":"IFERROR(VLOOKUP(J1139,[1]functii!D:E,2,FALSE),\"-\")","v":"-"}]
[null,1135,null,null,null,null,null,null,null,", ",", , , ID , ",{"$f":"IFERROR(VLOOKUP(J1140,[1]functii!D:E,2,FALSE),\"-\")","v":"-"}]
[null,1136,null,null,null,null,null,null,null,", ",", , , ID , ",{"$f":"IFERROR(VLOOKUP(J1141,[1]functii!D:E,2,FALSE),\"-\")","v":"-"}]
[null,1137,null,null,null,null,null,null,null,", ",", , , ID , ",{"$f":"IFERROR(VLOOKUP(J1142,[1]functii!D:E,2,FALSE),\"-\")","v":"-"}]
[null,1138,null,null,null,null,null,null,null,", ",", , , ID , ",{"$f":"IFERROR(VLOOKUP(J1143,[1]functii!D:E,2,FALSE),\"-\")","v":"-"}]
[null,1139,null,null,null,null,null,null,null,", ",", , , ID , ",{"$f":"IFERROR(VLOOKUP(J1144,[1]functii!D:E,2,FALSE),\"-\")","v":"-"}]
[null,1140,null,null,null,null,null,null,null,", ",", , , ID , ",{"$f":"IFERROR(VLOOKUP(J1145,[1]functii!D:E,2,FALSE),\"-\")","v":"-"}]
[null,1141,null,null,null,null,null,null,null,", ",", , , ID , ",{"$f":"IFERROR(VLOOKUP(J1146,[1]functii!D:E,2,FALSE),\"-\")","v":"-"}]
[null,1142,null,null,null,null,null,null,null,", ",", , , ID , ",{"$f":"IFERROR(VLOOKUP(J1147,[1]functii!D:E,2,FALSE),\"-\")","v":"-"}]
[null,1143,null,null,null,null,null,null,null,", ",", , , ID , ",{"$f":"IFERROR(VLOOKUP(J1148,[1]functii!D:E,2,FALSE),\"-\")","v":"-"}]
[null,1144,null,null,null,null,null,null,null,", ",", , , ID , ",{"$f":"IFERROR(VLOOKUP(J1149,[1]functii!D:E,2,FALSE),\"-\")","v":"-"}]
[null,1145,null,null,null,null,null,null,null,", ",", , , ID , ",{"$f":"IFERROR(VLOOKUP(J1150,[1]functii!D:E,2,FALSE),\"-\")","v":"-"}]
[null,1146,null,null,null,null,null,null,null,", ",", , , ID , ",{"$f":"IFERROR(VLOOKUP(J1151,[1]functii!D:E,2,FALSE),\"-\")","v":"-"}]
[null,1147,null,null,null,null,null,null,null,", ",", , , ID , ",{"$f":"IFERROR(VLOOKUP(J1152,[1]functii!D:E,2,FALSE),\"-\")","v":"-"}]
[null,1148,null,null,null,null,null,null,null,", ",", , , ID , ",{"$f":"IFERROR(VLOOKUP(J1153,[1]functii!D:E,2,FALSE),\"-\")","v":"-"}]
[null,1149,null,null,null,null,null,null,null,", ",", , , ID , ",{"$f":"IFERROR(VLOOKUP(J1154,[1]functii!D:E,2,FALSE),\"-\")","v":"-"}]
[null,1150,null,null,null,null,null,null,null,", ",", , , ID , ",{"$f":"IFERROR(VLOOKUP(J1155,[1]functii!D:E,2,FALSE),\"-\")","v":"-"}]
[null,1151,null,null,null,null,null,null,null,", ",", , , ID , ",{"$f":"IFERROR(VLOOKUP(J1156,[1]functii!D:E,2,FALSE),\"-\")","v":"-"}]
[null,1152,null,null,null,null,null,null,null,", ",", , , ID , ",{"$f":"IFERROR(VLOOKUP(J1157,[1]functii!D:E,2,FALSE),\"-\")","v":"-"}]
[null,1153,null,null,null,null,null,null,null,{"$f":"_xlfn.CONCAT(D1158,\",\",\" \",F1158)","v":", "},{"$f":"CONCATENATE(D1158,\", \",E1158,\", \",F1158,\", ID \",G1158,\", \",H1158)","v":", , , ID , "},{"$f":"IFERROR(VLOOKUP(J1158,[1]functii!D:E,2,FALSE),\"-\")","v":"-"}]
[null,1154,null,null,null,null,null,null,null,", ",", , , ID , ",{"$f":"IFERROR(VLOOKUP(J1159,[1]functii!D:E,2,FALSE),\"-\")","v":"-"}]
[null,1155,null,null,null,null,null,null,null,", ",", , , ID , ",{"$f":"IFERROR(VLOOKUP(J1160,[1]functii!D:E,2,FALSE),\"-\")","v":"-"}]
[null,1156,null,null,null,null,null,null,null,", ",", , , ID , ",{"$f":"IFERROR(VLOOKUP(J1161,[1]functii!D:E,2,FALSE),\"-\")","v":"-"}]
[null,1157,null,null,null,null,null,null,null,", ",", , , ID , ",{"$f":"IFERROR(VLOOKUP(J1162,[1]functii!D:E,2,FALSE),\"-\")","v":"-"}]
[null,1158,null,null,null,null,null,null,null,", ",", , , ID , ",{"$f":"IFERROR(VLOOKUP(J1163,[1]functii!D:E,2,FALSE),\"-\")","v":"-"}]
[null,1159,null,null,null,null,null,null,null,", ",", , , ID , ",{"$f":"IFERROR(VLOOKUP(J1164,[1]functii!D:E,2,FALSE),\"-\")","v":"-"}]
[null,1160,null,null,null,null,null,null,null,", ",", , , ID , ",{"$f":"IFERROR(VLOOKUP(J1165,[1]functii!D:E,2,FALSE),\"-\")","v":"-"}]
[null,1161,null,null,null,null,null,null,null,", ",", , , ID , ",{"$f":"IFERROR(VLOOKUP(J1166,[1]functii!D:E,2,FALSE),\"-\")","v":"-"}]
[null,1162,null,null,null,null,null,null,null,", ",", , , ID , ",{"$f":"IFERROR(VLOOKUP(J1167,[1]functii!D:E,2,FALSE),\"-\")","v":"-"}]
[null,1163,null,null,null,null,null,null,null,", ",", , , ID , ",{"$f":"IFERROR(VLOOKUP(J1168,[1]functii!D:E,2,FALSE),\"-\")","v":"-"}]
[null,1164,null,null,null,null,null,null,null,", ",", , , ID , ",{"$f":"IFERROR(VLOOKUP(J1169,[1]functii!D:E,2,FALSE),\"-\")","v":"-"}]
[null,1165,null,null,null,null,null,null,null,", ",", , , ID , ",{"$f":"IFERROR(VLOOKUP(J1170,[1]functii!D:E,2,FALSE),\"-\")","v":"-"}]
[null,1166,null,null,null,null,null,null,null,", ",", , , ID , ",{"$f":"IFERROR(VLOOKUP(J1171,[1]functii!D:E,2,FALSE),\"-\")","v":"-"}]
[null,1167,null,null,null,null,null,null,null,", ",", , , ID , ",{"$f":"IFERROR(VLOOKUP(J1172,[1]functii!D:E,2,FALSE),\"-\")","v":"-"}]
[null,1168,null,null,null,null,null,null,null,", ",", , , ID , ",{"$f":"IFERROR(VLOOKUP(J1173,[1]functii!D:E,2,FALSE),\"-\")","v":"-"}]
[null,1169,null,null,null,null,null,null,null,", ",", , , ID , ",{"$f":"IFERROR(VLOOKUP(J1174,[1]functii!D:E,2,FALSE),\"-\")","v":"-"}]
[null,1170,null,null,null,null,null,null,null,", ",", , , ID , ",{"$f":"IFERROR(VLOOKUP(J1175,[1]functii!D:E,2,FALSE),\"-\")","v":"-"}]
[null,1171,null,null,null,null,null,null,null,", ",", , , ID , ",{"$f":"IFERROR(VLOOKUP(J1176,[1]functii!D:E,2,FALSE),\"-\")","v":"-"}]
[null,1172,null,null,null,null,null,null,null,", ",", , , ID , ",{"$f":"IFERROR(VLOOKUP(J1177,[1]functii!D:E,2,FALSE),\"-\")","v":"-"}]
[null,1173,null,null,null,null,null,null,null,", ",", , , ID , ",{"$f":"IFERROR(VLOOKUP(J1178,[1]functii!D:E,2,FALSE),\"-\")","v":"-"}]
[null,1174,null,null,null,null,null,null,null,", ",", , , ID , ",{"$f":"IFERROR(VLOOKUP(J1179,[1]functii!D:E,2,FALSE),\"-\")","v":"-"}]
[null,1175,null,null,null,null,null,null,null,", ",", , , ID , ",{"$f":"IFERROR(VLOOKUP(J1180,[1]functii!D:E,2,FALSE),\"-\")","v":"-"}]
[null,1176,null,null,null,null,null,null,null,", ",", , , ID , ",{"$f":"IFERROR(VLOOKUP(J1181,[1]functii!D:E,2,FALSE),\"-\")","v":"-"}]
[null,1177,null,null,null,null,null,null,null,", ",", , , ID , ",{"$f":"IFERROR(VLOOKUP(J1182,[1]functii!D:E,2,FALSE),\"-\")","v":"-"}]
[null,1178,null,null,null,null,null,null,null,", ",", , , ID , ",{"$f":"IFERROR(VLOOKUP(J1183,[1]functii!D:E,2,FALSE),\"-\")","v":"-"}]
[null,1179,null,null,null,null,null,null,null,", ",", , , ID , ",{"$f":"IFERROR(VLOOKUP(J1184,[1]functii!D:E,2,FALSE),\"-\")","v":"-"}]
[null,1180,null,null,null,null,null,null,null,", ",", , , ID , ",{"$f":"IFERROR(VLOOKUP(J1185,[1]functii!D:E,2,FALSE),\"-\")","v":"-"}]
[null,1181,null,null,null,null,null,null,null,", ",", , , ID , ",{"$f":"IFERROR(VLOOKUP(J1186,[1]functii!D:E,2,FALSE),\"-\")","v":"-"}]
[null,1182,null,null,null,null,null,null,null,", ",", , , ID , ",{"$f":"IFERROR(VLOOKUP(J1187,[1]functii!D:E,2,FALSE),\"-\")","v":"-"}]
[null,1183,null,null,null,null,null,null,null,", ",", , , ID , ",{"$f":"IFERROR(VLOOKUP(J1188,[1]functii!D:E,2,FALSE),\"-\")","v":"-"}]
[null,1184,null,null,null,null,null,null,null,", ",", , , ID , ",{"$f":"IFERROR(VLOOKUP(J1189,[1]functii!D:E,2,FALSE),\"-\")","v":"-"}]
[null,1185,null,null,null,null,null,null,null,", ",", , , ID , ",{"$f":"IFERROR(VLOOKUP(J1190,[1]functii!D:E,2,FALSE),\"-\")","v":"-"}]
[null,1186,null,null,null,null,null,null,null,", ",", , , ID , ",{"$f":"IFERROR(VLOOKUP(J1191,[1]functii!D:E,2,FALSE),\"-\")","v":"-"}]
[null,1187,null,null,null,null,null,null,null,", ",", , , ID , ",{"$f":"IFERROR(VLOOKUP(J1192,[1]functii!D:E,2,FALSE),\"-\")","v":"-"}]
[null,1188,null,null,null,null,null,null,null,", ",", , , ID , ",{"$f":"IFERROR(VLOOKUP(J1193,[1]functii!D:E,2,FALSE),\"-\")","v":"-"}]
[null,1189,null,null,null,null,null,null,null,", ",", , , ID , ",{"$f":"IFERROR(VLOOKUP(J1194,[1]functii!D:E,2,FALSE),\"-\")","v":"-"}]
[null,1190,null,null,null,null,null,null,null,", ",", , , ID , ",{"$f":"IFERROR(VLOOKUP(J1195,[1]functii!D:E,2,FALSE),\"-\")","v":"-"}]
[null,1191,null,null,null,null,null,null,null,", ",", , , ID , ",{"$f":"IFERROR(VLOOKUP(J1196,[1]functii!D:E,2,FALSE),\"-\")","v":"-"}]
[null,1192,null,null,null,null,null,null,null,", ",", , , ID , ",{"$f":"IFERROR(VLOOKUP(J1197,[1]functii!D:E,2,FALSE),\"-\")","v":"-"}]
[null,1193,null,null,null,null,null,null,null,", ",", , , ID , ",{"$f":"IFERROR(VLOOKUP(J1198,[1]functii!D:E,2,FALSE),\"-\")","v":"-"}]
[null,1194,null,null,null,null,null,null,null,", ",", , , ID , ",{"$f":"IFERROR(VLOOKUP(J1199,[1]functii!D:E,2,FALSE),\"-\")","v":"-"}]
[null,1195,null,null,null,null,null,null,null,", ",", , , ID , ",{"$f":"IFERROR(VLOOKUP(J1200,[1]functii!D:E,2,FALSE),\"-\")","v":"-"}]
[null,1196,null,null,null,null,null,null,null,", ",", , , ID , ",{"$f":"IFERROR(VLOOKUP(J1201,[1]functii!D:E,2,FALSE),\"-\")","v":"-"}]
[null,1197,null,null,null,null,null,null,null,", ",", , , ID , ",{"$f":"IFERROR(VLOOKUP(J1202,[1]functii!D:E,2,FALSE),\"-\")","v":"-"}]
[null,1198,null,null,null,null,null,null,null,", ",", , , ID , ",{"$f":"IFERROR(VLOOKUP(J1203,[1]functii!D:E,2,FALSE),\"-\")","v":"-"}]
[null,1199,null,null,null,null,null,null,null,", ",", , , ID , ",{"$f":"IFERROR(VLOOKUP(J1204,[1]functii!D:E,2,FALSE),\"-\")","v":"-"}]
[null,1200,null,null,null,null,null,null,null,", ",", , , ID , ",{"$f":"IFERROR(VLOOKUP(J1205,[1]functii!D:E,2,FALSE),\"-\")","v":"-"}]
[null,1201,null,null,null,null,null,null,null,", ",", , , ID , ",{"$f":"IFERROR(VLOOKUP(J1206,[1]functii!D:E,2,FALSE),\"-\")","v":"-"}]
[null,1202,null,null,null,null,null,null,null,", ",", , , ID , ",{"$f":"IFERROR(VLOOKUP(J1207,[1]functii!D:E,2,FALSE),\"-\")","v":"-"}]
[null,1203,null,null,null,null,null,null,null,", ",", , , ID , ",{"$f":"IFERROR(VLOOKUP(J1208,[1]functii!D:E,2,FALSE),\"-\")","v":"-"}]
[null,1204,null,null,null,null,null,null,null,", ",", , , ID , ",{"$f":"IFERROR(VLOOKUP(J1209,[1]functii!D:E,2,FALSE),\"-\")","v":"-"}]
[null,1205,null,null,null,null,null,null,null,", ",", , , ID , ",{"$f":"IFERROR(VLOOKUP(J1210,[1]functii!D:E,2,FALSE),\"-\")","v":"-"}]
[null,1206,null,null,null,null,null,null,null,", ",", , , ID , ",{"$f":"IFERROR(VLOOKUP(J1211,[1]functii!D:E,2,FALSE),\"-\")","v":"-"}]
[null,1207,null,null,null,null,null,null,null,", ",", , , ID , ",{"$f":"IFERROR(VLOOKUP(J1212,[1]functii!D:E,2,FALSE),\"-\")","v":"-"}]
[null,1208,null,null,null,null,null,null,null,", ",", , , ID , ",{"$f":"IFERROR(VLOOKUP(J1213,[1]functii!D:E,2,FALSE),\"-\")","v":"-"}]
[null,1209,null,null,null,null,null,null,null,", ",", , , ID , ",{"$f":"IFERROR(VLOOKUP(J1214,[1]functii!D:E,2,FALSE),\"-\")","v":"-"}]
[null,1210,null,null,null,null,null,null,null,", ",", , , ID , ",{"$f":"IFERROR(VLOOKUP(J1215,[1]functii!D:E,2,FALSE),\"-\")","v":"-"}]
[null,1211,null,null,null,null,null,null,null,", ",", , , ID , ",{"$f":"IFERROR(VLOOKUP(J1216,[1]functii!D:E,2,FALSE),\"-\")","v":"-"}]
[null,1212,null,null,null,null,null,null,null,", ",", , , ID , ",{"$f":"IFERROR(VLOOKUP(J1217,[1]functii!D:E,2,FALSE),\"-\")","v":"-"}]
[null,1213,null,null,null,null,null,null,null,", ",", , , ID , ",{"$f":"IFERROR(VLOOKUP(J1218,[1]functii!D:E,2,FALSE),\"-\")","v":"-"}]
[null,1214,null,null,null,null,null,null,null,", ",", , , ID , ",{"$f":"IFERROR(VLOOKUP(J1219,[1]functii!D:E,2,FALSE),\"-\")","v":"-"}]
[null,1215,null,null,null,null,null,null,null,", ",", , , ID , ",{"$f":"IFERROR(VLOOKUP(J1220,[1]functii!D:E,2,FALSE),\"-\")","v":"-"}]
[null,1216,null,null,null,null,null,null,null,", ",", , , ID , ",{"$f":"IFERROR(VLOOKUP(J1221,[1]functii!D:E,2,FALSE),\"-\")","v":"-"}]
[null,1217,null,null,null,null,null,null,null,{"$f":"_xlfn.CONCAT(D1222,\",\",\" \",F1222)","v":", "},{"$f":"CONCATENATE(D1222,\", \",E1222,\", \",F1222,\", ID \",G1222,\", \",H1222)","v":", , , ID , "},{"$f":"IFERROR(VLOOKUP(J1222,[1]functii!D:E,2,FALSE),\"-\")","v":"-"}]
[null,1218,null,null,null,null,null,null,null,", ",", , , ID , ",{"$f":"IFERROR(VLOOKUP(J1223,[1]functii!D:E,2,FALSE),\"-\")","v":"-"}]
[null,1219,null,null,null,null,null,null,null,", ",", , , ID , ",{"$f":"IFERROR(VLOOKUP(J1224,[1]functii!D:E,2,FALSE),\"-\")","v":"-"}]
[null,1220,null,null,null,null,null,null,null,", ",", , , ID , ",{"$f":"IFERROR(VLOOKUP(J1225,[1]functii!D:E,2,FALSE),\"-\")","v":"-"}]
[null,1221,null,null,null,null,null,null,null,", ",", , , ID , ",{"$f":"IFERROR(VLOOKUP(J1226,[1]functii!D:E,2,FALSE),\"-\")","v":"-"}]
[null,1222,null,null,null,null,null,null,null,", ",", , , ID , ",{"$f":"IFERROR(VLOOKUP(J1227,[1]functii!D:E,2,FALSE),\"-\")","v":"-"}]
[null,1223,null,null,null,null,null,null,null,", ",", , , ID , ",{"$f":"IFERROR(VLOOKUP(J1228,[1]functii!D:E,2,FALSE),\"-\")","v":"-"}]
[null,1224,null,null,null,null,null,null,null,", ",", , , ID , ",{"$f":"IFERROR(VLOOKUP(J1229,[1]functii!D:E,2,FALSE),\"-\")","v":"-"}]
[null,1225,null,null,null,null,null,null,null,", ",", , , ID , ",{"$f":"IFERROR(VLOOKUP(J1230,[1]functii!D:E,2,FALSE),\"-\")","v":"-"}]
[null,1226,null,null,null,null,null,null,null,", ",", , , ID , ",{"$f":"IFERROR(VLOOKUP(J1231,[1]functii!D:E,2,FALSE),\"-\")","v":"-"}]
[null,1227,null,null,null,null,null,null,null,", ",", , , ID , ",{"$f":"IFERROR(VLOOKUP(J1232,[1]functii!D:E,2,FALSE),\"-\")","v":"-"}]
[null,1228,null,null,null,null,null,null,null,", ",", , , ID , ",{"$f":"IFERROR(VLOOKUP(J1233,[1]functii!D:E,2,FALSE),\"-\")","v":"-"}]
[null,1229,null,null,null,null,null,null,null,", ",", , , ID , ",{"$f":"IFERROR(VLOOKUP(J1234,[1]functii!D:E,2,FALSE),\"-\")","v":"-"}]
[null,1230,null,null,null,null,null,null,null,", ",", , , ID , ",{"$f":"IFERROR(VLOOKUP(J1235,[1]functii!D:E,2,FALSE),\"-\")","v":"-"}]
[null,1231,null,null,null,null,null,null,null,", ",", , , ID , ",{"$f":"IFERROR(VLOOKUP(J1236,[1]functii!D:E,2,FALSE),\"-\")","v":"-"}]
[null,1232,null,null,null,null,null,null,null,", ",", , , ID , ",{"$f":"IFERROR(VLOOKUP(J1237,[1]functii!D:E,2,FALSE),\"-\")","v":"-"}]
[null,1233,null,null,null,null,null,null,null,", ",", , , ID , ",{"$f":"IFERROR(VLOOKUP(J1238,[1]functii!D:E,2,FALSE),\"-\")","v":"-"}]
[null,1234,null,null,null,null,null,null,null,", ",", , , ID , ",{"$f":"IFERROR(VLOOKUP(J1239,[1]functii!D:E,2,FALSE),\"-\")","v":"-"}]
[null,1235,null,null,null,null,null,null,null,", ",", , , ID , ",{"$f":"IFERROR(VLOOKUP(J1240,[1]functii!D:E,2,FALSE),\"-\")","v":"-"}]
[null,1236,null,null,null,null,null,null,null,", ",", , , ID , ",{"$f":"IFERROR(VLOOKUP(J1241,[1]functii!D:E,2,FALSE),\"-\")","v":"-"}]
[null,1237,null,null,null,null,null,null,null,", ",", , , ID , ",{"$f":"IFERROR(VLOOKUP(J1242,[1]functii!D:E,2,FALSE),\"-\")","v":"-"}]
[null,1238,null,null,null,null,null,null,null,", ",", , , ID , ",{"$f":"IFERROR(VLOOKUP(J1243,[1]functii!D:E,2,FALSE),\"-\")","v":"-"}]
[null,1239,null,null,null,null,null,null,null,", ",", , , ID , ",{"$f":"IFERROR(VLOOKUP(J1244,[1]functii!D:E,2,FALSE),\"-\")","v":"-"}]
[null,1240,null,null,null,null,null,null,null,", ",", , , ID , ",{"$f":"IFERROR(VLOOKUP(J1245,[1]functii!D:E,2,FALSE),\"-\")","v":"-"}]
[null,1241,null,null,null,null,null,null,null,", ",", , , ID , ",{"$f":"IFERROR(VLOOKUP(J1246,[1]functii!D:E,2,FALSE),\"-\")","v":"-"}]
[null,1242,null,null,null,null,null,null,null,", ",", , , ID , ",{"$f":"IFERROR(VLOOKUP(J1247,[1]functii!D:E,2,FALSE),\"-\")","v":"-"}]
[null,1243,null,null,null,null,null,null,null,", ",", , , ID , ",{"$f":"IFERROR(VLOOKUP(J1248,[1]functii!D:E,2,FALSE),\"-\")","v":"-"}]
[null,1244,null,null,null,null,null,null,null,", ",", , , ID , ",{"$f":"IFERROR(VLOOKUP(J1249,[1]functii!D:E,2,FALSE),\"-\")","v":"-"}]
[null,1245,null,null,null,null,null,null,null,", ",", , , ID , ",{"$f":"IFERROR(VLOOKUP(J1250,[1]functii!D:E,2,FALSE),\"-\")","v":"-"}]
[null,1246,null,null,null,null,null,null,null,", ",", , , ID , ",{"$f":"IFERROR(VLOOKUP(J1251,[1]functii!D:E,2,FALSE),\"-\")","v":"-"}]
[null,1247,null,null,null,null,null,null,null,", ",", , , ID , ",{"$f":"IFERROR(VLOOKUP(J1252,[1]functii!D:E,2,FALSE),\"-\")","v":"-"}]
[null,1248,null,null,null,null,null,null,null,", ",", , , ID , ",{"$f":"IFERROR(VLOOKUP(J1253,[1]functii!D:E,2,FALSE),\"-\")","v":"-"}]
[null,1249,null,null,null,null,null,null,null,", ",", , , ID , ",{"$f":"IFERROR(VLOOKUP(J1254,[1]functii!D:E,2,FALSE),\"-\")","v":"-"}]
[null,1250,null,null,null,null,null,null,null,", ",", , , ID , ",{"$f":"IFERROR(VLOOKUP(J1255,[1]functii!D:E,2,FALSE),\"-\")","v":"-"}]
[null,1251,null,null,null,null,null,null,null,", ",", , , ID , ",{"$f":"IFERROR(VLOOKUP(J1256,[1]functii!D:E,2,FALSE),\"-\")","v":"-"}]
[null,1252,null,null,null,null,null,null,null,", ",", , , ID , ",{"$f":"IFERROR(VLOOKUP(J1257,[1]functii!D:E,2,FALSE),\"-\")","v":"-"}]
[null,1253,null,null,null,null,null,null,null,", ",", , , ID , ",{"$f":"IFERROR(VLOOKUP(J1258,[1]functii!D:E,2,FALSE),\"-\")","v":"-"}]
[null,1254,null,null,null,null,null,null,null,", ",", , , ID , ",{"$f":"IFERROR(VLOOKUP(J1259,[1]functii!D:E,2,FALSE),\"-\")","v":"-"}]
[null,1255,null,null,null,null,null,null,null,", ",", , , ID , ",{"$f":"IFERROR(VLOOKUP(J1260,[1]functii!D:E,2,FALSE),\"-\")","v":"-"}]
[null,1256,null,null,null,null,null,null,null,", ",", , , ID , ",{"$f":"IFERROR(VLOOKUP(J1261,[1]functii!D:E,2,FALSE),\"-\")","v":"-"}]
[null,1257,null,null,null,null,null,null,null,", ",", , , ID , ",{"$f":"IFERROR(VLOOKUP(J1262,[1]functii!D:E,2,FALSE),\"-\")","v":"-"}]
[null,1258,null,null,null,null,null,null,null,", ",", , , ID , ",{"$f":"IFERROR(VLOOKUP(J1263,[1]functii!D:E,2,FALSE),\"-\")","v":"-"}]
[null,1259,null,null,null,null,null,null,null,", ",", , , ID , ",{"$f":"IFERROR(VLOOKUP(J1264,[1]functii!D:E,2,FALSE),\"-\")","v":"-"}]
[null,1260,null,null,null,null,null,null,null,", ",", , , ID , ",{"$f":"IFERROR(VLOOKUP(J1265,[1]functii!D:E,2,FALSE),\"-\")","v":"-"}]
[null,1261,null,null,null,null,null,null,null,", ",", , , ID , ",{"$f":"IFERROR(VLOOKUP(J1266,[1]functii!D:E,2,FALSE),\"-\")","v":"-"}]
[null,1262,null,null,null,null,null,null,null,", ",", , , ID , ",{"$f":"IFERROR(VLOOKUP(J1267,[1]functii!D:E,2,FALSE),\"-\")","v":"-"}]
[null,1263,null,null,null,null,null,null,null,", ",", , , ID , ",{"$f":"IFERROR(VLOOKUP(J1268,[1]functii!D:E,2,FALSE),\"-\")","v":"-"}]
[null,1264,null,null,null,null,null,null,null,", ",", , , ID , ",{"$f":"IFERROR(VLOOKUP(J1269,[1]functii!D:E,2,FALSE),\"-\")","v":"-"}]
[null,1265,null,null,null,null,null,null,null,", ",", , , ID , ",{"$f":"IFERROR(VLOOKUP(J1270,[1]functii!D:E,2,FALSE),\"-\")","v":"-"}]
[null,1266,null,null,null,null,null,null,null,", ",", , , ID , ",{"$f":"IFERROR(VLOOKUP(J1271,[1]functii!D:E,2,FALSE),\"-\")","v":"-"}]
[null,1267,null,null,null,null,null,null,null,", ",", , , ID , ",{"$f":"IFERROR(VLOOKUP(J1272,[1]functii!D:E,2,FALSE),\"-\")","v":"-"}]
[null,1268,null,null,null,null,null,null,null,", ",", , , ID , ",{"$f":"IFERROR(VLOOKUP(J1273,[1]functii!D:E,2,FALSE),\"-\")","v":"-"}]
[null,1269,null,null,null,null,null,null,null,", ",", , , ID , ",{"$f":"IFERROR(VLOOKUP(J1274,[1]functii!D:E,2,FALSE),\"-\")","v":"-"}]
[null,1270,null,null,null,null,null,null,null,", ",", , , ID , ",{"$f":"IFERROR(VLOOKUP(J1275,[1]functii!D:E,2,FALSE),\"-\")","v":"-"}]
[null,1271,null,null,null,null,null,null,null,", ",", , , ID , ",{"$f":"IFERROR(VLOOKUP(J1276,[1]functii!D:E,2,FALSE),\"-\")","v":"-"}]
[null,1272,null,null,null,null,null,null,null,", ",", , , ID , ",{"$f":"IFERROR(VLOOKUP(J1277,[1]functii!D:E,2,FALSE),\"-\")","v":"-"}]
[null,1273,null,null,null,null,null,null,null,", ",", , , ID , ",{"$f":"IFERROR(VLOOKUP(J1278,[1]functii!D:E,2,FALSE),\"-\")","v":"-"}]
[null,1274,null,null,null,null,null,null,null,", ",", , , ID , ",{"$f":"IFERROR(VLOOKUP(J1279,[1]functii!D:E,2,FALSE),\"-\")","v":"-"}]
[null,1275,null,null,null,null,null,null,null,", ",", , , ID , ",{"$f":"IFERROR(VLOOKUP(J1280,[1]functii!D:E,2,FALSE),\"-\")","v":"-"}]
[null,1276,null,null,null,null,null,null,null,", ",", , , ID , ",{"$f":"IFERROR(VLOOKUP(J1281,[1]functii!D:E,2,FALSE),\"-\")","v":"-"}]
[null,1277,null,null,null,null,null,null,null,", ",", , , ID , ",{"$f":"IFERROR(VLOOKUP(J1282,[1]functii!D:E,2,FALSE),\"-\")","v":"-"}]
[null,1278,null,null,null,null,null,null,null,", ",", , , ID , ",{"$f":"IFERROR(VLOOKUP(J1283,[1]functii!D:E,2,FALSE),\"-\")","v":"-"}]
[null,1279,null,null,null,null,null,null,null,", ",", , , ID , ",{"$f":"IFERROR(VLOOKUP(J1284,[1]functii!D:E,2,FALSE),\"-\")","v":"-"}]
[null,1280,null,null,null,null,null,null,null,", ",", , , ID , ",{"$f":"IFERROR(VLOOKUP(J1285,[1]functii!D:E,2,FALSE),\"-\")","v":"-"}]
[null,1281,null,null,null,null,null,null,null,{"$f":"_xlfn.CONCAT(D1286,\",\",\" \",F1286)","v":", "},{"$f":"CONCATENATE(D1286,\", \",E1286,\", \",F1286,\", ID \",G1286,\", \",H1286)","v":", , , ID , "},{"$f":"IFERROR(VLOOKUP(J1286,[1]functii!D:E,2,FALSE),\"-\")","v":"-"}]
[null,1282,null,null,null,null,null,null,null,", ",", , , ID , ",{"$f":"IFERROR(VLOOKUP(J1287,[1]functii!D:E,2,FALSE),\"-\")","v":"-"}]
[null,1283,null,null,null,null,null,null,null,", ",", , , ID , ",{"$f":"IFERROR(VLOOKUP(J1288,[1]functii!D:E,2,FALSE),\"-\")","v":"-"}]
[null,1284,null,null,null,null,null,null,null,", ",", , , ID , ",{"$f":"IFERROR(VLOOKUP(J1289,[1]functii!D:E,2,FALSE),\"-\")","v":"-"}]
[null,1285,null,null,null,null,null,null,null,", ",", , , ID , ",{"$f":"IFERROR(VLOOKUP(J1290,[1]functii!D:E,2,FALSE),\"-\")","v":"-"}]
[null,1286,null,null,null,null,null,null,null,", ",", , , ID , ",{"$f":"IFERROR(VLOOKUP(J1291,[1]functii!D:E,2,FALSE),\"-\")","v":"-"}]
[null,1287,null,null,null,null,null,null,null,", ",", , , ID , ",{"$f":"IFERROR(VLOOKUP(J1292,[1]functii!D:E,2,FALSE),\"-\")","v":"-"}]
[null,1288,null,null,null,null,null,null,null,", ",", , , ID , ",{"$f":"IFERROR(VLOOKUP(J1293,[1]functii!D:E,2,FALSE),\"-\")","v":"-"}]
[null,1289,null,null,null,null,null,null,null,", ",", , , ID , ",{"$f":"IFERROR(VLOOKUP(J1294,[1]functii!D:E,2,FALSE),\"-\")","v":"-"}]
[null,1290,null,null,null,null,null,null,null,", ",", , , ID , ",{"$f":"IFERROR(VLOOKUP(J1295,[1]functii!D:E,2,FALSE),\"-\")","v":"-"}]
[null,1291,null,null,null,null,null,null,null,", ",", , , ID , ",{"$f":"IFERROR(VLOOKUP(J1296,[1]functii!D:E,2,FALSE),\"-\")","v":"-"}]
[null,1292,null,null,null,null,null,null,null,", ",", , , ID , ",{"$f":"IFERROR(VLOOKUP(J1297,[1]functii!D:E,2,FALSE),\"-\")","v":"-"}]
[null,1293,null,null,null,null,null,null,null,", ",", , , ID , ",{"$f":"IFERROR(VLOOKUP(J1298,[1]functii!D:E,2,FALSE),\"-\")","v":"-"}]
[null,1294,null,null,null,null,null,null,null,", ",", , , ID , ",{"$f":"IFERROR(VLOOKUP(J1299,[1]functii!D:E,2,FALSE),\"-\")","v":"-"}]
[null,1295,null,null,null,null,null,null,null,", ",", , , ID , ",{"$f":"IFERROR(VLOOKUP(J1300,[1]functii!D:E,2,FALSE),\"-\")","v":"-"}]
[null,1296,null,null,null,null,null,null,null,", ",", , , ID , ",{"$f":"IFERROR(VLOOKUP(J1301,[1]functii!D:E,2,FALSE),\"-\")","v":"-"}]
[null,1297,null,null,null,null,null,null,null,", ",", , , ID , ",{"$f":"IFERROR(VLOOKUP(J1302,[1]functii!D:E,2,FALSE),\"-\")","v":"-"}]
[null,1298,null,null,null,null,null,null,null,", ",", , , ID , ",{"$f":"IFERROR(VLOOKUP(J1303,[1]functii!D:E,2,FALSE),\"-\")","v":"-"}]
[null,1299,null,null,null,null,null,null,null,", ",", , , ID , ",{"$f":"IFERROR(VLOOKUP(J1304,[1]functii!D:E,2,FALSE),\"-\")","v":"-"}]
[null,1300,null,null,null,null,null,null,null,", ",", , , ID , ",{"$f":"IFERROR(VLOOKUP(J1305,[1]functii!D:E,2,FALSE),\"-\")","v":"-"}]
[null,1301,null,null,null,null,null,null,null,", ",", , , ID , ",{"$f":"IFERROR(VLOOKUP(J1306,[1]functii!D:E,2,FALSE),\"-\")","v":"-"}]
[null,1302,null,null,null,null,null,null,null,", ",", , , ID , ",{"$f":"IFERROR(VLOOKUP(J1307,[1]functii!D:E,2,FALSE),\"-\")","v":"-"}]
[null,1303,null,null,null,null,null,null,null,", ",", , , ID , ",{"$f":"IFERROR(VLOOKUP(J1308,[1]functii!D:E,2,FALSE),\"-\")","v":"-"}]
[null,1304,null,null,null,null,null,null,null,", ",", , , ID , ",{"$f":"IFERROR(VLOOKUP(J1309,[1]functii!D:E,2,FALSE),\"-\")","v":"-"}]
[null,1305,null,null,null,null,null,null,null,", ",", , , ID , ",{"$f":"IFERROR(VLOOKUP(J1310,[1]functii!D:E,2,FALSE),\"-\")","v":"-"}]
[null,1306,null,null,null,null,null,null,null,", ",", , , ID , ",{"$f":"IFERROR(VLOOKUP(J1311,[1]functii!D:E,2,FALSE),\"-\")","v":"-"}]
[null,1307,null,null,null,null,null,null,null,", ",", , , ID , ",{"$f":"IFERROR(VLOOKUP(J1312,[1]functii!D:E,2,FALSE),\"-\")","v":"-"}]
[null,1308,null,null,null,null,null,null,null,", ",", , , ID , ",{"$f":"IFERROR(VLOOKUP(J1313,[1]functii!D:E,2,FALSE),\"-\")","v":"-"}]
[null,1309,null,null,null,null,null,null,null,", ",", , , ID , ",{"$f":"IFERROR(VLOOKUP(J1314,[1]functii!D:E,2,FALSE),\"-\")","v":"-"}]
[null,1310,null,null,null,null,null,null,null,", ",", , , ID , ",{"$f":"IFERROR(VLOOKUP(J1315,[1]functii!D:E,2,FALSE),\"-\")","v":"-"}]
[null,1311,null,null,null,null,null,null,null,", ",", , , ID , ",{"$f":"IFERROR(VLOOKUP(J1316,[1]functii!D:E,2,FALSE),\"-\")","v":"-"}]
[null,1312,null,null,null,null,null,null,null,", ",", , , ID , ",{"$f":"IFERROR(VLOOKUP(J1317,[1]functii!D:E,2,FALSE),\"-\")","v":"-"}]
[null,1313,null,null,null,null,null,null,null,", ",", , , ID , ",{"$f":"IFERROR(VLOOKUP(J1318,[1]functii!D:E,2,FALSE),\"-\")","v":"-"}]
[null,1314,null,null,null,null,null,null,null,", ",", , , ID , ",{"$f":"IFERROR(VLOOKUP(J1319,[1]functii!D:E,2,FALSE),\"-\")","v":"-"}]
[null,1315,null,null,null,null,null,null,null,", ",", , , ID , ",{"$f":"IFERROR(VLOOKUP(J1320,[1]functii!D:E,2,FALSE),\"-\")","v":"-"}]
[null,1316,null,null,null,null,null,null,null,", ",", , , ID , ",{"$f":"IFERROR(VLOOKUP(J1321,[1]functii!D:E,2,FALSE),\"-\")","v":"-"}]
[null,1317,null,null,null,null,null,null,null,", ",", , , ID , ",{"$f":"IFERROR(VLOOKUP(J1322,[1]functii!D:E,2,FALSE),\"-\")","v":"-"}]
[null,1318,null,null,null,null,null,null,null,", ",", , , ID , ",{"$f":"IFERROR(VLOOKUP(J1323,[1]functii!D:E,2,FALSE),\"-\")","v":"-"}]
[null,1319,null,null,null,null,null,null,null,", ",", , , ID , ",{"$f":"IFERROR(VLOOKUP(J1324,[1]functii!D:E,2,FALSE),\"-\")","v":"-"}]
[null,1320,null,null,null,null,null,null,null,", ",", , , ID , ",{"$f":"IFERROR(VLOOKUP(J1325,[1]functii!D:E,2,FALSE),\"-\")","v":"-"}]
[null,1321,null,null,null,null,null,null,null,", ",", , , ID , ",{"$f":"IFERROR(VLOOKUP(J1326,[1]functii!D:E,2,FALSE),\"-\")","v":"-"}]
[null,1322,null,null,null,null,null,null,null,", ",", , , ID , ",{"$f":"IFERROR(VLOOKUP(J1327,[1]functii!D:E,2,FALSE),\"-\")","v":"-"}]
[null,1323,null,null,null,null,null,null,null,", ",", , , ID , ",{"$f":"IFERROR(VLOOKUP(J1328,[1]functii!D:E,2,FALSE),\"-\")","v":"-"}]
[null,1324,null,null,null,null,null,null,null,", ",", , , ID , ",{"$f":"IFERROR(VLOOKUP(J1329,[1]functii!D:E,2,FALSE),\"-\")","v":"-"}]
[null,1325,null,null,null,null,null,null,null,", ",", , , ID , ",{"$f":"IFERROR(VLOOKUP(J1330,[1]functii!D:E,2,FALSE),\"-\")","v":"-"}]
[null,1326,null,null,null,null,null,null,null,", ",", , , ID , ",{"$f":"IFERROR(VLOOKUP(J1331,[1]functii!D:E,2,FALSE),\"-\")","v":"-"}]
[null,1327,null,null,null,null,null,null,null,", ",", , , ID , ",{"$f":"IFERROR(VLOOKUP(J1332,[1]functii!D:E,2,FALSE),\"-\")","v":"-"}]
[null,1328,null,null,null,null,null,null,null,", ",", , , ID , ",{"$f":"IFERROR(VLOOKUP(J1333,[1]functii!D:E,2,FALSE),\"-\")","v":"-"}]
[null,1329,null,null,null,null,null,null,null,", ",", , , ID , ",{"$f":"IFERROR(VLOOKUP(J1334,[1]functii!D:E,2,FALSE),\"-\")","v":"-"}]
[null,1330,null,null,null,null,null,null,null,", ",", , , ID , ",{"$f":"IFERROR(VLOOKUP(J1335,[1]functii!D:E,2,FALSE),\"-\")","v":"-"}]
[null,1331,null,null,null,null,null,null,null,", ",", , , ID , ",{"$f":"IFERROR(VLOOKUP(J1336,[1]functii!D:E,2,FALSE),\"-\")","v":"-"}]
[null,1332,null,null,null,null,null,null,null,", ",", , , ID , ",{"$f":"IFERROR(VLOOKUP(J1337,[1]functii!D:E,2,FALSE),\"-\")","v":"-"}]
[null,1333,null,null,null,null,null,null,null,", ",", , , ID , ",{"$f":"IFERROR(VLOOKUP(J1338,[1]functii!D:E,2,FALSE),\"-\")","v":"-"}]
[null,1334,null,null,null,null,null,null,null,", ",", , , ID , ",{"$f":"IFERROR(VLOOKUP(J1339,[1]functii!D:E,2,FALSE),\"-\")","v":"-"}]
[null,1335,null,null,null,null,null,null,null,", ",", , , ID , ",{"$f":"IFERROR(VLOOKUP(J1340,[1]functii!D:E,2,FALSE),\"-\")","v":"-"}]
[null,1336,null,null,null,null,null,null,null,", ",", , , ID , ",{"$f":"IFERROR(VLOOKUP(J1341,[1]functii!D:E,2,FALSE),\"-\")","v":"-"}]
[null,1337,null,null,null,null,null,null,null,", ",", , , ID , ",{"$f":"IFERROR(VLOOKUP(J1342,[1]functii!D:E,2,FALSE),\"-\")","v":"-"}]
[null,1338,null,null,null,null,null,null,null,", ",", , , ID , ",{"$f":"IFERROR(VLOOKUP(J1343,[1]functii!D:E,2,FALSE),\"-\")","v":"-"}]
[null,1339,null,null,null,null,null,null,null,", ",", , , ID , ",{"$f":"IFERROR(VLOOKUP(J1344,[1]functii!D:E,2,FALSE),\"-\")","v":"-"}]
[null,1340,null,null,null,null,null,null,null,", ",", , , ID , ",{"$f":"IFERROR(VLOOKUP(J1345,[1]functii!D:E,2,FALSE),\"-\")","v":"-"}]
[null,1341,null,null,null,null,null,null,null,", ",", , , ID , ",{"$f":"IFERROR(VLOOKUP(J1346,[1]functii!D:E,2,FALSE),\"-\")","v":"-"}]
[null,1342,null,null,null,null,null,null,null,", ",", , , ID , ",{"$f":"IFERROR(VLOOKUP(J1347,[1]functii!D:E,2,FALSE),\"-\")","v":"-"}]
[null,1343,null,null,null,null,null,null,null,", ",", , , ID , ",{"$f":"IFERROR(VLOOKUP(J1348,[1]functii!D:E,2,FALSE),\"-\")","v":"-"}]
[null,1344,null,null,null,null,null,null,null,", ",", , , ID , ",{"$f":"IFERROR(VLOOKUP(J1349,[1]functii!D:E,2,FALSE),\"-\")","v":"-"}]
[null,1345,null,null,null,null,null,null,null,{"$f":"_xlfn.CONCAT(D1350,\",\",\" \",F1350)","v":", "},{"$f":"CONCATENATE(D1350,\", \",E1350,\", \",F1350,\", ID \",G1350,\", \",H1350)","v":", , , ID , "},{"$f":"IFERROR(VLOOKUP(J1350,[1]functii!D:E,2,FALSE),\"-\")","v":"-"}]
[null,1346,null,null,null,null,null,null,null,", ",", , , ID , ",{"$f":"IFERROR(VLOOKUP(J1351,[1]functii!D:E,2,FALSE),\"-\")","v":"-"}]
[null,1347,null,null,null,null,null,null,null,", ",", , , ID , ",{"$f":"IFERROR(VLOOKUP(J1352,[1]functii!D:E,2,FALSE),\"-\")","v":"-"}]
[null,1348,null,null,null,null,null,null,null,", ",", , , ID , ",{"$f":"IFERROR(VLOOKUP(J1353,[1]functii!D:E,2,FALSE),\"-\")","v":"-"}]
[null,1349,null,null,null,null,null,null,null,", ",", , , ID , ",{"$f":"IFERROR(VLOOKUP(J1354,[1]functii!D:E,2,FALSE),\"-\")","v":"-"}]
[null,1350,null,null,null,null,null,null,null,", ",", , , ID , ",{"$f":"IFERROR(VLOOKUP(J1355,[1]functii!D:E,2,FALSE),\"-\")","v":"-"}]
[null,1351,null,null,null,null,null,null,null,", ",", , , ID , ",{"$f":"IFERROR(VLOOKUP(J1356,[1]functii!D:E,2,FALSE),\"-\")","v":"-"}]
[null,1352,null,null,null,null,null,null,null,", ",", , , ID , ",{"$f":"IFERROR(VLOOKUP(J1357,[1]functii!D:E,2,FALSE),\"-\")","v":"-"}]
[null,1353,null,null,null,null,null,null,null,", ",", , , ID , ",{"$f":"IFERROR(VLOOKUP(J1358,[1]functii!D:E,2,FALSE),\"-\")","v":"-"}]
[null,1354,null,null,null,null,null,null,null,", ",", , , ID , ",{"$f":"IFERROR(VLOOKUP(J1359,[1]functii!D:E,2,FALSE),\"-\")","v":"-"}]
[null,1355,null,null,null,null,null,null,null,", ",", , , ID , ",{"$f":"IFERROR(VLOOKUP(J1360,[1]functii!D:E,2,FALSE),\"-\")","v":"-"}]
[null,1356,null,null,null,null,null,null,null,", ",", , , ID , ",{"$f":"IFERROR(VLOOKUP(J1361,[1]functii!D:E,2,FALSE),\"-\")","v":"-"}]
[null,1357,null,null,null,null,null,null,null,", ",", , , ID , ",{"$f":"IFERROR(VLOOKUP(J1362,[1]functii!D:E,2,FALSE),\"-\")","v":"-"}]
[null,1358,null,null,null,null,null,null,null,", ",", , , ID , ",{"$f":"IFERROR(VLOOKUP(J1363,[1]functii!D:E,2,FALSE),\"-\")","v":"-"}]
[null,1359,null,null,null,null,null,null,null,", ",", , , ID , ",{"$f":"IFERROR(VLOOKUP(J1364,[1]functii!D:E,2,FALSE),\"-\")","v":"-"}]
[null,1360,null,null,null,null,null,null,null,", ",", , , ID , ",{"$f":"IFERROR(VLOOKUP(J1365,[1]functii!D:E,2,FALSE),\"-\")","v":"-"}]
[null,1361,null,null,null,null,null,null,null,", ",", , , ID , ",{"$f":"IFERROR(VLOOKUP(J1366,[1]functii!D:E,2,FALSE),\"-\")","v":"-"}]
[null,1362,null,null,null,null,null,null,null,", ",", , , ID , ",{"$f":"IFERROR(VLOOKUP(J1367,[1]functii!D:E,2,FALSE),\"-\")","v":"-"}]
[null,1363,null,null,null,null,null,null,null,", ",", , , ID , ",{"$f":"IFERROR(VLOOKUP(J1368,[1]functii!D:E,2,FALSE),\"-\")","v":"-"}]
[null,1364,null,null,null,null,null,null,null,", ",", , , ID , ",{"$f":"IFERROR(VLOOKUP(J1369,[1]functii!D:E,2,FALSE),\"-\")","v":"-"}]
[null,1365,null,null,null,null,null,null,null,", ",", , , ID , ",{"$f":"IFERROR(VLOOKUP(J1370,[1]functii!D:E,2,FALSE),\"-\")","v":"-"}]
[null,1366,null,null,null,null,null,null,null,", ",", , , ID , ",{"$f":"IFERROR(VLOOKUP(J1371,[1]functii!D:E,2,FALSE),\"-\")","v":"-"}]
[null,1367,null,null,null,null,null,null,null,", ",", , , ID , ",{"$f":"IFERROR(VLOOKUP(J1372,[1]functii!D:E,2,FALSE),\"-\")","v":"-"}]
[null,1368,null,null,null,null,null,null,null,", ",", , , ID , ",{"$f":"IFERROR(VLOOKUP(J1373,[1]functii!D:E,2,FALSE),\"-\")","v":"-"}]
[null,1369,null,null,null,null,null,null,null,", ",", , , ID , ",{"$f":"IFERROR(VLOOKUP(J1374,[1]functii!D:E,2,FALSE),\"-\")","v":"-"}]
[null,1370,null,null,null,null,null,null,null,", ",", , , ID , ",{"$f":"IFERROR(VLOOKUP(J1375,[1]functii!D:E,2,FALSE),\"-\")","v":"-"}]
[null,1371,null,null,null,null,null,null,null,", ",", , , ID , ",{"$f":"IFERROR(VLOOKUP(J1376,[1]functii!D:E,2,FALSE),\"-\")","v":"-"}]
[null,1372,null,null,null,null,null,null,null,", ",", , , ID , ",{"$f":"IFERROR(VLOOKUP(J1377,[1]functii!D:E,2,FALSE),\"-\")","v":"-"}]
[null,1373,null,null,null,null,null,null,null,", ",", , , ID , ",{"$f":"IFERROR(VLOOKUP(J1378,[1]functii!D:E,2,FALSE),\"-\")","v":"-"}]
[null,1374,null,null,null,null,null,null,null,", ",", , , ID , ",{"$f":"IFERROR(VLOOKUP(J1379,[1]functii!D:E,2,FALSE),\"-\")","v":"-"}]
[null,1375,null,null,null,null,null,null,null,", ",", , , ID , ",{"$f":"IFERROR(VLOOKUP(J1380,[1]functii!D:E,2,FALSE),\"-\")","v":"-"}]
[null,1376,null,null,null,null,null,null,null,", ",", , , ID , ",{"$f":"IFERROR(VLOOKUP(J1381,[1]functii!D:E,2,FALSE),\"-\")","v":"-"}]
[null,1377,null,null,null,null,null,null,null,", ",", , , ID , ",{"$f":"IFERROR(VLOOKUP(J1382,[1]functii!D:E,2,FALSE),\"-\")","v":"-"}]
[null,1378,null,null,null,null,null,null,null,", ",", , , ID , ",{"$f":"IFERROR(VLOOKUP(J1383,[1]functii!D:E,2,FALSE),\"-\")","v":"-"}]
[null,1379,null,null,null,null,null,null,null,", ",", , , ID , ",{"$f":"IFERROR(VLOOKUP(J1384,[1]functii!D:E,2,FALSE),\"-\")","v":"-"}]
[null,1380,null,null,null,null,null,null,null,", ",", , , ID , ",{"$f":"IFERROR(VLOOKUP(J1385,[1]functii!D:E,2,FALSE),\"-\")","v":"-"}]
[null,1381,null,null,null,null,null,null,null,", ",", , , ID , ",{"$f":"IFERROR(VLOOKUP(J1386,[1]functii!D:E,2,FALSE),\"-\")","v":"-"}]
[null,1382,null,null,null,null,null,null,null,", ",", , , ID , ",{"$f":"IFERROR(VLOOKUP(J1387,[1]functii!D:E,2,FALSE),\"-\")","v":"-"}]
[null,1383,null,null,null,null,null,null,null,", ",", , , ID , ",{"$f":"IFERROR(VLOOKUP(J1388,[1]functii!D:E,2,FALSE),\"-\")","v":"-"}]
[null,1384,null,null,null,null,null,null,null,", ",", , , ID , ",{"$f":"IFERROR(VLOOKUP(J1389,[1]functii!D:E,2,FALSE),\"-\")","v":"-"}]
[null,1385,null,null,null,null,null,null,null,", ",", , , ID , ",{"$f":"IFERROR(VLOOKUP(J1390,[1]functii!D:E,2,FALSE),\"-\")","v":"-"}]
[null,1386,null,null,null,null,null,null,null,", ",", , , ID , ",{"$f":"IFERROR(VLOOKUP(J1391,[1]functii!D:E,2,FALSE),\"-\")","v":"-"}]
[null,1387,null,null,null,null,null,null,null,", ",", , , ID , ",{"$f":"IFERROR(VLOOKUP(J1392,[1]functii!D:E,2,FALSE),\"-\")","v":"-"}]
[null,1388,null,null,null,null,null,null,null,", ",", , , ID , ",{"$f":"IFERROR(VLOOKUP(J1393,[1]functii!D:E,2,FALSE),\"-\")","v":"-"}]
[null,1389,null,null,null,null,null,null,null,", ",", , , ID , ",{"$f":"IFERROR(VLOOKUP(J1394,[1]functii!D:E,2,FALSE),\"-\")","v":"-"}]
[null,1390,null,null,null,null,null,null,null,", ",", , , ID , ",{"$f":"IFERROR(VLOOKUP(J1395,[1]functii!D:E,2,FALSE),\"-\")","v":"-"}]
[null,1391,null,null,null,null,null,null,null,", ",", , , ID , ",{"$f":"IFERROR(VLOOKUP(J1396,[1]functii!D:E,2,FALSE),\"-\")","v":"-"}]
[null,1392,null,null,null,null,null,null,null,", ",", , , ID , ",{"$f":"IFERROR(VLOOKUP(J1397,[1]functii!D:E,2,FALSE),\"-\")","v":"-"}]
[null,1393,null,null,null,null,null,null,null,", ",", , , ID , ",{"$f":"IFERROR(VLOOKUP(J1398,[1]functii!D:E,2,FALSE),\"-\")","v":"-"}]
[null,1394,null,null,null,null,null,null,null,", ",", , , ID , ",{"$f":"IFERROR(VLOOKUP(J1399,[1]functii!D:E,2,FALSE),\"-\")","v":"-"}]
[null,1395,null,null,null,null,null,null,null,", ",", , , ID , ",{"$f":"IFERROR(VLOOKUP(J1400,[1]functii!D:E,2,FALSE),\"-\")","v":"-"}]
[null,1396,null,null,null,null,null,null,null,", ",", , , ID , ",{"$f":"IFERROR(VLOOKUP(J1401,[1]functii!D:E,2,FALSE),\"-\")","v":"-"}]
[null,1397,null,null,null,null,null,null,null,", ",", , , ID , ",{"$f":"IFERROR(VLOOKUP(J1402,[1]functii!D:E,2,FALSE),\"-\")","v":"-"}]
[null,1398,null,null,null,null,null,null,null,", ",", , , ID , ",{"$f":"IFERROR(VLOOKUP(J1403,[1]functii!D:E,2,FALSE),\"-\")","v":"-"}]
[null,1399,null,null,null,null,null,null,null,", ",", , , ID , ",{"$f":"IFERROR(VLOOKUP(J1404,[1]functii!D:E,2,FALSE),\"-\")","v":"-"}]
[null,1400,null,null,null,null,null,null,null,", ",", , , ID , ",{"$f":"IFERROR(VLOOKUP(J1405,[1]functii!D:E,2,FALSE),\"-\")","v":"-"}]
[null,1401,null,null,null,null,null,null,null,", ",", , , ID , ",{"$f":"IFERROR(VLOOKUP(J1406,[1]functii!D:E,2,FALSE),\"-\")","v":"-"}]
[null,1402,null,null,null,null,null,null,null,", ",", , , ID , ",{"$f":"IFERROR(VLOOKUP(J1407,[1]functii!D:E,2,FALSE),\"-\")","v":"-"}]
[null,1403,null,null,null,null,null,null,null,", ",", , , ID , ",{"$f":"IFERROR(VLOOKUP(J1408,[1]functii!D:E,2,FALSE),\"-\")","v":"-"}]
[null,1404,null,null,null,null,null,null,null,", ",", , , ID , ",{"$f":"IFERROR(VLOOKUP(J1409,[1]functii!D:E,2,FALSE),\"-\")","v":"-"}]
[null,1405,null,null,null,null,null,null,null,", ",", , , ID , ",{"$f":"IFERROR(VLOOKUP(J1410,[1]functii!D:E,2,FALSE),\"-\")","v":"-"}]
[null,1406,null,null,null,null,null,null,null,", ",", , , ID , ",{"$f":"IFERROR(VLOOKUP(J1411,[1]functii!D:E,2,FALSE),\"-\")","v":"-"}]
[null,1407,null,null,null,null,null,null,null,", ",", , , ID , ",{"$f":"IFERROR(VLOOKUP(J1412,[1]functii!D:E,2,FALSE),\"-\")","v":"-"}]
[null,1408,null,null,null,null,null,null,null,", ",", , , ID , ",{"$f":"IFERROR(VLOOKUP(J1413,[1]functii!D:E,2,FALSE),\"-\")","v":"-"}]
[null,1409,null,null,null,null,null,null,null,{"$f":"_xlfn.CONCAT(D1414,\",\",\" \",F1414)","v":", "},{"$f":"CONCATENATE(D1414,\", \",E1414,\", \",F1414,\", ID \",G1414,\", \",H1414)","v":", , , ID , "},{"$f":"IFERROR(VLOOKUP(J1414,[1]functii!D:E,2,FALSE),\"-\")","v":"-"}]
[null,1410,null,null,null,null,null,null,null,", ",", , , ID , ",{"$f":"IFERROR(VLOOKUP(J1415,[1]functii!D:E,2,FALSE),\"-\")","v":"-"}]
[null,1411,null,null,null,null,null,null,null,", ",", , , ID , ",{"$f":"IFERROR(VLOOKUP(J1416,[1]functii!D:E,2,FALSE),\"-\")","v":"-"}]
[null,1412,null,null,null,null,null,null,null,", ",", , , ID , ",{"$f":"IFERROR(VLOOKUP(J1417,[1]functii!D:E,2,FALSE),\"-\")","v":"-"}]
[null,1413,null,null,null,null,null,null,null,", ",", , , ID , ",{"$f":"IFERROR(VLOOKUP(J1418,[1]functii!D:E,2,FALSE),\"-\")","v":"-"}]
[null,1414,null,null,null,null,null,null,null,", ",", , , ID , ",{"$f":"IFERROR(VLOOKUP(J1419,[1]functii!D:E,2,FALSE),\"-\")","v":"-"}]
[null,1415,null,null,null,null,null,null,null,", ",", , , ID , ",{"$f":"IFERROR(VLOOKUP(J1420,[1]functii!D:E,2,FALSE),\"-\")","v":"-"}]
[null,1416,null,null,null,null,null,null,null,", ",", , , ID , ",{"$f":"IFERROR(VLOOKUP(J1421,[1]functii!D:E,2,FALSE),\"-\")","v":"-"}]
[null,1417,null,null,null,null,null,null,null,", ",", , , ID , ",{"$f":"IFERROR(VLOOKUP(J1422,[1]functii!D:E,2,FALSE),\"-\")","v":"-"}]
[null,1418,null,null,null,null,null,null,null,", ",", , , ID , ",{"$f":"IFERROR(VLOOKUP(J1423,[1]functii!D:E,2,FALSE),\"-\")","v":"-"}]
[null,1419,null,null,null,null,null,null,null,", ",", , , ID , ",{"$f":"IFERROR(VLOOKUP(J1424,[1]functii!D:E,2,FALSE),\"-\")","v":"-"}]
[null,1420,null,null,null,null,null,null,null,", ",", , , ID , ",{"$f":"IFERROR(VLOOKUP(J1425,[1]functii!D:E,2,FALSE),\"-\")","v":"-"}]
[null,1421,null,null,null,null,null,null,null,", ",", , , ID , ",{"$f":"IFERROR(VLOOKUP(J1426,[1]functii!D:E,2,FALSE),\"-\")","v":"-"}]
[null,1422,null,null,null,null,null,null,null,", ",", , , ID , ",{"$f":"IFERROR(VLOOKUP(J1427,[1]functii!D:E,2,FALSE),\"-\")","v":"-"}]
[null,1423,null,null,null,null,null,null,null,", ",", , , ID , ",{"$f":"IFERROR(VLOOKUP(J1428,[1]functii!D:E,2,FALSE),\"-\")","v":"-"}]
[null,1424,null,null,null,null,null,null,null,", ",", , , ID , ",{"$f":"IFERROR(VLOOKUP(J1429,[1]functii!D:E,2,FALSE),\"-\")","v":"-"}]
[null,1425,null,null,null,null,null,null,null,", ",", , , ID , ",{"$f":"IFERROR(VLOOKUP(J1430,[1]functii!D:E,2,FALSE),\"-\")","v":"-"}]
[null,1426,null,null,null,null,null,null,null,", ",", , , ID , ",{"$f":"IFERROR(VLOOKUP(J1431,[1]functii!D:E,2,FALSE),\"-\")","v":"-"}]
[null,1427,null,null,null,null,null,null,null,", ",", , , ID , ",{"$f":"IFERROR(VLOOKUP(J1432,[1]functii!D:E,2,FALSE),\"-\")","v":"-"}]
[null,1428,null,null,null,null,null,null,null,", ",", , , ID , ",{"$f":"IFERROR(VLOOKUP(J1433,[1]functii!D:E,2,FALSE),\"-\")","v":"-"}]
[null,1429,null,null,null,null,null,null,null,", ",", , , ID , ",{"$f":"IFERROR(VLOOKUP(J1434,[1]functii!D:E,2,FALSE),\"-\")","v":"-"}]
[null,1430,null,null,null,null,null,null,null,", ",", , , ID , ",{"$f":"IFERROR(VLOOKUP(J1435,[1]functii!D:E,2,FALSE),\"-\")","v":"-"}]
[null,1431,null,null,null,null,null,null,null,", ",", , , ID , ",{"$f":"IFERROR(VLOOKUP(J1436,[1]functii!D:E,2,FALSE),\"-\")","v":"-"}]
[null,1432,null,null,null,null,null,null,null,", ",", , , ID , ",{"$f":"IFERROR(VLOOKUP(J1437,[1]functii!D:E,2,FALSE),\"-\")","v":"-"}]
[null,1433,null,null,null,null,null,null,null,", ",", , , ID , ",{"$f":"IFERROR(VLOOKUP(J1438,[1]functii!D:E,2,FALSE),\"-\")","v":"-"}]
[null,1434,null,null,null,null,null,null,null,", ",", , , ID , ",{"$f":"IFERROR(VLOOKUP(J1439,[1]functii!D:E,2,FALSE),\"-\")","v":"-"}]
[null,1435,null,null,null,null,null,null,null,", ",", , , ID , ",{"$f":"IFERROR(VLOOKUP(J1440,[1]functii!D:E,2,FALSE),\"-\")","v":"-"}]
[null,1436,null,null,null,null,null,null,null,", ",", , , ID , ",{"$f":"IFERROR(VLOOKUP(J1441,[1]functii!D:E,2,FALSE),\"-\")","v":"-"}]
[null,1437,null,null,null,null,null,null,null,", ",", , , ID , ",{"$f":"IFERROR(VLOOKUP(J1442,[1]functii!D:E,2,FALSE),\"-\")","v":"-"}]
[null,1438,null,null,null,null,null,null,null,", ",", , , ID , ",{"$f":"IFERROR(VLOOKUP(J1443,[1]functii!D:E,2,FALSE),\"-\")","v":"-"}]
[null,1439,null,null,null,null,null,null,null,", ",", , , ID , ",{"$f":"IFERROR(VLOOKUP(J1444,[1]functii!D:E,2,FALSE),\"-\")","v":"-"}]
[null,1440,null,null,null,null,null,null,null,", ",", , , ID , ",{"$f":"IFERROR(VLOOKUP(J1445,[1]functii!D:E,2,FALSE),\"-\")","v":"-"}]
[null,1441,null,null,null,null,null,null,null,", ",", , , ID , ",{"$f":"IFERROR(VLOOKUP(J1446,[1]functii!D:E,2,FALSE),\"-\")","v":"-"}]
[null,1442,null,null,null,null,null,null,null,", ",", , , ID , ",{"$f":"IFERROR(VLOOKUP(J1447,[1]functii!D:E,2,FALSE),\"-\")","v":"-"}]
[null,1443,null,null,null,null,null,null,null,", ",", , , ID , ",{"$f":"IFERROR(VLOOKUP(J1448,[1]functii!D:E,2,FALSE),\"-\")","v":"-"}]
[null,1444,null,null,null,null,null,null,null,", ",", , , ID , ",{"$f":"IFERROR(VLOOKUP(J1449,[1]functii!D:E,2,FALSE),\"-\")","v":"-"}]
[null,1445,null,null,null,null,null,null,null,", ",", , , ID , ",{"$f":"IFERROR(VLOOKUP(J1450,[1]functii!D:E,2,FALSE),\"-\")","v":"-"}]
[null,1446,null,null,null,null,null,null,null,", ",", , , ID , ",{"$f":"IFERROR(VLOOKUP(J1451,[1]functii!D:E,2,FALSE),\"-\")","v":"-"}]
[null,1447,null,null,null,null,null,null,null,", ",", , , ID , ",{"$f":"IFERROR(VLOOKUP(J1452,[1]functii!D:E,2,FALSE),\"-\")","v":"-"}]
[null,1448,null,null,null,null,null,null,null,", ",", , , ID , ",{"$f":"IFERROR(VLOOKUP(J1453,[1]functii!D:E,2,FALSE),\"-\")","v":"-"}]
[null,1449,null,null,null,null,null,null,null,", ",", , , ID , ",{"$f":"IFERROR(VLOOKUP(J1454,[1]functii!D:E,2,FALSE),\"-\")","v":"-"}]
[null,1450,null,null,null,null,null,null,null,", ",", , , ID , ",{"$f":"IFERROR(VLOOKUP(J1455,[1]functii!D:E,2,FALSE),\"-\")","v":"-"}]
[null,1451,null,null,null,null,null,null,null,", ",", , , ID , ",{"$f":"IFERROR(VLOOKUP(J1456,[1]functii!D:E,2,FALSE),\"-\")","v":"-"}]
[null,1452,null,null,null,null,null,null,null,", ",", , , ID , ",{"$f":"IFERROR(VLOOKUP(J1457,[1]functii!D:E,2,FALSE),\"-\")","v":"-"}]
[null,1453,null,null,null,null,null,null,null,", ",", , , ID , ",{"$f":"IFERROR(VLOOKUP(J1458,[1]functii!D:E,2,FALSE),\"-\")","v":"-"}]
[null,1454,null,null,null,null,null,null,null,", ",", , , ID , ",{"$f":"IFERROR(VLOOKUP(J1459,[1]functii!D:E,2,FALSE),\"-\")","v":"-"}]
[null,1455,null,null,null,null,null,null,null,", ",", , , ID , ",{"$f":"IFERROR(VLOOKUP(J1460,[1]functii!D:E,2,FALSE),\"-\")","v":"-"}]
[null,1456,null,null,null,null,null,null,null,", ",", , , ID , ",{"$f":"IFERROR(VLOOKUP(J1461,[1]functii!D:E,2,FALSE),\"-\")","v":"-"}]
[null,1457,null,null,null,null,null,null,null,", ",", , , ID , ",{"$f":"IFERROR(VLOOKUP(J1462,[1]functii!D:E,2,FALSE),\"-\")","v":"-"}]
[null,1458,null,null,null,null,null,null,null,", ",", , , ID , ",{"$f":"IFERROR(VLOOKUP(J1463,[1]functii!D:E,2,FALSE),\"-\")","v":"-"}]
[null,1459,null,null,null,null,null,null,null,", ",", , , ID , ",{"$f":"IFERROR(VLOOKUP(J1464,[1]functii!D:E,2,FALSE),\"-\")","v":"-"}]
[null,1460,null,null,null,null,null,null,null,", ",", , , ID , ",{"$f":"IFERROR(VLOOKUP(J1465,[1]functii!D:E,2,FALSE),\"-\")","v":"-"}]
[null,1461,null,null,null,null,null,null,null,", ",", , , ID , ",{"$f":"IFERROR(VLOOKUP(J1466,[1]functii!D:E,2,FALSE),\"-\")","v":"-"}]
[null,1462,null,null,null,null,null,null,null,", ",", , , ID , ",{"$f":"IFERROR(VLOOKUP(J1467,[1]functii!D:E,2,FALSE),\"-\")","v":"-"}]
[null,1463,null,null,null,null,null,null,null,", ",", , , ID , ",{"$f":"IFERROR(VLOOKUP(J1468,[1]functii!D:E,2,FALSE),\"-\")","v":"-"}]
[null,1464,null,null,null,null,null,null,null,", ",", , , ID , ",{"$f":"IFERROR(VLOOKUP(J1469,[1]functii!D:E,2,FALSE),\"-\")","v":"-"}]
[null,1465,null,null,null,null,null,null,null,", ",", , , ID , ",{"$f":"IFERROR(VLOOKUP(J1470,[1]functii!D:E,2,FALSE),\"-\")","v":"-"}]
[null,1466,null,null,null,null,null,null,null,", ",", , , ID , ",{"$f":"IFERROR(VLOOKUP(J1471,[1]functii!D:E,2,FALSE),\"-\")","v":"-"}]
[null,1467,null,null,null,null,null,null,null,", ",", , , ID , ",{"$f":"IFERROR(VLOOKUP(J1472,[1]functii!D:E,2,FALSE),\"-\")","v":"-"}]
[null,1468,null,null,null,null,null,null,null,", ",", , , ID , ",{"$f":"IFERROR(VLOOKUP(J1473,[1]functii!D:E,2,FALSE),\"-\")","v":"-"}]
[null,1469,null,null,null,null,null,null,null,", ",", , , ID , ",{"$f":"IFERROR(VLOOKUP(J1474,[1]functii!D:E,2,FALSE),\"-\")","v":"-"}]
[null,1470,null,null,null,null,null,null,null,", ",", , , ID , ",{"$f":"IFERROR(VLOOKUP(J1475,[1]functii!D:E,2,FALSE),\"-\")","v":"-"}]
[null,1471,null,null,null,null,null,null,null,", ",", , , ID , ",{"$f":"IFERROR(VLOOKUP(J1476,[1]functii!D:E,2,FALSE),\"-\")","v":"-"}]
[null,1472,null,null,null,null,null,null,null,", ",", , , ID , ",{"$f":"IFERROR(VLOOKUP(J1477,[1]functii!D:E,2,FALSE),\"-\")","v":"-"}]
[null,1473,null,null,null,null,null,null,null,{"$f":"_xlfn.CONCAT(D1478,\",\",\" \",F1478)","v":", "},{"$f":"CONCATENATE(D1478,\", \",E1478,\", \",F1478,\", ID \",G1478,\", \",H1478)","v":", , , ID , "},{"$f":"IFERROR(VLOOKUP(J1478,[1]functii!D:E,2,FALSE),\"-\")","v":"-"}]
[null,1474,null,null,null,null,null,null,null,", ",", , , ID , ",{"$f":"IFERROR(VLOOKUP(J1479,[1]functii!D:E,2,FALSE),\"-\")","v":"-"}]
[null,1475,null,null,null,null,null,null,null,", ",", , , ID , ",{"$f":"IFERROR(VLOOKUP(J1480,[1]functii!D:E,2,FALSE),\"-\")","v":"-"}]
[null,1476,null,null,null,null,null,null,null,", ",", , , ID , ",{"$f":"IFERROR(VLOOKUP(J1481,[1]functii!D:E,2,FALSE),\"-\")","v":"-"}]
[null,1477,null,null,null,null,null,null,null,", ",", , , ID , ",{"$f":"IFERROR(VLOOKUP(J1482,[1]functii!D:E,2,FALSE),\"-\")","v":"-"}]
[null,1478,null,null,null,null,null,null,null,", ",", , , ID , ",{"$f":"IFERROR(VLOOKUP(J1483,[1]functii!D:E,2,FALSE),\"-\")","v":"-"}]
[null,1479,null,null,null,null,null,null,null,", ",", , , ID , ",{"$f":"IFERROR(VLOOKUP(J1484,[1]functii!D:E,2,FALSE),\"-\")","v":"-"}]
[null,1480,null,null,null,null,null,null,null,", ",", , , ID , ",{"$f":"IFERROR(VLOOKUP(J1485,[1]functii!D:E,2,FALSE),\"-\")","v":"-"}]
[null,1481,null,null,null,null,null,null,null,", ",", , , ID , ",{"$f":"IFERROR(VLOOKUP(J1486,[1]functii!D:E,2,FALSE),\"-\")","v":"-"}]
[null,1482,null,null,null,null,null,null,null,", ",", , , ID , ",{"$f":"IFERROR(VLOOKUP(J1487,[1]functii!D:E,2,FALSE),\"-\")","v":"-"}]
[null,1483,null,null,null,null,null,null,null,", ",", , , ID , ",{"$f":"IFERROR(VLOOKUP(J1488,[1]functii!D:E,2,FALSE),\"-\")","v":"-"}]
[null,1484,null,null,null,null,null,null,null,", ",", , , ID , ",{"$f":"IFERROR(VLOOKUP(J1489,[1]functii!D:E,2,FALSE),\"-\")","v":"-"}]
[null,1485,null,null,null,null,null,null,null,", ",", , , ID , ",{"$f":"IFERROR(VLOOKUP(J1490,[1]functii!D:E,2,FALSE),\"-\")","v":"-"}]
[null,1486,null,null,null,null,null,null,null,", ",", , , ID , ",{"$f":"IFERROR(VLOOKUP(J1491,[1]functii!D:E,2,FALSE),\"-\")","v":"-"}]
[null,1487,null,null,null,null,null,null,null,", ",", , , ID , ",{"$f":"IFERROR(VLOOKUP(J1492,[1]functii!D:E,2,FALSE),\"-\")","v":"-"}]
[null,1488,null,null,null,null,null,null,null,", ",", , , ID , ",{"$f":"IFERROR(VLOOKUP(J1493,[1]functii!D:E,2,FALSE),\"-\")","v":"-"}]
[null,1489,null,null,null,null,null,null,null,", ",", , , ID , ",{"$f":"IFERROR(VLOOKUP(J1494,[1]functii!D:E,2,FALSE),\"-\")","v":"-"}]
[null,1490,null,null,null,null,null,null,null,", ",", , , ID , ",{"$f":"IFERROR(VLOOKUP(J1495,[1]functii!D:E,2,FALSE),\"-\")","v":"-"}]
[null,1491,null,null,null,null,null,null,null,", ",", , , ID , ",{"$f":"IFERROR(VLOOKUP(J1496,[1]functii!D:E,2,FALSE),\"-\")","v":"-"}]
[null,1492,null,null,null,null,null,null,null,", ",", , , ID , ",{"$f":"IFERROR(VLOOKUP(J1497,[1]functii!D:E,2,FALSE),\"-\")","v":"-"}]
[null,1493,null,null,null,null,null,null,null,", ",", , , ID , ",{"$f":"IFERROR(VLOOKUP(J1498,[1]functii!D:E,2,FALSE),\"-\")","v":"-"}]
[null,1494,null,null,null,null,null,null,null,", ",", , , ID , ",{"$f":"IFERROR(VLOOKUP(J1499,[1]functii!D:E,2,FALSE),\"-\")","v":"-"}]
[null,1495,null,null,null,null,null,null,null,", ",", , , ID , ",{"$f":"IFERROR(VLOOKUP(J1500,[1]functii!D:E,2,FALSE),\"-\")","v":"-"}]
[null,1496,null,null,null,null,null,null,null,", ",", , , ID , ",{"$f":"IFERROR(VLOOKUP(J1501,[1]functii!D:E,2,FALSE),\"-\")","v":"-"}]
[null,1497,null,null,null,null,null,null,null,", ",", , , ID , ",{"$f":"IFERROR(VLOOKUP(J1502,[1]functii!D:E,2,FALSE),\"-\")","v":"-"}]
[null,1498,null,null,null,null,null,null,null,", ",", , , ID , ",{"$f":"IFERROR(VLOOKUP(J1503,[1]functii!D:E,2,FALSE),\"-\")","v":"-"}]
[null,1499,null,null,null,null,null,null,null,", ",", , , ID , ",{"$f":"IFERROR(VLOOKUP(J1504,[1]functii!D:E,2,FALSE),\"-\")","v":"-"}]
[null,1500,null,null,null,null,null,null,null,", ",", , , ID , ",{"$f":"IFERROR(VLOOKUP(J1505,[1]functii!D:E,2,FALSE),\"-\")","v":"-"}]
[null,1501,null,null,null,null,null,null,null,", ",", , , ID , ",{"$f":"IFERROR(VLOOKUP(J1506,[1]functii!D:E,2,FALSE),\"-\")","v":"-"}]
[null,1502,null,null,null,null,null,null,null,", ",", , , ID , ",{"$f":"IFERROR(VLOOKUP(J1507,[1]functii!D:E,2,FALSE),\"-\")","v":"-"}]
[null,1503,null,null,null,null,null,null,null,", ",", , , ID , ",{"$f":"IFERROR(VLOOKUP(J1508,[1]functii!D:E,2,FALSE),\"-\")","v":"-"}]
[null,1504,null,null,null,null,null,null,null,", ",", , , ID , ",{"$f":"IFERROR(VLOOKUP(J1509,[1]functii!D:E,2,FALSE),\"-\")","v":"-"}]
[null,1505,null,null,null,null,null,null,null,", ",", , , ID , ",{"$f":"IFERROR(VLOOKUP(J1510,[1]functii!D:E,2,FALSE),\"-\")","v":"-"}]
[null,1506,null,null,null,null,null,null,null,", ",", , , ID , ",{"$f":"IFERROR(VLOOKUP(J1511,[1]functii!D:E,2,FALSE),\"-\")","v":"-"}]
[null,1507,null,null,null,null,null,null,null,", ",", , , ID , ",{"$f":"IFERROR(VLOOKUP(J1512,[1]functii!D:E,2,FALSE),\"-\")","v":"-"}]
[null,1508,null,null,null,null,null,null,null,", ",", , , ID , ",{"$f":"IFERROR(VLOOKUP(J1513,[1]functii!D:E,2,FALSE),\"-\")","v":"-"}]
[null,1509,null,null,null,null,null,null,null,", ",", , , ID , ",{"$f":"IFERROR(VLOOKUP(J1514,[1]functii!D:E,2,FALSE),\"-\")","v":"-"}]
[null,1510,null,null,null,null,null,null,null,", ",", , , ID , ",{"$f":"IFERROR(VLOOKUP(J1515,[1]functii!D:E,2,FALSE),\"-\")","v":"-"}]
[null,1511,null,null,null,null,null,null,null,", ",", , , ID , ",{"$f":"IFERROR(VLOOKUP(J1516,[1]functii!D:E,2,FALSE),\"-\")","v":"-"}]
[null,1512,null,null,null,null,null,null,null,", ",", , , ID , ",{"$f":"IFERROR(VLOOKUP(J1517,[1]functii!D:E,2,FALSE),\"-\")","v":"-"}]
[null,1513,null,null,null,null,null,null,null,", ",", , , ID , ",{"$f":"IFERROR(VLOOKUP(J1518,[1]functii!D:E,2,FALSE),\"-\")","v":"-"}]
[null,1514,null,null,null,null,null,null,null,", ",", , , ID , ",{"$f":"IFERROR(VLOOKUP(J1519,[1]functii!D:E,2,FALSE),\"-\")","v":"-"}]
[null,1515,null,null,null,null,null,null,null,", ",", , , ID , ",{"$f":"IFERROR(VLOOKUP(J1520,[1]functii!D:E,2,FALSE),\"-\")","v":"-"}]
[null,1516,null,null,null,null,null,null,null,", ",", , , ID , ",{"$f":"IFERROR(VLOOKUP(J1521,[1]functii!D:E,2,FALSE),\"-\")","v":"-"}]
[null,1517,null,null,null,null,null,null,null,", ",", , , ID , ",{"$f":"IFERROR(VLOOKUP(J1522,[1]functii!D:E,2,FALSE),\"-\")","v":"-"}]
[null,1518,null,null,null,null,null,null,null,", ",", , , ID , ",{"$f":"IFERROR(VLOOKUP(J1523,[1]functii!D:E,2,FALSE),\"-\")","v":"-"}]
[null,1519,null,null,null,null,null,null,null,", ",", , , ID , ",{"$f":"IFERROR(VLOOKUP(J1524,[1]functii!D:E,2,FALSE),\"-\")","v":"-"}]
[null,1520,null,null,null,null,null,null,null,", ",", , , ID , ",{"$f":"IFERROR(VLOOKUP(J1525,[1]functii!D:E,2,FALSE),\"-\")","v":"-"}]
[null,1521,null,null,null,null,null,null,null,", ",", , , ID , ",{"$f":"IFERROR(VLOOKUP(J1526,[1]functii!D:E,2,FALSE),\"-\")","v":"-"}]
[null,1522,null,null,null,null,null,null,null,", ",", , , ID , ",{"$f":"IFERROR(VLOOKUP(J1527,[1]functii!D:E,2,FALSE),\"-\")","v":"-"}]
[null,1523,null,null,null,null,null,null,null,", ",", , , ID , ",{"$f":"IFERROR(VLOOKUP(J1528,[1]functii!D:E,2,FALSE),\"-\")","v":"-"}]
[null,1524,null,null,null,null,null,null,null,", ",", , , ID , ",{"$f":"IFERROR(VLOOKUP(J1529,[1]functii!D:E,2,FALSE),\"-\")","v":"-"}]
[null,1525,null,null,null,null,null,null,null,", ",", , , ID , ",{"$f":"IFERROR(VLOOKUP(J1530,[1]functii!D:E,2,FALSE),\"-\")","v":"-"}]
[null,1526,null,null,null,null,null,null,null,", ",", , , ID , ",{"$f":"IFERROR(VLOOKUP(J1531,[1]functii!D:E,2,FALSE),\"-\")","v":"-"}]
[null,1527,null,null,null,null,null,null,null,", ",", , , ID , ",{"$f":"IFERROR(VLOOKUP(J1532,[1]functii!D:E,2,FALSE),\"-\")","v":"-"}]
[null,1528,null,null,null,null,null,null,null,", ",", , , ID , ",{"$f":"IFERROR(VLOOKUP(J1533,[1]functii!D:E,2,FALSE),\"-\")","v":"-"}]
[null,1529,null,null,null,null,null,null,null,", ",", , , ID , ",{"$f":"IFERROR(VLOOKUP(J1534,[1]functii!D:E,2,FALSE),\"-\")","v":"-"}]
[null,1530,null,null,null,null,null,null,null,", ",", , , ID , ",{"$f":"IFERROR(VLOOKUP(J1535,[1]functii!D:E,2,FALSE),\"-\")","v":"-"}]
[null,1531,null,null,null,null,null,null,null,", ",", , , ID , ",{"$f":"IFERROR(VLOOKUP(J1536,[1]functii!D:E,2,FALSE),\"-\")","v":"-"}]
[null,1532,null,null,null,null,null,null,null,", ",", , , ID , ",{"$f":"IFERROR(VLOOKUP(J1537,[1]functii!D:E,2,FALSE),\"-\")","v":"-"}]
[null,1533,null,null,null,null,null,null,null,", ",", , , ID , ",{"$f":"IFERROR(VLOOKUP(J1538,[1]functii!D:E,2,FALSE),\"-\")","v":"-"}]
[null,1534,null,null,null,null,null,null,null,", ",", , , ID , ",{"$f":"IFERROR(VLOOKUP(J1539,[1]functii!D:E,2,FALSE),\"-\")","v":"-"}]
[null,1535,null,null,null,null,null,null,null,", ",", , , ID , ",{"$f":"IFERROR(VLOOKUP(J1540,[1]functii!D:E,2,FALSE),\"-\")","v":"-"}]
[null,1536,null,null,null,null,null,null,null,", ",", , , ID , ",{"$f":"IFERROR(VLOOKUP(J1541,[1]functii!D:E,2,FALSE),\"-\")","v":"-"}]
[null,1537,null,null,null,null,null,null,null,{"$f":"_xlfn.CONCAT(D1542,\",\",\" \",F1542)","v":", "},{"$f":"CONCATENATE(D1542,\", \",E1542,\", \",F1542,\", ID \",G1542,\", \",H1542)","v":", , , ID , "},{"$f":"IFERROR(VLOOKUP(J1542,[1]functii!D:E,2,FALSE),\"-\")","v":"-"}]
[null,1538,null,null,null,null,null,null,null,", ",", , , ID , ",{"$f":"IFERROR(VLOOKUP(J1543,[1]functii!D:E,2,FALSE),\"-\")","v":"-"}]
[null,1539,null,null,null,null,null,null,null,", ",", , , ID , ",{"$f":"IFERROR(VLOOKUP(J1544,[1]functii!D:E,2,FALSE),\"-\")","v":"-"}]
[null,1540,null,null,null,null,null,null,null,", ",", , , ID , ",{"$f":"IFERROR(VLOOKUP(J1545,[1]functii!D:E,2,FALSE),\"-\")","v":"-"}]
[null,1541,null,null,null,null,null,null,null,", ",", , , ID , ",{"$f":"IFERROR(VLOOKUP(J1546,[1]functii!D:E,2,FALSE),\"-\")","v":"-"}]
[null,1542,null,null,null,null,null,null,null,", ",", , , ID , ",{"$f":"IFERROR(VLOOKUP(J1547,[1]functii!D:E,2,FALSE),\"-\")","v":"-"}]
[null,1543,null,null,null,null,null,null,null,", ",", , , ID , ",{"$f":"IFERROR(VLOOKUP(J1548,[1]functii!D:E,2,FALSE),\"-\")","v":"-"}]
[null,1544,null,null,null,null,null,null,null,", ",", , , ID , ",{"$f":"IFERROR(VLOOKUP(J1549,[1]functii!D:E,2,FALSE),\"-\")","v":"-"}]
[null,1545,null,null,null,null,null,null,null,", ",", , , ID , ",{"$f":"IFERROR(VLOOKUP(J1550,[1]functii!D:E,2,FALSE),\"-\")","v":"-"}]
[null,1546,null,null,null,null,null,null,null,", ",", , , ID , ",{"$f":"IFERROR(VLOOKUP(J1551,[1]functii!D:E,2,FALSE),\"-\")","v":"-"}]
[null,1547,null,null,null,null,null,null,null,", ",", , , ID , ",{"$f":"IFERROR(VLOOKUP(J1552,[1]functii!D:E,2,FALSE),\"-\")","v":"-"}]
[null,1548,null,null,null,null,null,null,null,", ",", , , ID , ",{"$f":"IFERROR(VLOOKUP(J1553,[1]functii!D:E,2,FALSE),\"-\")","v":"-"}]
[null,1549,null,null,null,null,null,null,null,", ",", , , ID , ",{"$f":"IFERROR(VLOOKUP(J1554,[1]functii!D:E,2,FALSE),\"-\")","v":"-"}]
[null,1550,null,null,null,null,null,null,null,", ",", , , ID , ",{"$f":"IFERROR(VLOOKUP(J1555,[1]functii!D:E,2,FALSE),\"-\")","v":"-"}]
[null,1551,null,null,null,null,null,null,null,", ",", , , ID , ",{"$f":"IFERROR(VLOOKUP(J1556,[1]functii!D:E,2,FALSE),\"-\")","v":"-"}]
[null,1552,null,null,null,null,null,null,null,", ",", , , ID , ",{"$f":"IFERROR(VLOOKUP(J1557,[1]functii!D:E,2,FALSE),\"-\")","v":"-"}]
[null,1553,null,null,null,null,null,null,null,", ",", , , ID , ",{"$f":"IFERROR(VLOOKUP(J1558,[1]functii!D:E,2,FALSE),\"-\")","v":"-"}]
[null,1554,null,null,null,null,null,null,null,", ",", , , ID , ",{"$f":"IFERROR(VLOOKUP(J1559,[1]functii!D:E,2,FALSE),\"-\")","v":"-"}]
[null,1555,null,null,null,null,null,null,null,", ",", , , ID , ",{"$f":"IFERROR(VLOOKUP(J1560,[1]functii!D:E,2,FALSE),\"-\")","v":"-"}]
[null,1556,null,null,null,null,null,null,null,", ",", , , ID , ",{"$f":"IFERROR(VLOOKUP(J1561,[1]functii!D:E,2,FALSE),\"-\")","v":"-"}]
[null,1557,null,null,null,null,null,null,null,", ",", , , ID , ",{"$f":"IFERROR(VLOOKUP(J1562,[1]functii!D:E,2,FALSE),\"-\")","v":"-"}]
[null,1558,null,null,null,null,null,null,null,", ",", , , ID , ",{"$f":"IFERROR(VLOOKUP(J1563,[1]functii!D:E,2,FALSE),\"-\")","v":"-"}]
[null,1559,null,null,null,null,null,null,null,", ",", , , ID , ",{"$f":"IFERROR(VLOOKUP(J1564,[1]functii!D:E,2,FALSE),\"-\")","v":"-"}]
[null,1560,null,null,null,null,null,null,null,", ",", , , ID , ",{"$f":"IFERROR(VLOOKUP(J1565,[1]functii!D:E,2,FALSE),\"-\")","v":"-"}]
[null,1561,null,null,null,null,null,null,null,", ",", , , ID , ",{"$f":"IFERROR(VLOOKUP(J1566,[1]functii!D:E,2,FALSE),\"-\")","v":"-"}]
[null,1562,null,null,null,null,null,null,null,", ",", , , ID , ",{"$f":"IFERROR(VLOOKUP(J1567,[1]functii!D:E,2,FALSE),\"-\")","v":"-"}]
[null,1563,null,null,null,null,null,null,null,", ",", , , ID , ",{"$f":"IFERROR(VLOOKUP(J1568,[1]functii!D:E,2,FALSE),\"-\")","v":"-"}]
[null,1564,null,null,null,null,null,null,null,", ",", , , ID , ",{"$f":"IFERROR(VLOOKUP(J1569,[1]functii!D:E,2,FALSE),\"-\")","v":"-"}]
[null,1565,null,null,null,null,null,null,null,", ",", , , ID , ",{"$f":"IFERROR(VLOOKUP(J1570,[1]functii!D:E,2,FALSE),\"-\")","v":"-"}]
[null,1566,null,null,null,null,null,null,null,", ",", , , ID , ",{"$f":"IFERROR(VLOOKUP(J1571,[1]functii!D:E,2,FALSE),\"-\")","v":"-"}]
[null,1567,null,null,null,null,null,null,null,", ",", , , ID , ",{"$f":"IFERROR(VLOOKUP(J1572,[1]functii!D:E,2,FALSE),\"-\")","v":"-"}]
[null,1568,null,null,null,null,null,null,null,", ",", , , ID , ",{"$f":"IFERROR(VLOOKUP(J1573,[1]functii!D:E,2,FALSE),\"-\")","v":"-"}]
[null,1569,null,null,null,null,null,null,null,", ",", , , ID , ",{"$f":"IFERROR(VLOOKUP(J1574,[1]functii!D:E,2,FALSE),\"-\")","v":"-"}]
[null,1570,null,null,null,null,null,null,null,", ",", , , ID , ",{"$f":"IFERROR(VLOOKUP(J1575,[1]functii!D:E,2,FALSE),\"-\")","v":"-"}]
[null,1571,null,null,null,null,null,null,null,", ",", , , ID , ",{"$f":"IFERROR(VLOOKUP(J1576,[1]functii!D:E,2,FALSE),\"-\")","v":"-"}]
[null,1572,null,null,null,null,null,null,null,", ",", , , ID , ",{"$f":"IFERROR(VLOOKUP(J1577,[1]functii!D:E,2,FALSE),\"-\")","v":"-"}]
[null,1573,null,null,null,null,null,null,null,", ",", , , ID , ",{"$f":"IFERROR(VLOOKUP(J1578,[1]functii!D:E,2,FALSE),\"-\")","v":"-"}]
[null,1574,null,null,null,null,null,null,null,", ",", , , ID , ",{"$f":"IFERROR(VLOOKUP(J1579,[1]functii!D:E,2,FALSE),\"-\")","v":"-"}]
[null,1575,null,null,null,null,null,null,null,", ",", , , ID , ",{"$f":"IFERROR(VLOOKUP(J1580,[1]functii!D:E,2,FALSE),\"-\")","v":"-"}]
[null,1576,null,null,null,null,null,null,null,", ",", , , ID , ",{"$f":"IFERROR(VLOOKUP(J1581,[1]functii!D:E,2,FALSE),\"-\")","v":"-"}]
[null,1577,null,null,null,null,null,null,null,", ",", , , ID , ",{"$f":"IFERROR(VLOOKUP(J1582,[1]functii!D:E,2,FALSE),\"-\")","v":"-"}]
[null,1578,null,null,null,null,null,null,null,", ",", , , ID , ",{"$f":"IFERROR(VLOOKUP(J1583,[1]functii!D:E,2,FALSE),\"-\")","v":"-"}]
[null,1579,null,null,null,null,null,null,null,", ",", , , ID , ",{"$f":"IFERROR(VLOOKUP(J1584,[1]functii!D:E,2,FALSE),\"-\")","v":"-"}]
[null,1580,null,null,null,null,null,null,null,", ",", , , ID , ",{"$f":"IFERROR(VLOOKUP(J1585,[1]functii!D:E,2,FALSE),\"-\")","v":"-"}]
[null,1581,null,null,null,null,null,null,null,", ",", , , ID , ",{"$f":"IFERROR(VLOOKUP(J1586,[1]functii!D:E,2,FALSE),\"-\")","v":"-"}]
[null,1582,null,null,null,null,null,null,null,", ",", , , ID , ",{"$f":"IFERROR(VLOOKUP(J1587,[1]functii!D:E,2,FALSE),\"-\")","v":"-"}]
[null,1583,null,null,null,null,null,null,null,", ",", , , ID , ",{"$f":"IFERROR(VLOOKUP(J1588,[1]functii!D:E,2,FALSE),\"-\")","v":"-"}]
[null,1584,null,null,null,null,null,null,null,", ",", , , ID , ",{"$f":"IFERROR(VLOOKUP(J1589,[1]functii!D:E,2,FALSE),\"-\")","v":"-"}]
[null,1585,null,null,null,null,null,null,null,", ",", , , ID , ",{"$f":"IFERROR(VLOOKUP(J1590,[1]functii!D:E,2,FALSE),\"-\")","v":"-"}]
[null,1586,null,null,null,null,null,null,null,", ",", , , ID , ",{"$f":"IFERROR(VLOOKUP(J1591,[1]functii!D:E,2,FALSE),\"-\")","v":"-"}]
[null,1587,null,null,null,null,null,null,null,", ",", , , ID , ",{"$f":"IFERROR(VLOOKUP(J1592,[1]functii!D:E,2,FALSE),\"-\")","v":"-"}]
[null,1588,null,null,null,null,null,null,null,", ",", , , ID , ",{"$f":"IFERROR(VLOOKUP(J1593,[1]functii!D:E,2,FALSE),\"-\")","v":"-"}]
[null,1589,null,null,null,null,null,null,null,", ",", , , ID , ",{"$f":"IFERROR(VLOOKUP(J1594,[1]functii!D:E,2,FALSE),\"-\")","v":"-"}]
[null,1590,null,null,null,null,null,null,null,", ",", , , ID , ",{"$f":"IFERROR(VLOOKUP(J1595,[1]functii!D:E,2,FALSE),\"-\")","v":"-"}]
[null,1591,null,null,null,null,null,null,null,", ",", , , ID , ",{"$f":"IFERROR(VLOOKUP(J1596,[1]functii!D:E,2,FALSE),\"-\")","v":"-"}]
[null,1592,null,null,null,null,null,null,null,", ",", , , ID , ",{"$f":"IFERROR(VLOOKUP(J1597,[1]functii!D:E,2,FALSE),\"-\")","v":"-"}]
[null,1593,null,null,null,null,null,null,null,", ",", , , ID , ",{"$f":"IFERROR(VLOOKUP(J1598,[1]functii!D:E,2,FALSE),\"-\")","v":"-"}]
[null,1594,null,null,null,null,null,null,null,", ",", , , ID , ",{"$f":"IFERROR(VLOOKUP(J1599,[1]functii!D:E,2,FALSE),\"-\")","v":"-"}]
[null,1595,null,null,null,null,null,null,null,", ",", , , ID , ",{"$f":"IFERROR(VLOOKUP(J1600,[1]functii!D:E,2,FALSE),\"-\")","v":"-"}]
[null,1596,null,null,null,null,null,null,null,", ",", , , ID , ",{"$f":"IFERROR(VLOOKUP(J1601,[1]functii!D:E,2,FALSE),\"-\")","v":"-"}]
[null,1597,null,null,null,null,null,null,null,", ",", , , ID , ",{"$f":"IFERROR(VLOOKUP(J1602,[1]functii!D:E,2,FALSE),\"-\")","v":"-"}]
[null,1598,null,null,null,null,null,null,null,", ",", , , ID , ",{"$f":"IFERROR(VLOOKUP(J1603,[1]functii!D:E,2,FALSE),\"-\")","v":"-"}]
[null,1599,null,null,null,null,null,null,null,", ",", , , ID , ",{"$f":"IFERROR(VLOOKUP(J1604,[1]functii!D:E,2,FALSE),\"-\")","v":"-"}]
[null,1600,null,null,null,null,null,null,null,", ",", , , ID , ",{"$f":"IFERROR(VLOOKUP(J1605,[1]functii!D:E,2,FALSE),\"-\")","v":"-"}]
[null,1601,null,null,null,null,null,null,null,{"$f":"_xlfn.CONCAT(D1606,\",\",\" \",F1606)","v":", "},{"$f":"CONCATENATE(D1606,\", \",E1606,\", \",F1606,\", ID \",G1606,\", \",H1606)","v":", , , ID , "},{"$f":"IFERROR(VLOOKUP(J1606,[1]functii!D:E,2,FALSE),\"-\")","v":"-"}]
[null,1602,null,null,null,null,null,null,null,", ",", , , ID , ",{"$f":"IFERROR(VLOOKUP(J1607,[1]functii!D:E,2,FALSE),\"-\")","v":"-"}]
[null,1603,null,null,null,null,null,null,null,", ",", , , ID , ",{"$f":"IFERROR(VLOOKUP(J1608,[1]functii!D:E,2,FALSE),\"-\")","v":"-"}]
[null,1604,null,null,null,null,null,null,null,", ",", , , ID , ",{"$f":"IFERROR(VLOOKUP(J1609,[1]functii!D:E,2,FALSE),\"-\")","v":"-"}]
[null,1605,null,null,null,null,null,null,null,", ",", , , ID , ",{"$f":"IFERROR(VLOOKUP(J1610,[1]functii!D:E,2,FALSE),\"-\")","v":"-"}]
[null,1606,null,null,null,null,null,null,null,", ",", , , ID , ",{"$f":"IFERROR(VLOOKUP(J1611,[1]functii!D:E,2,FALSE),\"-\")","v":"-"}]
[null,1607,null,null,null,null,null,null,null,", ",", , , ID , ",{"$f":"IFERROR(VLOOKUP(J1612,[1]functii!D:E,2,FALSE),\"-\")","v":"-"}]
[null,1608,null,null,null,null,null,null,null,", ",", , , ID , ",{"$f":"IFERROR(VLOOKUP(J1613,[1]functii!D:E,2,FALSE),\"-\")","v":"-"}]
[null,1609,null,null,null,null,null,null,null,", ",", , , ID , ",{"$f":"IFERROR(VLOOKUP(J1614,[1]functii!D:E,2,FALSE),\"-\")","v":"-"}]
[null,1610,null,null,null,null,null,null,null,", ",", , , ID , ",{"$f":"IFERROR(VLOOKUP(J1615,[1]functii!D:E,2,FALSE),\"-\")","v":"-"}]
[null,1611,null,null,null,null,null,null,null,", ",", , , ID , ",{"$f":"IFERROR(VLOOKUP(J1616,[1]functii!D:E,2,FALSE),\"-\")","v":"-"}]
[null,1612,null,null,null,null,null,null,null,", ",", , , ID , ",{"$f":"IFERROR(VLOOKUP(J1617,[1]functii!D:E,2,FALSE),\"-\")","v":"-"}]
[null,1613,null,null,null,null,null,null,null,", ",", , , ID , ",{"$f":"IFERROR(VLOOKUP(J1618,[1]functii!D:E,2,FALSE),\"-\")","v":"-"}]
[null,1614,null,null,null,null,null,null,null,", ",", , , ID , ",{"$f":"IFERROR(VLOOKUP(J1619,[1]functii!D:E,2,FALSE),\"-\")","v":"-"}]
[null,1615,null,null,null,null,null,null,null,", ",", , , ID , ",{"$f":"IFERROR(VLOOKUP(J1620,[1]functii!D:E,2,FALSE),\"-\")","v":"-"}]
[null,1616,null,null,null,null,null,null,null,", ",", , , ID , ",{"$f":"IFERROR(VLOOKUP(J1621,[1]functii!D:E,2,FALSE),\"-\")","v":"-"}]
[null,1617,null,null,null,null,null,null,null,", ",", , , ID , ",{"$f":"IFERROR(VLOOKUP(J1622,[1]functii!D:E,2,FALSE),\"-\")","v":"-"}]
[null,1618,null,null,null,null,null,null,null,", ",", , , ID , ",{"$f":"IFERROR(VLOOKUP(J1623,[1]functii!D:E,2,FALSE),\"-\")","v":"-"}]
[null,1619,null,null,null,null,null,null,null,", ",", , , ID , ",{"$f":"IFERROR(VLOOKUP(J1624,[1]functii!D:E,2,FALSE),\"-\")","v":"-"}]
[null,1620,null,null,null,null,null,null,null,", ",", , , ID , ",{"$f":"IFERROR(VLOOKUP(J1625,[1]functii!D:E,2,FALSE),\"-\")","v":"-"}]
[null,1621,null,null,null,null,null,null,null,", ",", , , ID , ",{"$f":"IFERROR(VLOOKUP(J1626,[1]functii!D:E,2,FALSE),\"-\")","v":"-"}]
[null,1622,null,null,null,null,null,null,null,", ",", , , ID , ",{"$f":"IFERROR(VLOOKUP(J1627,[1]functii!D:E,2,FALSE),\"-\")","v":"-"}]
[null,1623,null,null,null,null,null,null,null,", ",", , , ID , ",{"$f":"IFERROR(VLOOKUP(J1628,[1]functii!D:E,2,FALSE),\"-\")","v":"-"}]
[null,1624,null,null,null,null,null,null,null,", ",", , , ID , ",{"$f":"IFERROR(VLOOKUP(J1629,[1]functii!D:E,2,FALSE),\"-\")","v":"-"}]
[null,1625,null,null,null,null,null,null,null,", ",", , , ID , ",{"$f":"IFERROR(VLOOKUP(J1630,[1]functii!D:E,2,FALSE),\"-\")","v":"-"}]
[null,1626,null,null,null,null,null,null,null,", ",", , , ID , ",{"$f":"IFERROR(VLOOKUP(J1631,[1]functii!D:E,2,FALSE),\"-\")","v":"-"}]
[null,1627,null,null,null,null,null,null,null,", ",", , , ID , ",{"$f":"IFERROR(VLOOKUP(J1632,[1]functii!D:E,2,FALSE),\"-\")","v":"-"}]
[null,1628,null,null,null,null,null,null,null,", ",", , , ID , ",{"$f":"IFERROR(VLOOKUP(J1633,[1]functii!D:E,2,FALSE),\"-\")","v":"-"}]
[null,1629,null,null,null,null,null,null,null,", ",", , , ID , ",{"$f":"IFERROR(VLOOKUP(J1634,[1]functii!D:E,2,FALSE),\"-\")","v":"-"}]
[null,1630,null,null,null,null,null,null,null,", ",", , , ID , ",{"$f":"IFERROR(VLOOKUP(J1635,[1]functii!D:E,2,FALSE),\"-\")","v":"-"}]
[null,1631,null,null,null,null,null,null,null,", ",", , , ID , ",{"$f":"IFERROR(VLOOKUP(J1636,[1]functii!D:E,2,FALSE),\"-\")","v":"-"}]
[null,1632,null,null,null,null,null,null,null,", ",", , , ID , ",{"$f":"IFERROR(VLOOKUP(J1637,[1]functii!D:E,2,FALSE),\"-\")","v":"-"}]
[null,1633,null,null,null,null,null,null,null,", ",", , , ID , ",{"$f":"IFERROR(VLOOKUP(J1638,[1]functii!D:E,2,FALSE),\"-\")","v":"-"}]
[null,1634,null,null,null,null,null,null,null,", ",", , , ID , ",{"$f":"IFERROR(VLOOKUP(J1639,[1]functii!D:E,2,FALSE),\"-\")","v":"-"}]
[null,1635,null,null,null,null,null,null,null,", ",", , , ID , ",{"$f":"IFERROR(VLOOKUP(J1640,[1]functii!D:E,2,FALSE),\"-\")","v":"-"}]
[null,1636,null,null,null,null,null,null,null,", ",", , , ID , ",{"$f":"IFERROR(VLOOKUP(J1641,[1]functii!D:E,2,FALSE),\"-\")","v":"-"}]
[null,1637,null,null,null,null,null,null,null,", ",", , , ID , ",{"$f":"IFERROR(VLOOKUP(J1642,[1]functii!D:E,2,FALSE),\"-\")","v":"-"}]
[null,1638,null,null,null,null,null,null,null,", ",", , , ID , ",{"$f":"IFERROR(VLOOKUP(J1643,[1]functii!D:E,2,FALSE),\"-\")","v":"-"}]
[null,1639,null,null,null,null,null,null,null,", ",", , , ID , ",{"$f":"IFERROR(VLOOKUP(J1644,[1]functii!D:E,2,FALSE),\"-\")","v":"-"}]
[null,1640,null,null,null,null,null,null,null,", ",", , , ID , ",{"$f":"IFERROR(VLOOKUP(J1645,[1]functii!D:E,2,FALSE),\"-\")","v":"-"}]
[null,1641,null,null,null,null,null,null,null,", ",", , , ID , ",{"$f":"IFERROR(VLOOKUP(J1646,[1]functii!D:E,2,FALSE),\"-\")","v":"-"}]
[null,1642,null,null,null,null,null,null,null,", ",", , , ID , ",{"$f":"IFERROR(VLOOKUP(J1647,[1]functii!D:E,2,FALSE),\"-\")","v":"-"}]
[null,1643,null,null,null,null,null,null,null,", ",", , , ID , ",{"$f":"IFERROR(VLOOKUP(J1648,[1]functii!D:E,2,FALSE),\"-\")","v":"-"}]
[null,1644,null,null,null,null,null,null,null,", ",", , , ID , ",{"$f":"IFERROR(VLOOKUP(J1649,[1]functii!D:E,2,FALSE),\"-\")","v":"-"}]
[null,1645,null,null,null,null,null,null,null,", ",", , , ID , ",{"$f":"IFERROR(VLOOKUP(J1650,[1]functii!D:E,2,FALSE),\"-\")","v":"-"}]
[null,1646,null,null,null,null,null,null,null,", ",", , , ID , ",{"$f":"IFERROR(VLOOKUP(J1651,[1]functii!D:E,2,FALSE),\"-\")","v":"-"}]
[null,1647,null,null,null,null,null,null,null,", ",", , , ID , ",{"$f":"IFERROR(VLOOKUP(J1652,[1]functii!D:E,2,FALSE),\"-\")","v":"-"}]
[null,1648,null,null,null,null,null,null,null,", ",", , , ID , ",{"$f":"IFERROR(VLOOKUP(J1653,[1]functii!D:E,2,FALSE),\"-\")","v":"-"}]
[null,1649,null,null,null,null,null,null,null,", ",", , , ID , ",{"$f":"IFERROR(VLOOKUP(J1654,[1]functii!D:E,2,FALSE),\"-\")","v":"-"}]
[null,1650,null,null,null,null,null,null,null,", ",", , , ID , ",{"$f":"IFERROR(VLOOKUP(J1655,[1]functii!D:E,2,FALSE),\"-\")","v":"-"}]
[null,1651,null,null,null,null,null,null,null,", ",", , , ID , ",{"$f":"IFERROR(VLOOKUP(J1656,[1]functii!D:E,2,FALSE),\"-\")","v":"-"}]
[null,1652,null,null,null,null,null,null,null,", ",", , , ID , ",{"$f":"IFERROR(VLOOKUP(J1657,[1]functii!D:E,2,FALSE),\"-\")","v":"-"}]
[null,1653,null,null,null,null,null,null,null,", ",", , , ID , ",{"$f":"IFERROR(VLOOKUP(J1658,[1]functii!D:E,2,FALSE),\"-\")","v":"-"}]
[null,1654,null,null,null,null,null,null,null,", ",", , , ID , ",{"$f":"IFERROR(VLOOKUP(J1659,[1]functii!D:E,2,FALSE),\"-\")","v":"-"}]
[null,1655,null,null,null,null,null,null,null,", ",", , , ID , ",{"$f":"IFERROR(VLOOKUP(J1660,[1]functii!D:E,2,FALSE),\"-\")","v":"-"}]
[null,1656,null,null,null,null,null,null,null,", ",", , , ID , ",{"$f":"IFERROR(VLOOKUP(J1661,[1]functii!D:E,2,FALSE),\"-\")","v":"-"}]
[null,1657,null,null,null,null,null,null,null,", ",", , , ID , ",{"$f":"IFERROR(VLOOKUP(J1662,[1]functii!D:E,2,FALSE),\"-\")","v":"-"}]
[null,1658,null,null,null,null,null,null,null,", ",", , , ID , ",{"$f":"IFERROR(VLOOKUP(J1663,[1]functii!D:E,2,FALSE),\"-\")","v":"-"}]
[null,1659,null,null,null,null,null,null,null,", ",", , , ID , ",{"$f":"IFERROR(VLOOKUP(J1664,[1]functii!D:E,2,FALSE),\"-\")","v":"-"}]
[null,1660,null,null,null,null,null,null,null,", ",", , , ID , ",{"$f":"IFERROR(VLOOKUP(J1665,[1]functii!D:E,2,FALSE),\"-\")","v":"-"}]
[null,1661,null,null,null,null,null,null,null,", ",", , , ID , ",{"$f":"IFERROR(VLOOKUP(J1666,[1]functii!D:E,2,FALSE),\"-\")","v":"-"}]
[null,1662,null,null,null,null,null,null,null,", ",", , , ID , ",{"$f":"IFERROR(VLOOKUP(J1667,[1]functii!D:E,2,FALSE),\"-\")","v":"-"}]
[null,1663,null,null,null,null,null,null,null,", ",", , , ID , ",{"$f":"IFERROR(VLOOKUP(J1668,[1]functii!D:E,2,FALSE),\"-\")","v":"-"}]
[null,1664,null,null,null,null,null,null,null,", ",", , , ID , ",{"$f":"IFERROR(VLOOKUP(J1669,[1]functii!D:E,2,FALSE),\"-\")","v":"-"}]
[null,1665,null,null,null,null,null,null,null,{"$f":"_xlfn.CONCAT(D1670,\",\",\" \",F1670)","v":", "},{"$f":"CONCATENATE(D1670,\", \",E1670,\", \",F1670,\", ID \",G1670,\", \",H1670)","v":", , , ID , "},{"$f":"IFERROR(VLOOKUP(J1670,[1]functii!D:E,2,FALSE),\"-\")","v":"-"}]
[null,1666,null,null,null,null,null,null,null,", ",", , , ID , ",{"$f":"IFERROR(VLOOKUP(J1671,[1]functii!D:E,2,FALSE),\"-\")","v":"-"}]
[null,1667,null,null,null,null,null,null,null,", ",", , , ID , ",{"$f":"IFERROR(VLOOKUP(J1672,[1]functii!D:E,2,FALSE),\"-\")","v":"-"}]
[null,1668,null,null,null,null,null,null,null,", ",", , , ID , ",{"$f":"IFERROR(VLOOKUP(J1673,[1]functii!D:E,2,FALSE),\"-\")","v":"-"}]
[null,1669,null,null,null,null,null,null,null,", ",", , , ID , ",{"$f":"IFERROR(VLOOKUP(J1674,[1]functii!D:E,2,FALSE),\"-\")","v":"-"}]
[null,1670,null,null,null,null,null,null,null,", ",", , , ID , ",{"$f":"IFERROR(VLOOKUP(J1675,[1]functii!D:E,2,FALSE),\"-\")","v":"-"}]
[null,1671,null,null,null,null,null,null,null,", ",", , , ID , ",{"$f":"IFERROR(VLOOKUP(J1676,[1]functii!D:E,2,FALSE),\"-\")","v":"-"}]
[null,1672,null,null,null,null,null,null,null,", ",", , , ID , ",{"$f":"IFERROR(VLOOKUP(J1677,[1]functii!D:E,2,FALSE),\"-\")","v":"-"}]
[null,1673,null,null,null,null,null,null,null,", ",", , , ID , ",{"$f":"IFERROR(VLOOKUP(J1678,[1]functii!D:E,2,FALSE),\"-\")","v":"-"}]
[null,1674,null,null,null,null,null,null,null,", ",", , , ID , ",{"$f":"IFERROR(VLOOKUP(J1679,[1]functii!D:E,2,FALSE),\"-\")","v":"-"}]
[null,1675,null,null,null,null,null,null,null,", ",", , , ID , ",{"$f":"IFERROR(VLOOKUP(J1680,[1]functii!D:E,2,FALSE),\"-\")","v":"-"}]
[null,1676,null,null,null,null,null,null,null,", ",", , , ID , ",{"$f":"IFERROR(VLOOKUP(J1681,[1]functii!D:E,2,FALSE),\"-\")","v":"-"}]
[null,1677,null,null,null,null,null,null,null,", ",", , , ID , ",{"$f":"IFERROR(VLOOKUP(J1682,[1]functii!D:E,2,FALSE),\"-\")","v":"-"}]
[null,1678,null,null,null,null,null,null,null,", ",", , , ID , ",{"$f":"IFERROR(VLOOKUP(J1683,[1]functii!D:E,2,FALSE),\"-\")","v":"-"}]
[null,1679,null,null,null,null,null,null,null,", ",", , , ID , ",{"$f":"IFERROR(VLOOKUP(J1684,[1]functii!D:E,2,FALSE),\"-\")","v":"-"}]
[null,1680,null,null,null,null,null,null,null,", ",", , , ID , ",{"$f":"IFERROR(VLOOKUP(J1685,[1]functii!D:E,2,FALSE),\"-\")","v":"-"}]
[null,1681,null,null,null,null,null,null,null,", ",", , , ID , ",{"$f":"IFERROR(VLOOKUP(J1686,[1]functii!D:E,2,FALSE),\"-\")","v":"-"}]
[null,1682,null,null,null,null,null,null,null,", ",", , , ID , ",{"$f":"IFERROR(VLOOKUP(J1687,[1]functii!D:E,2,FALSE),\"-\")","v":"-"}]
[null,1683,null,null,null,null,null,null,null,", ",", , , ID , ",{"$f":"IFERROR(VLOOKUP(J1688,[1]functii!D:E,2,FALSE),\"-\")","v":"-"}]
[null,1684,null,null,null,null,null,null,null,", ",", , , ID , ",{"$f":"IFERROR(VLOOKUP(J1689,[1]functii!D:E,2,FALSE),\"-\")","v":"-"}]
[null,1685,null,null,null,null,null,null,null,", ",", , , ID , ",{"$f":"IFERROR(VLOOKUP(J1690,[1]functii!D:E,2,FALSE),\"-\")","v":"-"}]
[null,1686,null,null,null,null,null,null,null,", ",", , , ID , ",{"$f":"IFERROR(VLOOKUP(J1691,[1]functii!D:E,2,FALSE),\"-\")","v":"-"}]
[null,1687,null,null,null,null,null,null,null,", ",", , , ID , ",{"$f":"IFERROR(VLOOKUP(J1692,[1]functii!D:E,2,FALSE),\"-\")","v":"-"}]
[null,1688,null,null,null,null,null,null,null,", ",", , , ID , ",{"$f":"IFERROR(VLOOKUP(J1693,[1]functii!D:E,2,FALSE),\"-\")","v":"-"}]
[null,1689,null,null,null,null,null,null,null,", ",", , , ID , ",{"$f":"IFERROR(VLOOKUP(J1694,[1]functii!D:E,2,FALSE),\"-\")","v":"-"}]
[null,1690,null,null,null,null,null,null,null,", ",", , , ID , ",{"$f":"IFERROR(VLOOKUP(J1695,[1]functii!D:E,2,FALSE),\"-\")","v":"-"}]
[null,1691,null,null,null,null,null,null,null,", ",", , , ID , ",{"$f":"IFERROR(VLOOKUP(J1696,[1]functii!D:E,2,FALSE),\"-\")","v":"-"}]
[null,1692,null,null,null,null,null,null,null,", ",", , , ID , ",{"$f":"IFERROR(VLOOKUP(J1697,[1]functii!D:E,2,FALSE),\"-\")","v":"-"}]
[null,1693,null,null,null,null,null,null,null,", ",", , , ID , ",{"$f":"IFERROR(VLOOKUP(J1698,[1]functii!D:E,2,FALSE),\"-\")","v":"-"}]
[null,1694,null,null,null,null,null,null,null,", ",", , , ID , ",{"$f":"IFERROR(VLOOKUP(J1699,[1]functii!D:E,2,FALSE),\"-\")","v":"-"}]
[null,1695,null,null,null,null,null,null,null,", ",", , , ID , ",{"$f":"IFERROR(VLOOKUP(J1700,[1]functii!D:E,2,FALSE),\"-\")","v":"-"}]
[null,1696,null,null,null,null,null,null,null,", ",", , , ID , ",{"$f":"IFERROR(VLOOKUP(J1701,[1]functii!D:E,2,FALSE),\"-\")","v":"-"}]
[null,1697,null,null,null,null,null,null,null,", ",", , , ID , ",{"$f":"IFERROR(VLOOKUP(J1702,[1]functii!D:E,2,FALSE),\"-\")","v":"-"}]
[null,1698,null,null,null,null,null,null,null,", ",", , , ID , ",{"$f":"IFERROR(VLOOKUP(J1703,[1]functii!D:E,2,FALSE),\"-\")","v":"-"}]
[null,1699,null,null,null,null,null,null,null,", ",", , , ID , ",{"$f":"IFERROR(VLOOKUP(J1704,[1]functii!D:E,2,FALSE),\"-\")","v":"-"}]
[null,1700,null,null,null,null,null,null,null,", ",", , , ID , ",{"$f":"IFERROR(VLOOKUP(J1705,[1]functii!D:E,2,FALSE),\"-\")","v":"-"}]
[null,1701,null,null,null,null,null,null,null,", ",", , , ID , ",{"$f":"IFERROR(VLOOKUP(J1706,[1]functii!D:E,2,FALSE),\"-\")","v":"-"}]
[null,1702,null,null,null,null,null,null,null,", ",", , , ID , ",{"$f":"IFERROR(VLOOKUP(J1707,[1]functii!D:E,2,FALSE),\"-\")","v":"-"}]
[null,1703,null,null,null,null,null,null,null,", ",", , , ID , ",{"$f":"IFERROR(VLOOKUP(J1708,[1]functii!D:E,2,FALSE),\"-\")","v":"-"}]
[null,1704,null,null,null,null,null,null,null,", ",", , , ID , ",{"$f":"IFERROR(VLOOKUP(J1709,[1]functii!D:E,2,FALSE),\"-\")","v":"-"}]
[null,1705,null,null,null,null,null,null,null,", ",", , , ID , ",{"$f":"IFERROR(VLOOKUP(J1710,[1]functii!D:E,2,FALSE),\"-\")","v":"-"}]
[null,1706,null,null,null,null,null,null,null,", ",", , , ID , ",{"$f":"IFERROR(VLOOKUP(J1711,[1]functii!D:E,2,FALSE),\"-\")","v":"-"}]
[null,1707,null,null,null,null,null,null,null,", ",", , , ID , ",{"$f":"IFERROR(VLOOKUP(J1712,[1]functii!D:E,2,FALSE),\"-\")","v":"-"}]
[null,1708,null,null,null,null,null,null,null,", ",", , , ID , ",{"$f":"IFERROR(VLOOKUP(J1713,[1]functii!D:E,2,FALSE),\"-\")","v":"-"}]
[null,1709,null,null,null,null,null,null,null,", ",", , , ID , ",{"$f":"IFERROR(VLOOKUP(J1714,[1]functii!D:E,2,FALSE),\"-\")","v":"-"}]
[null,1710,null,null,null,null,null,null,null,", ",", , , ID , ",{"$f":"IFERROR(VLOOKUP(J1715,[1]functii!D:E,2,FALSE),\"-\")","v":"-"}]
[null,1711,null,null,null,null,null,null,null,", ",", , , ID , ",{"$f":"IFERROR(VLOOKUP(J1716,[1]functii!D:E,2,FALSE),\"-\")","v":"-"}]
[null,1712,null,null,null,null,null,null,null,", ",", , , ID , ",{"$f":"IFERROR(VLOOKUP(J1717,[1]functii!D:E,2,FALSE),\"-\")","v":"-"}]
[null,1713,null,null,null,null,null,null,null,", ",", , , ID , ",{"$f":"IFERROR(VLOOKUP(J1718,[1]functii!D:E,2,FALSE),\"-\")","v":"-"}]
[null,1714,null,null,null,null,null,null,null,", ",", , , ID , ",{"$f":"IFERROR(VLOOKUP(J1719,[1]functii!D:E,2,FALSE),\"-\")","v":"-"}]
[null,1715,null,null,null,null,null,null,null,", ",", , , ID , ",{"$f":"IFERROR(VLOOKUP(J1720,[1]functii!D:E,2,FALSE),\"-\")","v":"-"}]
[null,1716,null,null,null,null,null,null,null,", ",", , , ID , ",{"$f":"IFERROR(VLOOKUP(J1721,[1]functii!D:E,2,FALSE),\"-\")","v":"-"}]
[null,1717,null,null,null,null,null,null,null,", ",", , , ID , ",{"$f":"IFERROR(VLOOKUP(J1722,[1]functii!D:E,2,FALSE),\"-\")","v":"-"}]
[null,1718,null,null,null,null,null,null,null,", ",", , , ID , ",{"$f":"IFERROR(VLOOKUP(J1723,[1]functii!D:E,2,FALSE),\"-\")","v":"-"}]
[null,1719,null,null,null,null,null,null,null,", ",", , , ID , ",{"$f":"IFERROR(VLOOKUP(J1724,[1]functii!D:E,2,FALSE),\"-\")","v":"-"}]
[null,1720,null,null,null,null,null,null,null,", ",", , , ID , ",{"$f":"IFERROR(VLOOKUP(J1725,[1]functii!D:E,2,FALSE),\"-\")","v":"-"}]
[null,1721,null,null,null,null,null,null,null,", ",", , , ID , ",{"$f":"IFERROR(VLOOKUP(J1726,[1]functii!D:E,2,FALSE),\"-\")","v":"-"}]
[null,1722,null,null,null,null,null,null,null,", ",", , , ID , ",{"$f":"IFERROR(VLOOKUP(J1727,[1]functii!D:E,2,FALSE),\"-\")","v":"-"}]
[null,1723,null,null,null,null,null,null,null,", ",", , , ID , ",{"$f":"IFERROR(VLOOKUP(J1728,[1]functii!D:E,2,FALSE),\"-\")","v":"-"}]
[null,1724,null,null,null,null,null,null,null,", ",", , , ID , ",{"$f":"IFERROR(VLOOKUP(J1729,[1]functii!D:E,2,FALSE),\"-\")","v":"-"}]
[null,1725,null,null,null,null,null,null,null,", ",", , , ID , ",{"$f":"IFERROR(VLOOKUP(J1730,[1]functii!D:E,2,FALSE),\"-\")","v":"-"}]
[null,1726,null,null,null,null,null,null,null,", ",", , , ID , ",{"$f":"IFERROR(VLOOKUP(J1731,[1]functii!D:E,2,FALSE),\"-\")","v":"-"}]
[null,1727,null,null,null,null,null,null,null,", ",", , , ID , ",{"$f":"IFERROR(VLOOKUP(J1732,[1]functii!D:E,2,FALSE),\"-\")","v":"-"}]
[null,1728,null,null,null,null,null,null,null,", ",", , , ID , ",{"$f":"IFERROR(VLOOKUP(J1733,[1]functii!D:E,2,FALSE),\"-\")","v":"-"}]
[null,1729,null,null,null,null,null,null,null,{"$f":"_xlfn.CONCAT(D1734,\",\",\" \",F1734)","v":", "},{"$f":"CONCATENATE(D1734,\", \",E1734,\", \",F1734,\", ID \",G1734,\", \",H1734)","v":", , , ID , "},{"$f":"IFERROR(VLOOKUP(J1734,[1]functii!D:E,2,FALSE),\"-\")","v":"-"}]
[null,1730,null,null,null,null,null,null,null,", ",", , , ID , ",{"$f":"IFERROR(VLOOKUP(J1735,[1]functii!D:E,2,FALSE),\"-\")","v":"-"}]
[null,1731,null,null,null,null,null,null,null,", ",", , , ID , ",{"$f":"IFERROR(VLOOKUP(J1736,[1]functii!D:E,2,FALSE),\"-\")","v":"-"}]
[null,1732,null,null,null,null,null,null,null,", ",", , , ID , ",{"$f":"IFERROR(VLOOKUP(J1737,[1]functii!D:E,2,FALSE),\"-\")","v":"-"}]
[null,1733,null,null,null,null,null,null,null,", ",", , , ID , ",{"$f":"IFERROR(VLOOKUP(J1738,[1]functii!D:E,2,FALSE),\"-\")","v":"-"}]
[null,1734,null,null,null,null,null,null,null,", ",", , , ID , ",{"$f":"IFERROR(VLOOKUP(J1739,[1]functii!D:E,2,FALSE),\"-\")","v":"-"}]
[null,1735,null,null,null,null,null,null,null,", ",", , , ID , ",{"$f":"IFERROR(VLOOKUP(J1740,[1]functii!D:E,2,FALSE),\"-\")","v":"-"}]
[null,1736,null,null,null,null,null,null,null,", ",", , , ID , ",{"$f":"IFERROR(VLOOKUP(J1741,[1]functii!D:E,2,FALSE),\"-\")","v":"-"}]
[null,1737,null,null,null,null,null,null,null,", ",", , , ID , ",{"$f":"IFERROR(VLOOKUP(J1742,[1]functii!D:E,2,FALSE),\"-\")","v":"-"}]
[null,1738,null,null,null,null,null,null,null,", ",", , , ID , ",{"$f":"IFERROR(VLOOKUP(J1743,[1]functii!D:E,2,FALSE),\"-\")","v":"-"}]
[null,1739,null,null,null,null,null,null,null,", ",", , , ID , ",{"$f":"IFERROR(VLOOKUP(J1744,[1]functii!D:E,2,FALSE),\"-\")","v":"-"}]
[null,1740,null,null,null,null,null,null,null,", ",", , , ID , ",{"$f":"IFERROR(VLOOKUP(J1745,[1]functii!D:E,2,FALSE),\"-\")","v":"-"}]
[null,1741,null,null,null,null,null,null,null,", ",", , , ID , ",{"$f":"IFERROR(VLOOKUP(J1746,[1]functii!D:E,2,FALSE),\"-\")","v":"-"}]
[null,1742,null,null,null,null,null,null,null,", ",", , , ID , ",{"$f":"IFERROR(VLOOKUP(J1747,[1]functii!D:E,2,FALSE),\"-\")","v":"-"}]
[null,1743,null,null,null,null,null,null,null,", ",", , , ID , ",{"$f":"IFERROR(VLOOKUP(J1748,[1]functii!D:E,2,FALSE),\"-\")","v":"-"}]
[null,1744,null,null,null,null,null,null,null,", ",", , , ID , ",{"$f":"IFERROR(VLOOKUP(J1749,[1]functii!D:E,2,FALSE),\"-\")","v":"-"}]
[null,1745,null,null,null,null,null,null,null,", ",", , , ID , ",{"$f":"IFERROR(VLOOKUP(J1750,[1]functii!D:E,2,FALSE),\"-\")","v":"-"}]
[null,1746,null,null,null,null,null,null,null,", ",", , , ID , ",{"$f":"IFERROR(VLOOKUP(J1751,[1]functii!D:E,2,FALSE),\"-\")","v":"-"}]
[null,1747,null,null,null,null,null,null,null,", ",", , , ID , ",{"$f":"IFERROR(VLOOKUP(J1752,[1]functii!D:E,2,FALSE),\"-\")","v":"-"}]
[null,1748,null,null,null,null,null,null,null,", ",", , , ID , ",{"$f":"IFERROR(VLOOKUP(J1753,[1]functii!D:E,2,FALSE),\"-\")","v":"-"}]
[null,1749,null,null,null,null,null,null,null,", ",", , , ID , ",{"$f":"IFERROR(VLOOKUP(J1754,[1]functii!D:E,2,FALSE),\"-\")","v":"-"}]
[null,1750,null,null,null,null,null,null,null,", ",", , , ID , ",{"$f":"IFERROR(VLOOKUP(J1755,[1]functii!D:E,2,FALSE),\"-\")","v":"-"}]
[null,1751,null,null,null,null,null,null,null,", ",", , , ID , ",{"$f":"IFERROR(VLOOKUP(J1756,[1]functii!D:E,2,FALSE),\"-\")","v":"-"}]
[null,1752,null,null,null,null,null,null,null,", ",", , , ID , ",{"$f":"IFERROR(VLOOKUP(J1757,[1]functii!D:E,2,FALSE),\"-\")","v":"-"}]
[null,1753,null,null,null,null,null,null,null,", ",", , , ID , ",{"$f":"IFERROR(VLOOKUP(J1758,[1]functii!D:E,2,FALSE),\"-\")","v":"-"}]
[null,1754,null,null,null,null,null,null,null,", ",", , , ID , ",{"$f":"IFERROR(VLOOKUP(J1759,[1]functii!D:E,2,FALSE),\"-\")","v":"-"}]
[null,1755,null,null,null,null,null,null,null,", ",", , , ID , ",{"$f":"IFERROR(VLOOKUP(J1760,[1]functii!D:E,2,FALSE),\"-\")","v":"-"}]
[null,1756,null,null,null,null,null,null,null,", ",", , , ID , ",{"$f":"IFERROR(VLOOKUP(J1761,[1]functii!D:E,2,FALSE),\"-\")","v":"-"}]
[null,1757,null,null,null,null,null,null,null,", ",", , , ID , ",{"$f":"IFERROR(VLOOKUP(J1762,[1]functii!D:E,2,FALSE),\"-\")","v":"-"}]
[null,1758,null,null,null,null,null,null,null,", ",", , , ID , ",{"$f":"IFERROR(VLOOKUP(J1763,[1]functii!D:E,2,FALSE),\"-\")","v":"-"}]
[null,1759,null,null,null,null,null,null,null,", ",", , , ID , ",{"$f":"IFERROR(VLOOKUP(J1764,[1]functii!D:E,2,FALSE),\"-\")","v":"-"}]
[null,1760,null,null,null,null,null,null,null,", ",", , , ID , ",{"$f":"IFERROR(VLOOKUP(J1765,[1]functii!D:E,2,FALSE),\"-\")","v":"-"}]
[null,1761,null,null,null,null,null,null,null,", ",", , , ID , ",{"$f":"IFERROR(VLOOKUP(J1766,[1]functii!D:E,2,FALSE),\"-\")","v":"-"}]
[null,1762,null,null,null,null,null,null,null,", ",", , , ID , ",{"$f":"IFERROR(VLOOKUP(J1767,[1]functii!D:E,2,FALSE),\"-\")","v":"-"}]
[null,1763,null,null,null,null,null,null,null,", ",", , , ID , ",{"$f":"IFERROR(VLOOKUP(J1768,[1]functii!D:E,2,FALSE),\"-\")","v":"-"}]
[null,1764,null,null,null,null,null,null,null,", ",", , , ID , ",{"$f":"IFERROR(VLOOKUP(J1769,[1]functii!D:E,2,FALSE),\"-\")","v":"-"}]
[null,1765,null,null,null,null,null,null,null,", ",", , , ID , ",{"$f":"IFERROR(VLOOKUP(J1770,[1]functii!D:E,2,FALSE),\"-\")","v":"-"}]
[null,1766,null,null,null,null,null,null,null,", ",", , , ID , ",{"$f":"IFERROR(VLOOKUP(J1771,[1]functii!D:E,2,FALSE),\"-\")","v":"-"}]
[null,1767,null,null,null,null,null,null,null,", ",", , , ID , ",{"$f":"IFERROR(VLOOKUP(J1772,[1]functii!D:E,2,FALSE),\"-\")","v":"-"}]
[null,1768,null,null,null,null,null,null,null,", ",", , , ID , ",{"$f":"IFERROR(VLOOKUP(J1773,[1]functii!D:E,2,FALSE),\"-\")","v":"-"}]
[null,1769,null,null,null,null,null,null,null,", ",", , , ID , ",{"$f":"IFERROR(VLOOKUP(J1774,[1]functii!D:E,2,FALSE),\"-\")","v":"-"}]
[null,1770,null,null,null,null,null,null,null,", ",", , , ID , ",{"$f":"IFERROR(VLOOKUP(J1775,[1]functii!D:E,2,FALSE),\"-\")","v":"-"}]
[null,1771,null,null,null,null,null,null,null,", ",", , , ID , ",{"$f":"IFERROR(VLOOKUP(J1776,[1]functii!D:E,2,FALSE),\"-\")","v":"-"}]
[null,1772,null,null,null,null,null,null,null,", ",", , , ID , ",{"$f":"IFERROR(VLOOKUP(J1777,[1]functii!D:E,2,FALSE),\"-\")","v":"-"}]
[null,1773,null,null,null,null,null,null,null,", ",", , , ID , ",{"$f":"IFERROR(VLOOKUP(J1778,[1]functii!D:E,2,FALSE),\"-\")","v":"-"}]
[null,1774,null,null,null,null,null,null,null,", ",", , , ID , ",{"$f":"IFERROR(VLOOKUP(J1779,[1]functii!D:E,2,FALSE),\"-\")","v":"-"}]
[null,1775,null,null,null,null,null,null,null,", ",", , , ID , ",{"$f":"IFERROR(VLOOKUP(J1780,[1]functii!D:E,2,FALSE),\"-\")","v":"-"}]
[null,1776,null,null,null,null,null,null,null,", ",", , , ID , ",{"$f":"IFERROR(VLOOKUP(J1781,[1]functii!D:E,2,FALSE),\"-\")","v":"-"}]
[null,1777,null,null,null,null,null,null,null,", ",", , , ID , ",{"$f":"IFERROR(VLOOKUP(J1782,[1]functii!D:E,2,FALSE),\"-\")","v":"-"}]
[null,1778,null,null,null,null,null,null,null,", ",", , , ID , ",{"$f":"IFERROR(VLOOKUP(J1783,[1]functii!D:E,2,FALSE),\"-\")","v":"-"}]
[null,1779,null,null,null,null,null,null,null,", ",", , , ID , ",{"$f":"IFERROR(VLOOKUP(J1784,[1]functii!D:E,2,FALSE),\"-\")","v":"-"}]
[null,1780,null,null,null,null,null,null,null,", ",", , , ID , ",{"$f":"IFERROR(VLOOKUP(J1785,[1]functii!D:E,2,FALSE),\"-\")","v":"-"}]
[null,1781,null,null,null,null,null,null,null,", ",", , , ID , ",{"$f":"IFERROR(VLOOKUP(J1786,[1]functii!D:E,2,FALSE),\"-\")","v":"-"}]
[null,1782,null,null,null,null,null,null,null,", ",", , , ID , ",{"$f":"IFERROR(VLOOKUP(J1787,[1]functii!D:E,2,FALSE),\"-\")","v":"-"}]
[null,1783,null,null,null,null,null,null,null,", ",", , , ID , ",{"$f":"IFERROR(VLOOKUP(J1788,[1]functii!D:E,2,FALSE),\"-\")","v":"-"}]
[null,1784,null,null,null,null,null,null,null,", ",", , , ID , ",{"$f":"IFERROR(VLOOKUP(J1789,[1]functii!D:E,2,FALSE),\"-\")","v":"-"}]
[null,1785,null,null,null,null,null,null,null,", ",", , , ID , ",{"$f":"IFERROR(VLOOKUP(J1790,[1]functii!D:E,2,FALSE),\"-\")","v":"-"}]
[null,1786,null,null,null,null,null,null,null,", ",", , , ID , ",{"$f":"IFERROR(VLOOKUP(J1791,[1]functii!D:E,2,FALSE),\"-\")","v":"-"}]
[null,1787,null,null,null,null,null,null,null,", ",", , , ID , ",{"$f":"IFERROR(VLOOKUP(J1792,[1]functii!D:E,2,FALSE),\"-\")","v":"-"}]
[null,1788,null,null,null,null,null,null,null,", ",", , , ID , ",{"$f":"IFERROR(VLOOKUP(J1793,[1]functii!D:E,2,FALSE),\"-\")","v":"-"}]
[null,1789,null,null,null,null,null,null,null,", ",", , , ID , ",{"$f":"IFERROR(VLOOKUP(J1794,[1]functii!D:E,2,FALSE),\"-\")","v":"-"}]
[null,1790,null,null,null,null,null,null,null,", ",", , , ID , ",{"$f":"IFERROR(VLOOKUP(J1795,[1]functii!D:E,2,FALSE),\"-\")","v":"-"}]
[null,1791,null,null,null,null,null,null,null,", ",", , , ID , ",{"$f":"IFERROR(VLOOKUP(J1796,[1]functii!D:E,2,FALSE),\"-\")","v":"-"}]
[null,1792,null,null,null,null,null,null,null,", ",", , , ID , ",{"$f":"IFERROR(VLOOKUP(J1797,[1]functii!D:E,2,FALSE),\"-\")","v":"-"}]
[null,1793,null,null,null,null,null,null,null,{"$f":"_xlfn.CONCAT(D1798,\",\",\" \",F1798)","v":", "},{"$f":"CONCATENATE(D1798,\", \",E1798,\", \",F1798,\", ID \",G1798,\", \",H1798)","v":", , , ID , "},{"$f":"IFERROR(VLOOKUP(J1798,[1]functii!D:E,2,FALSE),\"-\")","v":"-"}]
[null,1794,null,null,null,null,null,null,null,", ",", , , ID , ",{"$f":"IFERROR(VLOOKUP(J1799,[1]functii!D:E,2,FALSE),\"-\")","v":"-"}]
[null,1795,null,null,null,null,null,null,null,", ",", , , ID , ",{"$f":"IFERROR(VLOOKUP(J1800,[1]functii!D:E,2,FALSE),\"-\")","v":"-"}]
[null,1796,null,null,null,null,null,null,null,", ",", , , ID , ",{"$f":"IFERROR(VLOOKUP(J1801,[1]functii!D:E,2,FALSE),\"-\")","v":"-"}]
[null,1797,null,null,null,null,null,null,null,", ",", , , ID , ",{"$f":"IFERROR(VLOOKUP(J1802,[1]functii!D:E,2,FALSE),\"-\")","v":"-"}]
[null,1798,null,null,null,null,null,null,null,", ",", , , ID , ",{"$f":"IFERROR(VLOOKUP(J1803,[1]functii!D:E,2,FALSE),\"-\")","v":"-"}]
[null,1799,null,null,null,null,null,null,null,", ",", , , ID , ",{"$f":"IFERROR(VLOOKUP(J1804,[1]functii!D:E,2,FALSE),\"-\")","v":"-"}]
[null,1800,null,null,null,null,null,null,null,", ",", , , ID , ",{"$f":"IFERROR(VLOOKUP(J1805,[1]functii!D:E,2,FALSE),\"-\")","v":"-"}]
[null,1801,null,null,null,null,null,null,null,", ",", , , ID , ",{"$f":"IFERROR(VLOOKUP(J1806,[1]functii!D:E,2,FALSE),\"-\")","v":"-"}]
[null,1802,null,null,null,null,null,null,null,", ",", , , ID , ",{"$f":"IFERROR(VLOOKUP(J1807,[1]functii!D:E,2,FALSE),\"-\")","v":"-"}]
[null,1803,null,null,null,null,null,null,null,", ",", , , ID , ",{"$f":"IFERROR(VLOOKUP(J1808,[1]functii!D:E,2,FALSE),\"-\")","v":"-"}]
[null,1804,null,null,null,null,null,null,null,", ",", , , ID , ",{"$f":"IFERROR(VLOOKUP(J1809,[1]functii!D:E,2,FALSE),\"-\")","v":"-"}]
[null,1805,null,null,null,null,null,null,null,", ",", , , ID , ",{"$f":"IFERROR(VLOOKUP(J1810,[1]functii!D:E,2,FALSE),\"-\")","v":"-"}]
[null,1806,null,null,null,null,null,null,null,", ",", , , ID , ",{"$f":"IFERROR(VLOOKUP(J1811,[1]functii!D:E,2,FALSE),\"-\")","v":"-"}]
[null,1807,null,null,null,null,null,null,null,", ",", , , ID , ",{"$f":"IFERROR(VLOOKUP(J1812,[1]functii!D:E,2,FALSE),\"-\")","v":"-"}]
[null,1808,null,null,null,null,null,null,null,", ",", , , ID , ",{"$f":"IFERROR(VLOOKUP(J1813,[1]functii!D:E,2,FALSE),\"-\")","v":"-"}]
[null,1809,null,null,null,null,null,null,null,", ",", , , ID , ",{"$f":"IFERROR(VLOOKUP(J1814,[1]functii!D:E,2,FALSE),\"-\")","v":"-"}]
[null,1810,null,null,null,null,null,null,null,", ",", , , ID , ",{"$f":"IFERROR(VLOOKUP(J1815,[1]functii!D:E,2,FALSE),\"-\")","v":"-"}]
[null,1811,null,null,null,null,null,null,null,", ",", , , ID , ",{"$f":"IFERROR(VLOOKUP(J1816,[1]functii!D:E,2,FALSE),\"-\")","v":"-"}]
[null,1812,null,null,null,null,null,null,null,", ",", , , ID , ",{"$f":"IFERROR(VLOOKUP(J1817,[1]functii!D:E,2,FALSE),\"-\")","v":"-"}]
[null,1813,null,null,null,null,null,null,null,", ",", , , ID , ",{"$f":"IFERROR(VLOOKUP(J1818,[1]functii!D:E,2,FALSE),\"-\")","v":"-"}]
[null,1814,null,null,null,null,null,null,null,", ",", , , ID , ",{"$f":"IFERROR(VLOOKUP(J1819,[1]functii!D:E,2,FALSE),\"-\")","v":"-"}]
[null,1815,null,null,null,null,null,null,null,", ",", , , ID , ",{"$f":"IFERROR(VLOOKUP(J1820,[1]functii!D:E,2,FALSE),\"-\")","v":"-"}]
[null,1816,null,null,null,null,null,null,null,", ",", , , ID , ",{"$f":"IFERROR(VLOOKUP(J1821,[1]functii!D:E,2,FALSE),\"-\")","v":"-"}]
[null,1817,null,null,null,null,null,null,null,", ",", , , ID , ",{"$f":"IFERROR(VLOOKUP(J1822,[1]functii!D:E,2,FALSE),\"-\")","v":"-"}]
[null,1818,null,null,null,null,null,null,null,", ",", , , ID , ",{"$f":"IFERROR(VLOOKUP(J1823,[1]functii!D:E,2,FALSE),\"-\")","v":"-"}]
[null,1819,null,null,null,null,null,null,null,", ",", , , ID , ",{"$f":"IFERROR(VLOOKUP(J1824,[1]functii!D:E,2,FALSE),\"-\")","v":"-"}]
[null,1820,null,null,null,null,null,null,null,", ",", , , ID , ",{"$f":"IFERROR(VLOOKUP(J1825,[1]functii!D:E,2,FALSE),\"-\")","v":"-"}]
[null,1821,null,null,null,null,null,null,null,", ",", , , ID , ",{"$f":"IFERROR(VLOOKUP(J1826,[1]functii!D:E,2,FALSE),\"-\")","v":"-"}]
[null,1822,null,null,null,null,null,null,null,", ",", , , ID , ",{"$f":"IFERROR(VLOOKUP(J1827,[1]functii!D:E,2,FALSE),\"-\")","v":"-"}]
[null,1823,null,null,null,null,null,null,null,", ",", , , ID , ",{"$f":"IFERROR(VLOOKUP(J1828,[1]functii!D:E,2,FALSE),\"-\")","v":"-"}]
[null,1824,null,null,null,null,null,null,null,", ",", , , ID , ",{"$f":"IFERROR(VLOOKUP(J1829,[1]functii!D:E,2,FALSE),\"-\")","v":"-"}]
[null,1825,null,null,null,null,null,null,null,", ",", , , ID , ",{"$f":"IFERROR(VLOOKUP(J1830,[1]functii!D:E,2,FALSE),\"-\")","v":"-"}]
[null,1826,null,null,null,null,null,null,null,", ",", , , ID , ",{"$f":"IFERROR(VLOOKUP(J1831,[1]functii!D:E,2,FALSE),\"-\")","v":"-"}]
[null,1827,null,null,null,null,null,null,null,", ",", , , ID , ",{"$f":"IFERROR(VLOOKUP(J1832,[1]functii!D:E,2,FALSE),\"-\")","v":"-"}]
[null,1828,null,null,null,null,null,null,null,", ",", , , ID , ",{"$f":"IFERROR(VLOOKUP(J1833,[1]functii!D:E,2,FALSE),\"-\")","v":"-"}]
[null,1829,null,null,null,null,null,null,null,", ",", , , ID , ",{"$f":"IFERROR(VLOOKUP(J1834,[1]functii!D:E,2,FALSE),\"-\")","v":"-"}]
[null,1830,null,null,null,null,null,null,null,", ",", , , ID , ",{"$f":"IFERROR(VLOOKUP(J1835,[1]functii!D:E,2,FALSE),\"-\")","v":"-"}]
[null,1831,null,null,null,null,null,null,null,", ",", , , ID , ",{"$f":"IFERROR(VLOOKUP(J1836,[1]functii!D:E,2,FALSE),\"-\")","v":"-"}]
[null,1832,null,null,null,null,null,null,null,", ",", , , ID , ",{"$f":"IFERROR(VLOOKUP(J1837,[1]functii!D:E,2,FALSE),\"-\")","v":"-"}]
[null,1833,null,null,null,null,null,null,null,", ",", , , ID , ",{"$f":"IFERROR(VLOOKUP(J1838,[1]functii!D:E,2,FALSE),\"-\")","v":"-"}]
[null,1834,null,null,null,null,null,null,null,", ",", , , ID , ",{"$f":"IFERROR(VLOOKUP(J1839,[1]functii!D:E,2,FALSE),\"-\")","v":"-"}]
[null,1835,null,null,null,null,null,null,null,", ",", , , ID , ",{"$f":"IFERROR(VLOOKUP(J1840,[1]functii!D:E,2,FALSE),\"-\")","v":"-"}]
[null,1836,null,null,null,null,null,null,null,", ",", , , ID , ",{"$f":"IFERROR(VLOOKUP(J1841,[1]functii!D:E,2,FALSE),\"-\")","v":"-"}]
[null,1837,null,null,null,null,null,null,null,", ",", , , ID , ",{"$f":"IFERROR(VLOOKUP(J1842,[1]functii!D:E,2,FALSE),\"-\")","v":"-"}]
[null,1838,null,null,null,null,null,null,null,", ",", , , ID , ",{"$f":"IFERROR(VLOOKUP(J1843,[1]functii!D:E,2,FALSE),\"-\")","v":"-"}]
[null,1839,null,null,null,null,null,null,null,", ",", , , ID , ",{"$f":"IFERROR(VLOOKUP(J1844,[1]functii!D:E,2,FALSE),\"-\")","v":"-"}]
[null,1840,null,null,null,null,null,null,null,", ",", , , ID , ",{"$f":"IFERROR(VLOOKUP(J1845,[1]functii!D:E,2,FALSE),\"-\")","v":"-"}]
[null,1841,null,null,null,null,null,null,null,", ",", , , ID , ",{"$f":"IFERROR(VLOOKUP(J1846,[1]functii!D:E,2,FALSE),\"-\")","v":"-"}]
[null,1842,null,null,null,null,null,null,null,", ",", , , ID , ",{"$f":"IFERROR(VLOOKUP(J1847,[1]functii!D:E,2,FALSE),\"-\")","v":"-"}]
[null,1843,null,null,null,null,null,null,null,", ",", , , ID , ",{"$f":"IFERROR(VLOOKUP(J1848,[1]functii!D:E,2,FALSE),\"-\")","v":"-"}]
[null,1844,null,null,null,null,null,null,null,", ",", , , ID , ",{"$f":"IFERROR(VLOOKUP(J1849,[1]functii!D:E,2,FALSE),\"-\")","v":"-"}]
[null,1845,null,null,null,null,null,null,null,", ",", , , ID , ",{"$f":"IFERROR(VLOOKUP(J1850,[1]functii!D:E,2,FALSE),\"-\")","v":"-"}]
[null,1846,null,null,null,null,null,null,null,", ",", , , ID , ",{"$f":"IFERROR(VLOOKUP(J1851,[1]functii!D:E,2,FALSE),\"-\")","v":"-"}]
[null,1847,null,null,null,null,null,null,null,", ",", , , ID , ",{"$f":"IFERROR(VLOOKUP(J1852,[1]functii!D:E,2,FALSE),\"-\")","v":"-"}]
[null,1848,null,null,null,null,null,null,null,", ",", , , ID , ",{"$f":"IFERROR(VLOOKUP(J1853,[1]functii!D:E,2,FALSE),\"-\")","v":"-"}]
[null,1849,null,null,null,null,null,null,null,", ",", , , ID , ",{"$f":"IFERROR(VLOOKUP(J1854,[1]functii!D:E,2,FALSE),\"-\")","v":"-"}]
[null,1850,null,null,null,null,null,null,null,", ",", , , ID , ",{"$f":"IFERROR(VLOOKUP(J1855,[1]functii!D:E,2,FALSE),\"-\")","v":"-"}]
[null,1851,null,null,null,null,null,null,null,", ",", , , ID , ",{"$f":"IFERROR(VLOOKUP(J1856,[1]functii!D:E,2,FALSE),\"-\")","v":"-"}]
[null,1852,null,null,null,null,null,null,null,", ",", , , ID , ",{"$f":"IFERROR(VLOOKUP(J1857,[1]functii!D:E,2,FALSE),\"-\")","v":"-"}]
[null,1853,null,null,null,null,null,null,null,", ",", , , ID , ",{"$f":"IFERROR(VLOOKUP(J1858,[1]functii!D:E,2,FALSE),\"-\")","v":"-"}]
[null,1854,null,null,null,null,null,null,null,", ",", , , ID , ",{"$f":"IFERROR(VLOOKUP(J1859,[1]functii!D:E,2,FALSE),\"-\")","v":"-"}]
[null,1855,null,null,null,null,null,null,null,", ",", , , ID , ",{"$f":"IFERROR(VLOOKUP(J1860,[1]functii!D:E,2,FALSE),\"-\")","v":"-"}]
[null,1856,null,null,null,null,null,null,null,", ",", , , ID , ",{"$f":"IFERROR(VLOOKUP(J1861,[1]functii!D:E,2,FALSE),\"-\")","v":"-"}]
[null,1857,null,null,null,null,null,null,null,{"$f":"_xlfn.CONCAT(D1862,\",\",\" \",F1862)","v":", "},{"$f":"CONCATENATE(D1862,\", \",E1862,\", \",F1862,\", ID \",G1862,\", \",H1862)","v":", , , ID , "},{"$f":"IFERROR(VLOOKUP(J1862,[1]functii!D:E,2,FALSE),\"-\")","v":"-"}]
[null,1858,null,null,null,null,null,null,null,", ",", , , ID , ",{"$f":"IFERROR(VLOOKUP(J1863,[1]functii!D:E,2,FALSE),\"-\")","v":"-"}]
[null,1859,null,null,null,null,null,null,null,", ",", , , ID , ",{"$f":"IFERROR(VLOOKUP(J1864,[1]functii!D:E,2,FALSE),\"-\")","v":"-"}]
[null,1860,null,null,null,null,null,null,null,", ",", , , ID , ",{"$f":"IFERROR(VLOOKUP(J1865,[1]functii!D:E,2,FALSE),\"-\")","v":"-"}]
[null,1861,null,null,null,null,null,null,null,", ",", , , ID , ",{"$f":"IFERROR(VLOOKUP(J1866,[1]functii!D:E,2,FALSE),\"-\")","v":"-"}]
[null,1862,null,null,null,null,null,null,null,", ",", , , ID , ",{"$f":"IFERROR(VLOOKUP(J1867,[1]functii!D:E,2,FALSE),\"-\")","v":"-"}]
[null,1863,null,null,null,null,null,null,null,", ",", , , ID , ",{"$f":"IFERROR(VLOOKUP(J1868,[1]functii!D:E,2,FALSE),\"-\")","v":"-"}]
[null,1864,null,null,null,null,null,null,null,", ",", , , ID , ",{"$f":"IFERROR(VLOOKUP(J1869,[1]functii!D:E,2,FALSE),\"-\")","v":"-"}]
[null,1865,null,null,null,null,null,null,null,", ",", , , ID , ",{"$f":"IFERROR(VLOOKUP(J1870,[1]functii!D:E,2,FALSE),\"-\")","v":"-"}]
[null,1866,null,null,null,null,null,null,null,", ",", , , ID , ",{"$f":"IFERROR(VLOOKUP(J1871,[1]functii!D:E,2,FALSE),\"-\")","v":"-"}]
[null,1867,null,null,null,null,null,null,null,", ",", , , ID , ",{"$f":"IFERROR(VLOOKUP(J1872,[1]functii!D:E,2,FALSE),\"-\")","v":"-"}]
[null,1868,null,null,null,null,null,null,null,", ",", , , ID , ",{"$f":"IFERROR(VLOOKUP(J1873,[1]functii!D:E,2,FALSE),\"-\")","v":"-"}]
[null,1869,null,null,null,null,null,null,null,", ",", , , ID , ",{"$f":"IFERROR(VLOOKUP(J1874,[1]functii!D:E,2,FALSE),\"-\")","v":"-"}]
[null,1870,null,null,null,null,null,null,null,", ",", , , ID , ",{"$f":"IFERROR(VLOOKUP(J1875,[1]functii!D:E,2,FALSE),\"-\")","v":"-"}]
[null,1871,null,null,null,null,null,null,null,", ",", , , ID , ",{"$f":"IFERROR(VLOOKUP(J1876,[1]functii!D:E,2,FALSE),\"-\")","v":"-"}]
[null,1872,null,null,null,null,null,null,null,", ",", , , ID , ",{"$f":"IFERROR(VLOOKUP(J1877,[1]functii!D:E,2,FALSE),\"-\")","v":"-"}]
[null,1873,null,null,null,null,null,null,null,", ",", , , ID , ",{"$f":"IFERROR(VLOOKUP(J1878,[1]functii!D:E,2,FALSE),\"-\")","v":"-"}]
[null,1874,null,null,null,null,null,null,null,", ",", , , ID , ",{"$f":"IFERROR(VLOOKUP(J1879,[1]functii!D:E,2,FALSE),\"-\")","v":"-"}]
[null,1875,null,null,null,null,null,null,null,", ",", , , ID , ",{"$f":"IFERROR(VLOOKUP(J1880,[1]functii!D:E,2,FALSE),\"-\")","v":"-"}]
[null,1876,null,null,null,null,null,null,null,", ",", , , ID , ",{"$f":"IFERROR(VLOOKUP(J1881,[1]functii!D:E,2,FALSE),\"-\")","v":"-"}]
[null,1877,null,null,null,null,null,null,null,", ",", , , ID , ",{"$f":"IFERROR(VLOOKUP(J1882,[1]functii!D:E,2,FALSE),\"-\")","v":"-"}]
[null,1878,null,null,null,null,null,null,null,", ",", , , ID , ",{"$f":"IFERROR(VLOOKUP(J1883,[1]functii!D:E,2,FALSE),\"-\")","v":"-"}]
[null,1879,null,null,null,null,null,null,null,", ",", , , ID , ",{"$f":"IFERROR(VLOOKUP(J1884,[1]functii!D:E,2,FALSE),\"-\")","v":"-"}]
[null,1880,null,null,null,null,null,null,null,", ",", , , ID , ",{"$f":"IFERROR(VLOOKUP(J1885,[1]functii!D:E,2,FALSE),\"-\")","v":"-"}]
[null,1881,null,null,null,null,null,null,null,", ",", , , ID , ",{"$f":"IFERROR(VLOOKUP(J1886,[1]functii!D:E,2,FALSE),\"-\")","v":"-"}]
[null,1882,null,null,null,null,null,null,null,", ",", , , ID , ",{"$f":"IFERROR(VLOOKUP(J1887,[1]functii!D:E,2,FALSE),\"-\")","v":"-"}]
[null,1883,null,null,null,null,null,null,null,", ",", , , ID , ",{"$f":"IFERROR(VLOOKUP(J1888,[1]functii!D:E,2,FALSE),\"-\")","v":"-"}]
[null,1884,null,null,null,null,null,null,null,", ",", , , ID , ",{"$f":"IFERROR(VLOOKUP(J1889,[1]functii!D:E,2,FALSE),\"-\")","v":"-"}]
[null,1885,null,null,null,null,null,null,null,", ",", , , ID , ",{"$f":"IFERROR(VLOOKUP(J1890,[1]functii!D:E,2,FALSE),\"-\")","v":"-"}]
[null,1886,null,null,null,null,null,null,null,", ",", , , ID , ",{"$f":"IFERROR(VLOOKUP(J1891,[1]functii!D:E,2,FALSE),\"-\")","v":"-"}]
[null,1887,null,null,null,null,null,null,null,", ",", , , ID , ",{"$f":"IFERROR(VLOOKUP(J1892,[1]functii!D:E,2,FALSE),\"-\")","v":"-"}]
[null,1888,null,null,null,null,null,null,null,", ",", , , ID , ",{"$f":"IFERROR(VLOOKUP(J1893,[1]functii!D:E,2,FALSE),\"-\")","v":"-"}]
[null,1889,null,null,null,null,null,null,null,", ",", , , ID , ",{"$f":"IFERROR(VLOOKUP(J1894,[1]functii!D:E,2,FALSE),\"-\")","v":"-"}]
[null,1890,null,null,null,null,null,null,null,", ",", , , ID , ",{"$f":"IFERROR(VLOOKUP(J1895,[1]functii!D:E,2,FALSE),\"-\")","v":"-"}]
[null,1891,null,null,null,null,null,null,null,", ",", , , ID , ",{"$f":"IFERROR(VLOOKUP(J1896,[1]functii!D:E,2,FALSE),\"-\")","v":"-"}]
[null,1892,null,null,null,null,null,null,null,", ",", , , ID , ",{"$f":"IFERROR(VLOOKUP(J1897,[1]functii!D:E,2,FALSE),\"-\")","v":"-"}]
[null,1893,null,null,null,null,null,null,null,", ",", , , ID , ",{"$f":"IFERROR(VLOOKUP(J1898,[1]functii!D:E,2,FALSE),\"-\")","v":"-"}]
[null,1894,null,null,null,null,null,null,null,", ",", , , ID , ",{"$f":"IFERROR(VLOOKUP(J1899,[1]functii!D:E,2,FALSE),\"-\")","v":"-"}]
[null,1895,null,null,null,null,null,null,null,", ",", , , ID , ",{"$f":"IFERROR(VLOOKUP(J1900,[1]functii!D:E,2,FALSE),\"-\")","v":"-"}]
[null,1896,null,null,null,null,null,null,null,", ",", , , ID , ",{"$f":"IFERROR(VLOOKUP(J1901,[1]functii!D:E,2,FALSE),\"-\")","v":"-"}]
[null,1897,null,null,null,null,null,null,null,", ",", , , ID , ",{"$f":"IFERROR(VLOOKUP(J1902,[1]functii!D:E,2,FALSE),\"-\")","v":"-"}]
[null,1898,null,null,null,null,null,null,null,", ",", , , ID , ",{"$f":"IFERROR(VLOOKUP(J1903,[1]functii!D:E,2,FALSE),\"-\")","v":"-"}]
[null,1899,null,null,null,null,null,null,null,", ",", , , ID , ",{"$f":"IFERROR(VLOOKUP(J1904,[1]functii!D:E,2,FALSE),\"-\")","v":"-"}]
[null,1900,null,null,null,null,null,null,null,", ",", , , ID , ",{"$f":"IFERROR(VLOOKUP(J1905,[1]functii!D:E,2,FALSE),\"-\")","v":"-"}]
[null,1901,null,null,null,null,null,null,null,", ",", , , ID , ",{"$f":"IFERROR(VLOOKUP(J1906,[1]functii!D:E,2,FALSE),\"-\")","v":"-"}]
[null,1902,null,null,null,null,null,null,null,", ",", , , ID , ",{"$f":"IFERROR(VLOOKUP(J1907,[1]functii!D:E,2,FALSE),\"-\")","v":"-"}]
[null,1903,null,null,null,null,null,null,null,", ",", , , ID , ",{"$f":"IFERROR(VLOOKUP(J1908,[1]functii!D:E,2,FALSE),\"-\")","v":"-"}]
[null,1904,null,null,null,null,null,null,null,", ",", , , ID , ",{"$f":"IFERROR(VLOOKUP(J1909,[1]functii!D:E,2,FALSE),\"-\")","v":"-"}]
[null,1905,null,null,null,null,null,null,null,", ",", , , ID , ",{"$f":"IFERROR(VLOOKUP(J1910,[1]functii!D:E,2,FALSE),\"-\")","v":"-"}]
[null,1906,null,null,null,null,null,null,null,", ",", , , ID , ",{"$f":"IFERROR(VLOOKUP(J1911,[1]functii!D:E,2,FALSE),\"-\")","v":"-"}]
[null,1907,null,null,null,null,null,null,null,", ",", , , ID , ",{"$f":"IFERROR(VLOOKUP(J1912,[1]functii!D:E,2,FALSE),\"-\")","v":"-"}]
[null,1908,null,null,null,null,null,null,null,", ",", , , ID , ",{"$f":"IFERROR(VLOOKUP(J1913,[1]functii!D:E,2,FALSE),\"-\")","v":"-"}]
[null,1909,null,null,null,null,null,null,null,", ",", , , ID , ",{"$f":"IFERROR(VLOOKUP(J1914,[1]functii!D:E,2,FALSE),\"-\")","v":"-"}]
[null,1910,null,null,null,null,null,null,null,", ",", , , ID , ",{"$f":"IFERROR(VLOOKUP(J1915,[1]functii!D:E,2,FALSE),\"-\")","v":"-"}]
[null,1911,null,null,null,null,null,null,null,", ",", , , ID , ",{"$f":"IFERROR(VLOOKUP(J1916,[1]functii!D:E,2,FALSE),\"-\")","v":"-"}]
[null,1912,null,null,null,null,null,null,null,", ",", , , ID , ",{"$f":"IFERROR(VLOOKUP(J1917,[1]functii!D:E,2,FALSE),\"-\")","v":"-"}]
[null,1913,null,null,null,null,null,null,null,", ",", , , ID , ",{"$f":"IFERROR(VLOOKUP(J1918,[1]functii!D:E,2,FALSE),\"-\")","v":"-"}]
[null,1914,null,null,null,null,null,null,null,", ",", , , ID , ",{"$f":"IFERROR(VLOOKUP(J1919,[1]functii!D:E,2,FALSE),\"-\")","v":"-"}]
[null,1915,null,null,null,null,null,null,null,", ",", , , ID , ",{"$f":"IFERROR(VLOOKUP(J1920,[1]functii!D:E,2,FALSE),\"-\")","v":"-"}]
[null,1916,null,null,null,null,null,null,null,", ",", , , ID , ",{"$f":"IFERROR(VLOOKUP(J1921,[1]functii!D:E,2,FALSE),\"-\")","v":"-"}]
[null,1917,null,null,null,null,null,null,null,", ",", , , ID , ",{"$f":"IFERROR(VLOOKUP(J1922,[1]functii!D:E,2,FALSE),\"-\")","v":"-"}]
[null,1918,null,null,null,null,null,null,null,", ",", , , ID , ",{"$f":"IFERROR(VLOOKUP(J1923,[1]functii!D:E,2,FALSE),\"-\")","v":"-"}]
[null,1919,null,null,null,null,null,null,null,", ",", , , ID , ",{"$f":"IFERROR(VLOOKUP(J1924,[1]functii!D:E,2,FALSE),\"-\")","v":"-"}]
[null,1920,null,null,null,null,null,null,null,", ",", , , ID , ",{"$f":"IFERROR(VLOOKUP(J1925,[1]functii!D:E,2,FALSE),\"-\")","v":"-"}]
[null,1921,null,null,null,null,null,null,null,{"$f":"_xlfn.CONCAT(D1926,\",\",\" \",F1926)","v":", "},{"$f":"CONCATENATE(D1926,\", \",E1926,\", \",F1926,\", ID \",G1926,\", \",H1926)","v":", , , ID , "},{"$f":"IFERROR(VLOOKUP(J1926,[1]functii!D:E,2,FALSE),\"-\")","v":"-"}]
[null,1922,null,null,null,null,null,null,null,", ",", , , ID , ",{"$f":"IFERROR(VLOOKUP(J1927,[1]functii!D:E,2,FALSE),\"-\")","v":"-"}]
[null,1923,null,null,null,null,null,null,null,", ",", , , ID , ",{"$f":"IFERROR(VLOOKUP(J1928,[1]functii!D:E,2,FALSE),\"-\")","v":"-"}]
[null,1924,null,null,null,null,null,null,null,", ",", , , ID , ",{"$f":"IFERROR(VLOOKUP(J1929,[1]functii!D:E,2,FALSE),\"-\")","v":"-"}]
[null,1925,null,null,null,null,null,null,null,", ",", , , ID , ",{"$f":"IFERROR(VLOOKUP(J1930,[1]functii!D:E,2,FALSE),\"-\")","v":"-"}]
[null,1926,null,null,null,null,null,null,null,", ",", , , ID , ",{"$f":"IFERROR(VLOOKUP(J1931,[1]functii!D:E,2,FALSE),\"-\")","v":"-"}]
[null,1927,null,null,null,null,null,null,null,", ",", , , ID , ",{"$f":"IFERROR(VLOOKUP(J1932,[1]functii!D:E,2,FALSE),\"-\")","v":"-"}]
[null,1928,null,null,null,null,null,null,null,", ",", , , ID , ",{"$f":"IFERROR(VLOOKUP(J1933,[1]functii!D:E,2,FALSE),\"-\")","v":"-"}]
[null,1929,null,null,null,null,null,null,null,", ",", , , ID , ",{"$f":"IFERROR(VLOOKUP(J1934,[1]functii!D:E,2,FALSE),\"-\")","v":"-"}]
[null,1930,null,null,null,null,null,null,null,", ",", , , ID , ",{"$f":"IFERROR(VLOOKUP(J1935,[1]functii!D:E,2,FALSE),\"-\")","v":"-"}]
[null,1931,null,null,null,null,null,null,null,", ",", , , ID , ",{"$f":"IFERROR(VLOOKUP(J1936,[1]functii!D:E,2,FALSE),\"-\")","v":"-"}]
[null,1932,null,null,null,null,null,null,null,", ",", , , ID , ",{"$f":"IFERROR(VLOOKUP(J1937,[1]functii!D:E,2,FALSE),\"-\")","v":"-"}]
[null,1933,null,null,null,null,null,null,null,", ",", , , ID , ",{"$f":"IFERROR(VLOOKUP(J1938,[1]functii!D:E,2,FALSE),\"-\")","v":"-"}]
[null,1934,null,null,null,null,null,null,null,", ",", , , ID , ",{"$f":"IFERROR(VLOOKUP(J1939,[1]functii!D:E,2,FALSE),\"-\")","v":"-"}]
[null,1935,null,null,null,null,null,null,null,", ",", , , ID , ",{"$f":"IFERROR(VLOOKUP(J1940,[1]functii!D:E,2,FALSE),\"-\")","v":"-"}]
[null,1936,null,null,null,null,null,null,null,", ",", , , ID , ",{"$f":"IFERROR(VLOOKUP(J1941,[1]functii!D:E,2,FALSE),\"-\")","v":"-"}]
[null,1937,null,null,null,null,null,null,null,", ",", , , ID , ",{"$f":"IFERROR(VLOOKUP(J1942,[1]functii!D:E,2,FALSE),\"-\")","v":"-"}]
[null,1938,null,null,null,null,null,null,null,", ",", , , ID , ",{"$f":"IFERROR(VLOOKUP(J1943,[1]functii!D:E,2,FALSE),\"-\")","v":"-"}]
[null,1939,null,null,null,null,null,null,null,", ",", , , ID , ",{"$f":"IFERROR(VLOOKUP(J1944,[1]functii!D:E,2,FALSE),\"-\")","v":"-"}]
[null,1940,null,null,null,null,null,null,null,", ",", , , ID , ",{"$f":"IFERROR(VLOOKUP(J1945,[1]functii!D:E,2,FALSE),\"-\")","v":"-"}]
[null,1941,null,null,null,null,null,null,null,", ",", , , ID , ",{"$f":"IFERROR(VLOOKUP(J1946,[1]functii!D:E,2,FALSE),\"-\")","v":"-"}]
[null,1942,null,null,null,null,null,null,null,", ",", , , ID , ",{"$f":"IFERROR(VLOOKUP(J1947,[1]functii!D:E,2,FALSE),\"-\")","v":"-"}]
[null,1943,null,null,null,null,null,null,null,", ",", , , ID , ",{"$f":"IFERROR(VLOOKUP(J1948,[1]functii!D:E,2,FALSE),\"-\")","v":"-"}]
[null,1944,null,null,null,null,null,null,null,", ",", , , ID , ",{"$f":"IFERROR(VLOOKUP(J1949,[1]functii!D:E,2,FALSE),\"-\")","v":"-"}]
[null,1945,null,null,null,null,null,null,null,", ",", , , ID , ",{"$f":"IFERROR(VLOOKUP(J1950,[1]functii!D:E,2,FALSE),\"-\")","v":"-"}]
[null,1946,null,null,null,null,null,null,null,", ",", , , ID , ",{"$f":"IFERROR(VLOOKUP(J1951,[1]functii!D:E,2,FALSE),\"-\")","v":"-"}]
[null,1947,null,null,null,null,null,null,null,", ",", , , ID , ",{"$f":"IFERROR(VLOOKUP(J1952,[1]functii!D:E,2,FALSE),\"-\")","v":"-"}]
[null,1948,null,null,null,null,null,null,null,", ",", , , ID , ",{"$f":"IFERROR(VLOOKUP(J1953,[1]functii!D:E,2,FALSE),\"-\")","v":"-"}]
[null,1949,null,null,null,null,null,null,null,", ",", , , ID , ",{"$f":"IFERROR(VLOOKUP(J1954,[1]functii!D:E,2,FALSE),\"-\")","v":"-"}]
[null,1950,null,null,null,null,null,null,null,", ",", , , ID , ",{"$f":"IFERROR(VLOOKUP(J1955,[1]functii!D:E,2,FALSE),\"-\")","v":"-"}]
[null,1951,null,null,null,null,null,null,null,", ",", , , ID , ",{"$f":"IFERROR(VLOOKUP(J1956,[1]functii!D:E,2,FALSE),\"-\")","v":"-"}]
[null,1952,null,null,null,null,null,null,null,", ",", , , ID , ",{"$f":"IFERROR(VLOOKUP(J1957,[1]functii!D:E,2,FALSE),\"-\")","v":"-"}]
[null,1953,null,null,null,null,null,null,null,", ",", , , ID , ",{"$f":"IFERROR(VLOOKUP(J1958,[1]functii!D:E,2,FALSE),\"-\")","v":"-"}]
[null,1954,null,null,null,null,null,null,null,", ",", , , ID , ",{"$f":"IFERROR(VLOOKUP(J1959,[1]functii!D:E,2,FALSE),\"-\")","v":"-"}]
[null,1955,null,null,null,null,null,null,null,", ",", , , ID , ",{"$f":"IFERROR(VLOOKUP(J1960,[1]functii!D:E,2,FALSE),\"-\")","v":"-"}]
[null,1956,null,null,null,null,null,null,null,", ",", , , ID , ",{"$f":"IFERROR(VLOOKUP(J1961,[1]functii!D:E,2,FALSE),\"-\")","v":"-"}]
[null,1957,null,null,null,null,null,null,null,", ",", , , ID , ",{"$f":"IFERROR(VLOOKUP(J1962,[1]functii!D:E,2,FALSE),\"-\")","v":"-"}]
[null,1958,null,null,null,null,null,null,null,", ",", , , ID , ",{"$f":"IFERROR(VLOOKUP(J1963,[1]functii!D:E,2,FALSE),\"-\")","v":"-"}]
[null,1959,null,null,null,null,null,null,null,", ",", , , ID , ",{"$f":"IFERROR(VLOOKUP(J1964,[1]functii!D:E,2,FALSE),\"-\")","v":"-"}]
[null,1960,null,null,null,null,null,null,null,", ",", , , ID , ",{"$f":"IFERROR(VLOOKUP(J1965,[1]functii!D:E,2,FALSE),\"-\")","v":"-"}]
[null,1961,null,null,null,null,null,null,null,", ",", , , ID , ",{"$f":"IFERROR(VLOOKUP(J1966,[1]functii!D:E,2,FALSE),\"-\")","v":"-"}]
[null,1962,null,null,null,null,null,null,null,", ",", , , ID , ",{"$f":"IFERROR(VLOOKUP(J1967,[1]functii!D:E,2,FALSE),\"-\")","v":"-"}]
[null,1963,null,null,null,null,null,null,null,", ",", , , ID , ",{"$f":"IFERROR(VLOOKUP(J1968,[1]functii!D:E,2,FALSE),\"-\")","v":"-"}]
[null,1964,null,null,null,null,null,null,null,", ",", , , ID , ",{"$f":"IFERROR(VLOOKUP(J1969,[1]functii!D:E,2,FALSE),\"-\")","v":"-"}]
[null,1965,null,null,null,null,null,null,null,", ",", , , ID , ",{"$f":"IFERROR(VLOOKUP(J1970,[1]functii!D:E,2,FALSE),\"-\")","v":"-"}]
[null,1966,null,null,null,null,null,null,null,", ",", , , ID , ",{"$f":"IFERROR(VLOOKUP(J1971,[1]functii!D:E,2,FALSE),\"-\")","v":"-"}]
[null,1967,null,null,null,null,null,null,null,", ",", , , ID , ",{"$f":"IFERROR(VLOOKUP(J1972,[1]functii!D:E,2,FALSE),\"-\")","v":"-"}]
[null,1968,null,null,null,null,null,null,null,", ",", , , ID , ",{"$f":"IFERROR(VLOOKUP(J1973,[1]functii!D:E,2,FALSE),\"-\")","v":"-"}]
[null,1969,null,null,null,null,null,null,null,", ",", , , ID , ",{"$f":"IFERROR(VLOOKUP(J1974,[1]functii!D:E,2,FALSE),\"-\")","v":"-"}]
[null,1970,null,null,null,null,null,null,null,", ",", , , ID , ",{"$f":"IFERROR(VLOOKUP(J1975,[1]functii!D:E,2,FALSE),\"-\")","v":"-"}]
[null,1971,null,null,null,null,null,null,null,", ",", , , ID , ",{"$f":"IFERROR(VLOOKUP(J1976,[1]functii!D:E,2,FALSE),\"-\")","v":"-"}]
[null,1972,null,null,null,null,null,null,null,", ",", , , ID , ",{"$f":"IFERROR(VLOOKUP(J1977,[1]functii!D:E,2,FALSE),\"-\")","v":"-"}]
[null,1973,null,null,null,null,null,null,null,", ",", , , ID , ",{"$f":"IFERROR(VLOOKUP(J1978,[1]functii!D:E,2,FALSE),\"-\")","v":"-"}]
[null,1974,null,null,null,null,null,null,null,", ",", , , ID , ",{"$f":"IFERROR(VLOOKUP(J1979,[1]functii!D:E,2,FALSE),\"-\")","v":"-"}]
[null,1975,null,null,null,null,null,null,null,", ",", , , ID , ",{"$f":"IFERROR(VLOOKUP(J1980,[1]functii!D:E,2,FALSE),\"-\")","v":"-"}]
[null,1976,null,null,null,null,null,null,null,", ",", , , ID , ",{"$f":"IFERROR(VLOOKUP(J1981,[1]functii!D:E,2,FALSE),\"-\")","v":"-"}]
[null,1977,null,null,null,null,null,null,null,", ",", , , ID , ",{"$f":"IFERROR(VLOOKUP(J1982,[1]functii!D:E,2,FALSE),\"-\")","v":"-"}]
[null,1978,null,null,null,null,null,null,null,", ",", , , ID , ",{"$f":"IFERROR(VLOOKUP(J1983,[1]functii!D:E,2,FALSE),\"-\")","v":"-"}]
[null,1979,null,null,null,null,null,null,null,", ",", , , ID , ",{"$f":"IFERROR(VLOOKUP(J1984,[1]functii!D:E,2,FALSE),\"-\")","v":"-"}]
[null,1980,null,null,null,null,null,null,null,", ",", , , ID , ",{"$f":"IFERROR(VLOOKUP(J1985,[1]functii!D:E,2,FALSE),\"-\")","v":"-"}]
[null,1981,null,null,null,null,null,null,null,", ",", , , ID , ",{"$f":"IFERROR(VLOOKUP(J1986,[1]functii!D:E,2,FALSE),\"-\")","v":"-"}]
[null,1982,null,null,null,null,null,null,null,", ",", , , ID , ",{"$f":"IFERROR(VLOOKUP(J1987,[1]functii!D:E,2,FALSE),\"-\")","v":"-"}]
[null,1983,null,null,null,null,null,null,null,", ",", , , ID , ",{"$f":"IFERROR(VLOOKUP(J1988,[1]functii!D:E,2,FALSE),\"-\")","v":"-"}]
[null,1984,null,null,null,null,null,null,null,", ",", , , ID , ",{"$f":"IFERROR(VLOOKUP(J1989,[1]functii!D:E,2,FALSE),\"-\")","v":"-"}]
[null,1985,null,null,null,null,null,null,null,{"$f":"_xlfn.CONCAT(D1990,\",\",\" \",F1990)","v":", "},{"$f":"CONCATENATE(D1990,\", \",E1990,\", \",F1990,\", ID \",G1990,\", \",H1990)","v":", , , ID , "},{"$f":"IFERROR(VLOOKUP(J1990,[1]functii!D:E,2,FALSE),\"-\")","v":"-"}]
[null,1986,null,null,null,null,null,null,null,", ",", , , ID , ",{"$f":"IFERROR(VLOOKUP(J1991,[1]functii!D:E,2,FALSE),\"-\")","v":"-"}]
[null,1987,null,null,null,null,null,null,null,", ",", , , ID , ",{"$f":"IFERROR(VLOOKUP(J1992,[1]functii!D:E,2,FALSE),\"-\")","v":"-"}]
[null,1988,null,null,null,null,null,null,null,", ",", , , ID , ",{"$f":"IFERROR(VLOOKUP(J1993,[1]functii!D:E,2,FALSE),\"-\")","v":"-"}]
[null,1989,null,null,null,null,null,null,null,", ",", , , ID , ",{"$f":"IFERROR(VLOOKUP(J1994,[1]functii!D:E,2,FALSE),\"-\")","v":"-"}]
[null,1990,null,null,null,null,null,null,null,", ",", , , ID , ",{"$f":"IFERROR(VLOOKUP(J1995,[1]functii!D:E,2,FALSE),\"-\")","v":"-"}]
[null,1991,null,null,null,null,null,null,null,", ",", , , ID , ",{"$f":"IFERROR(VLOOKUP(J1996,[1]functii!D:E,2,FALSE),\"-\")","v":"-"}]
[null,1992,null,null,null,null,null,null,null,", ",", , , ID , ",{"$f":"IFERROR(VLOOKUP(J1997,[1]functii!D:E,2,FALSE),\"-\")","v":"-"}]
[null,1993,null,null,null,null,null,null,null,", ",", , , ID , ",{"$f":"IFERROR(VLOOKUP(J1998,[1]functii!D:E,2,FALSE),\"-\")","v":"-"}]
[null,1994,null,null,null,null,null,null,null,", ",", , , ID , ",{"$f":"IFERROR(VLOOKUP(J1999,[1]functii!D:E,2,FALSE),\"-\")","v":"-"}]
[null,1995,null,null,null,null,null,null,null,", ",", , , ID , ",{"$f":"IFERROR(VLOOKUP(J2000,[1]functii!D:E,2,FALSE),\"-\")","v":"-"}]
[null,1996,null,null,null,null,null,null,null,", ",", , , ID , ",{"$f":"IFERROR(VLOOKUP(J2001,[1]functii!D:E,2,FALSE),\"-\")","v":"-"}]
[null,1997,null,null,null,null,null,null,null,", ",", , , ID , ",{"$f":"IFERROR(VLOOKUP(J2002,[1]functii!D:E,2,FALSE),\"-\")","v":"-"}]
[null,1998,null,null,null,null,null,null,null,", ",", , , ID , ",{"$f":"IFERROR(VLOOKUP(J2003,[1]functii!D:E,2,FALSE),\"-\")","v":"-"}]
[null,1999,null,null,null,null,null,null,null,", ",", , , ID , ",{"$f":"IFERROR(VLOOKUP(J2004,[1]functii!D:E,2,FALSE),\"-\")","v":"-"}]
[null,2000,null,null,null,null,null,null,null,", ",", , , ID , ",{"$f":"IFERROR(VLOOKUP(J2005,[1]functii!D:E,2,FALSE),\"-\")","v":"-"}]

{"sheet":"Competente niveluri simplificat","index":28,"n_rows":0,"n_cols":0,"rows_kept":0,"cut":false,"hidden":false,"merged":[]}

{"sheet":"competente pe niveluri - full","index":29,"n_rows":115,"n_cols":17,"rows_kept":115,"cut":false,"hidden":true,"merged":[[0,1,0,15],[1,1,1,12],[2,1,2,9],[3,1,3,6],[4,1,4,3],[4,4,4,6],[4,7,4,9],[4,10,4,12],[4,13,4,15],[6,13,14,13],[15,1,22,1],[15,4,22,4],[15,7,22,7],[15,10,22,10],[15,13,22,13],[6,0,34,0],[6,1,14,1],[6,4,14,4],[6,7,14,7],[6,10,14,10],[23,1,34,1],[23,4,34,4],[23,7,34,7],[23,10,34,10],[23,13,34,13],[35,13,45,13],[46,1,55,1],[46,4,55,4],[46,7,55,7],[46,10,55,10],[46,13,55,13],[56,13,64,13],[35,0,55,0],[35,1,45,1],[35,4,45,4],[35,7,45,7],[35,10,45,10],[58,0,72,0],[65,1,72,1],[65,4,72,4],[65,7,72,7],[65,10,72,10],[56,1,64,1],[56,4,64,4],[56,7,64,7],[56,10,64,10],[73,13,84,13],[85,7,94,7],[85,10,94,10],[85,13,94,13],[95,0,114,0],[95,10,102,10],[95,13,102,13],[103,10,114,10],[103,13,114,13],[73,0,94,0],[73,7,84,7],[73,10,84,10]]}
[null,"Funcții publice din categoria înalţilor funcţionari publici ",null,null,null,null,null,null,null,null,null,null,null,null,null,null,"<"]
[null,"Funcţii publice de conducere  de: Director general/ director general adjunct, Director/ director adjunct, Director executiv/ director executiv adjunct şi funcţii publice specifice asimilate acestora",null,null,null,null,null,null,null,null,null,null,null,"<"]
[null,"Funcții publice de conducere de şef serviciu/şef birou şi funcţii publice specifice asimilate acestora ",null,null,null,null,null,null,null,null,"<"]
[null,"Funcţii publice de execuţie, grad profesional principal şi superior",null,null,null,null,null,"<"]
[null,"Funcții publice de execuție, grad profesional debutant și asistent",null,null,"<"]
["Categorie de competețe","Competență / subcompetență","nr. indicator","Indicatori comportamentali","Competență / subcompetență","nr. indicator","Indicatori comportamentali","Competență / subcompetență","nr. indicator","Indicatori comportamentali","Competență / subcompetență","nr. indicator","Indicatori comportamentali","Comptență","nr. indicator","Indicatori comportamentali"]
["Eficiență personală","Rezolvarea de probleme și luarea deciziilor\n\nDefiniție:\nCompetenţa generală de a utiliza raţionamente\nlogice şi metode\nriguroase pentru a\nrezolva diverse probleme pentru a obţine soluţii eficace, de a lua decizii\nla timp, uneori fără a avea toate informaţiile\nnecesare şi sub presiunea unor termene strânse sau de a lua decizii pe baza unei combinaţii de analiză, experienţă şi\njudecăţi valide.\n\n",1,"Identifică diferite surse relevante de informaţii pentru a îndeplini sarcinile curente;","Rezolvarea de probleme și luarea deciziilor\n\nDefiniție:\nCompetenţa generală de a utiliza raţionamente\nlogice şi metode\nriguroase pentru a\nrezolva diverse probleme pentru a obţine soluţii eficace, de a lua decizii\nla timp, uneori fără a avea toate informaţiile\nnecesare şi sub presiunea unor termene strânse sau de a lua decizii pe baza unei combinaţii de analiză, experienţă şi\njudecăţi valide.\n",1,"Identifică soluţii adecvate pentru a rezolva problemele;","Proactivitate și gândire conceptuală\n\nDefiniție:\nSubcompetenţa de a anticipa implicaţiile şi consecinţele unor situaţii, de a lucra cu ipoteze, de a lua măsurile corespunzătoar e pentru a fi\npregătiţi pentru posibilele situaţii neprevăzute, de a identifica paternuri, principii şi\nconexiuni între concepte.\n",1,"Abordează o sarcină sau o problemă complexă defalcând-o pe componente şi tratând fiecare parte în mod detaliat;","Proactivitate și gândire conceptuală\n\nDefiniție:\nSubcompetenţa de a anticipa implicaţiile şi consecinţele unor situaţii, de a lucra cu ipoteze, de a lua măsurile corespunzătoar e pentru a fi\npregătiţi pentru posibilele situaţii neprevăzute, de a identifica paternuri, principii şi\nconexiuni între concepte.\n",1,"Abordează o sarcină sau o problemă complexă defalcând-o pe componente şi tratând fiecare parte în mod detaliat;","Gândire strategică\n\nDefiniție:\nSubcompetenţa de a dezvolta o viziune şi strategii pe termen lung, ţinând seama de portunităţi,\nevoluţii tehnologice, tendinţe sociale, precum\nşi de a asigura legătura între viziunea pe termen lung şi obiectivele pe\ntermen scurt.\n\n",1,"Se informează despre diverse domenii asociate activităţii sale;"]
[null,null,{"$f":"C7+1","v":2},"Identifică şi utilizează metode şi instrumente adecvate pentru prelucrarea datelor şi informaţiilor colectate;",null,{"$f":"F7+1","v":2},"Utilizează instrumente adecvate pentru a valorifica informaţii relevante şi actuale atunci când ia decizii;",null,{"$f":"I7+1","v":2},"Ia decizii rapid, atunci când este necesar, pe baza unor informaţii incomplete;",null,{"$f":"L7+1","v":2},"Ia decizii rapid, atunci când este necesar, pe baza unor informaţii incomplete;",null,{"$f":"O7+1","v":2},"Propune direcţii noi de acţiune pe baza riscurilor calculate, scenariilor şi alternativelor;"]
[null,null,3,"Identifică aspectele-cheie care trebuie analizate pentru a-şi fundamenta decizia;",null,3,"Manifestă autonomie în rezolvarea problemelor;",null,3,"Identifică deciziile ce necesită adoptare urgentă şi acţionează în consecinţă;",null,3,"Identifică deciziile ce necesită adoptare urgentă şi acţionează în consecinţă;",null,3,"Anticipează posibilele situaţii de criză care pot apărea şi elaborează planuri pentru situaţiile neprevăzute;"]
[null,null,4,"Analizează şi interpretează informaţiile provenite din diferite surse;",null,4,"Îşi poate susţine propriile decizii şi îşi asumă responsabilitatea pentru ele;",null,4,"Generează opţiuni viabile pentru problemele sau oportunităţile identificate;",null,4,"Generează opţiuni viabile pentru problemele sau oportunităţile identificate;",null,4,"Previzionează în ce mod vor reacţiona anumite persoane şi grupuri de persoane în faţa unor situaţii şi informaţii şi planifică în\nconsecinţă;"]
[null,null,5,"Identifică problemele, cauzele aferente şi factorii care au contribuit la generarea acestora;",null,5,"Formulează argumente şi le susţine atunci când este confruntat cu păreri opuse sau când sunt solicitate clarificări.",null,5,"Identifică implicaţiile \"pe termen lung\" ale fiecărei opţiuni, precondiţii sau constrângeri, după caz, înainte de a alege o opţiune;",null,5,"Identifică implicaţiile \"pe termen lung\" ale fiecărei opţiuni, precondiţii sau constrângeri, după caz, înainte de a alege o opţiune;",null,5,"Corelează adecvat capacitatea administrativ-instituţională cu nevoile de dezvoltare;"]
[null,null,6,"Analizează date şi informaţii din surse relevante;",null,null,null,null,6,"Anticipează posibilele probleme sau riscuri şi elaborează planuri pentru situaţiile neprevăzute;",null,6,"Anticipează posibilele probleme sau riscuri şi elaborează planuri pentru situaţiile neprevăzute;",null,6,"Conduce echipa pentru a aborda şi a contura direcţia viitoare de dezvoltare instituţională;"]
[null,null,7,"Corelează date şi informaţii pentru formularea unor concluzii şi recomandări.",null,null,null,null,7,"Estimează costurile, beneficiile, riscurile şi şansele de reuşită în procesul decizional;",null,7,"Estimează costurile, beneficiile, riscurile şi şansele de reuşită în procesul decizional;",null,7,"Defineşte problemele critice şi identifică alternativele de gestionare, pe baza riscurilor şi a impactului estimat;"]
[null,null,null,null,null,null,null,null,8,"Prioritizează sarcinile care trebuie îndeplinite;",null,8,"Prioritizează sarcinile care trebuie îndeplinite;",null,8,"Facilitează, face recomandări şi coordonează implementarea unor măsuri corective şi/sau de prevenire pentru probleme complexe care afectează întreaga\ninstituţie;"]
[null,null,null,null,null,null,null,null,9,"Utilizează metode şi instrumente adecvate pentru analize multicriteriale sau calitative necesare fundamentării decizionale.",null,9,"Utilizează metode şi instrumente adecvate pentru analize multicriteriale sau calitative necesare fundamentării decizionale.",null,9,"Anticipează consecinţele sau implicaţiile pe termen lung ale diferitelor decizii."]
[null,"Inițiativă\n\nDefiniție:\nCompetenţa generală de a identifica ce anume trebuie făcut şi efectuarea acelui lucru înainte de a se solicita în mod expres sau chiar înainte ca situaţia să necesite acest lucru în mod esenţial; evaluarea şi iniţierea de acţiuni în mod independent.\n",1,"Acţionează din proprie iniţiativă;","Inițiativă\n\nDefiniție:\nCompetenţa generală de a identifica ce anume trebuie făcut şi efectuarea acelui lucru înainte de a se solicita în mod expres sau chiar înainte ca situaţia să necesite acest lucru în mod esenţial; evaluarea şi iniţierea de acţiuni în mod independent.\n",1,"Învaţă din eşecurile anterioare, reuşeşte să le vadă ca oportunităţi de învăţare;","Asumarea răspunderii\n\nDefiniție:\nSubcompetenţa de a-şi asuma\nresponsabilitate a pentru rezolvarea unor probleme\niminente, pentru iniţiative personale, de a face ropuneri,\nde a menţine atenţia echipei asupra oportunităţilor de îmbunătăţire a calităţii rezultatelor cât şi pentru dezvoltarea personală şi\ncea a echipei. ",1,"Încurajează iniţiativa prin feedback pozitiv şi delegare;","Asumarea răspunderii\n\nDefiniție:\nSubcompetenţa de a-şi asuma\nresponsabilitate a pentru rezolvarea unor probleme\niminente, pentru iniţiative personale, de a face propuneri,\nde a menţine atenţia echipei asupra oportunităţilor de îmbunătăţire a calităţii rezultatelor cât şi pentru dezvoltarea personală şi\ncea a echipei. ",1,"Încurajează iniţiativa prin feedback pozitiv şi delegare;","Asumarea răspunderii\n\nDefiniție:\nSubcompetenţa de a-şi asuma\nresponsabilitate a pentru rezolvarea unor probleme\niminente, pentru iniţiative personale, de a face ropuneri,\nde a menţine atenţia echipei asupra oportunităţilor de îmbunătăţire a calităţii rezultatelor cât şi pentru dezvoltarea personală şi\ncea a echipei. ",1,"Încurajează iniţiativa prin feedback pozitiv şi delegare;"]
[null,null,{"$f":"C16+1","v":2},"Manifestă consecvenţă şi determinare în finalizarea sarcinilor;",null,{"$f":"F16+1","v":2},"Propune metode noi de lucru, inclusiv utilizarea de tehnologii şi proceduri în vederea creşterii eficienţei;",null,{"$f":"I16+1","v":2},"Oferă exemplu iniţiind permanent noi activităţi şi măsuri;",null,{"$f":"L16+1","v":2},"Oferă exemplu iniţiind permanent noi activităţi şi măsuri;",null,{"$f":"O16+1","v":2},"Oferă exemplu iniţiind permanent noi activităţi şi măsuri;"]
[null,null,{"$f":"C17+1","v":3},"Iniţiază acţiuni pentru creşterea performanţei şi a expertizei profesionale;",null,{"$f":"F17+1","v":3},"Preia iniţiativa în testarea şi, după caz aplicarea de noi programe dezvoltate pentru a face faţă schimbării;",null,{"$f":"I17+1","v":3},"Valorizează oportunităţile pe care i le oferă situaţiile noi pentru atingerea obiectivelor instituţionale;",null,{"$f":"L17+1","v":3},"Valorizează oportunităţile pe care i le oferă situaţiile noi pentru atingerea obiectivelor instituţionale;",null,{"$f":"O17+1","v":3},"Valorizează oportunităţile pe care i le oferă situaţiile noi pentru atingerea obiectivelor instituţionale;"]
[null,null,4,"Îşi adaptează abordarea atunci când se confruntă cu cerinţe noi;",null,4,"Iniţiază implicarea în noi activităţi sau proiecte pentru a-şi dezvolta aptitudinile;",null,4,"Acţionează în mod susţinut, cu motivaţie şi tenacitate pentru realizarea obiectivelor;",null,4,"Acţionează în mod susţinut, cu motivaţie şi tenacitate pentru realizarea obiectivelor;",null,4,"Acţionează în mod susţinut, cu motivaţie şi tenacitate pentru realizarea obiectivelor;"]
[null,null,5,"Propune măsuri pe baza concluziilor extrase din date şi informaţii relevante.",null,5,"Solicită îndrumare pe cale ierarhică numai când este necesar şi lucrează bine independent.",null,5,"Îşi asumă responsabilitatea pentru dezvoltarea personală şi îndeplinirea obiectivelor;",null,5,"Îşi asumă responsabilitatea pentru dezvoltarea personală şi îndeplinirea obiectivelor;",null,5,"Îşi asumă responsabilitatea pentru dezvoltarea personală şi îndeplinirea obiectivelor;"]
[null,null,null,null,null,null,null,null,6,"Oferă îndrumare şi asigură o direcţie pentru ceilalţi privind modul în care aceştia pot să recunoască şi să acţioneze corespunzător în cazul unor probleme şi oportunităţi;",null,6,"Oferă îndrumare şi asigură o direcţie pentru ceilalţi privind modul în care aceştia pot să recunoască şi să acţioneze corespunzător în cazul unor probleme şi oportunităţi;",null,6,"Oferă îndrumare şi asigură o direcţie pentru ceilalţi privind modul în care aceştia pot să recunoască şi să acţioneze corespunzător în cazul unor probleme şi oportunităţi;"]
[null,null,null,null,null,null,null,null,7,"Încurajează personalul din subordine să acţioneze independent şi cu responsabilitate;",null,7,"Încurajează personalul din subordine să acţioneze independent şi cu responsabilitate;",null,7,"Încurajează personalul din subordine să acţioneze independent şi cu responsabilitate;"]
[null,null,null,null,null,null,null,null,8,"Ia iniţiativa în privinţa creşterii eficienţei echipei.",null,8,"Ia iniţiativa în privinţa creşterii eficienţei echipei.",null,8,"Ia iniţiativa în privinţa creşterii eficienţei echipei."]
[null,"Planificare și organizare\n\nDefiniție:\nCompetenţa generală de a defini şi a pune în aplicare măsuri şi planuri\nconcrete în scopul atingerii obiectivelor,\nutilizând resursele în mod eficient şi eficace.",1,"Îşi gestionează timpul în mod eficient, alocând un timp realist pentru activităţi;","Planificare și organizare\n\nDefiniție:\nCompetenţa generală de a defini şi a pune în aplicare măsuri şi planuri\nconcrete în scopul atingerii obiectivelor,\nutilizând resursele în mod eficient şi eficace.",1,"Stabileşte obiective definite clar pentru activitatea proprie;","Planificarea activității echipei\n\nDefiniție:\nSubcompetenţa de a planifica şi a organiza nu numai activitatea personală, ci şi activitatea membrilor echipei, de a distribui eficient resursele şi sarcinile de muncă între membrii echipei.",1,"Stabileşte obiective clare pentru sine şi pentru persoanele pe care le coordonează;","Planificarea activității echipei\n\nDefiniție:\nSubcompetenţa de a planifica şi a organiza nu numai activitatea personală, ci şi activitatea membrilor echipei, de a distribui eficient resursele şi sarcinile de muncă între membrii echipei.",1,"Stabileşte obiective clare pentru sine şi pentru persoanele pe care le coordonează;","Planificare și organizare strategică\n\nDefiniție:\nSubcompetenţa de a\noperaţionaliza şi implementa măsurile şi\npoliticile strategice, crescând complexitatea de la nivelul echipei şi al organizaţiei.",1,"Elaborează şi structurează o imagine clară asupra perspectivelor de dezvoltare ale instituţiei şi explică în ce mod deciziile actuale creează calea pentru transpunerea acestei viziuni;"]
[null,null,{"$f":"C24+1","v":2},"Defineşte criterii de prioritizare şi acţionează în consecinţă;",null,{"$f":"F24+1","v":2},"Defineşte planuri de măsuri clare pentru a-şi transpune obiectivele în practică;",null,{"$f":"I24+1","v":2},"Definește planuri de acţiune clare pentru a transpune obiectivele echipei în practică;",null,{"$f":"L24+1","v":2},"Definește planuri de acţiune clare pentru a transpune obiectivele echipei în practică;",null,{"$f":"O24+1","v":2},"Transpune viziunea, programele şi proiectele instituţiei în strategii "]
[null,null,3,"Identifică priorităţi şi paşi de acţiune pentru a-şi realiza obiectivele;",null,3,"Adaptează planurile atunci când apar sarcini sau solicitări noi;",null,3,"Distribuie corespunzător sarcinile de muncă între membrii echipei;",null,3,"Distribuie corespunzător sarcinile de muncă între membrii echipei;",null,3,"Elaborează strategii luând în considerare dezvoltarea instituţiei şi interesul cetăţenilor;"]
[null,null,4,"Identifică resursele necesare pentru a-şi realiza sarcinile zilnice;",null,4,"Acţionează în mod sistematic şi metodic;",null,4,"Identifică şi organizează resursele necesare pentru îndeplinirea sarcinilor;",null,4,"Identifică şi organizează resursele necesare pentru îndeplinirea sarcinilor;",null,4,"Evaluează capabilităţile viitoare ale instituţiei de a crea oportunităţi şi de a gestiona riscuri;"]
[null,null,5,"Planifică şi organizează activitatea ţinând seama de proceduri şi politici;",null,5,"Îşi monitorizează progresele înregistrate faţă de termene şi alte criterii;",null,5,"Organizează eficient timpul propriu şi pe cel al membrilor echipei;",null,5,"Organizează eficient timpul propriu şi pe cel al membrilor echipei;",null,5,"Implementează măsuri de prevenire sau de reducere la minimum a riscurilor;"]
[null,null,6,"Are o abordare metodică şi consecventă faţă de muncă;",null,6,"Gestionează mai multe sarcini în acelaşi timp pentru a-şi îndeplini obiectivul.",null,6,"Monitorizează progresele înregistrate de membrii echipei faţă de termene şi alte criterii;",null,6,"Monitorizează progresele înregistrate de membrii echipei faţă de termene şi alte criterii;",null,6,"Organizează activitatea instituţiei pentru a alinia procesele interne ale acesteia cu obiectivele strategice;"]
[null,null,7,"Îşi face timp să înveţe politicile, regulile, reglementările şi procedurile standard de lucru care sunt relevante.",null,null,null,null,7,"Adaptează activitatea echipei în funcţie de noile cerinţe;",null,7,"Adaptează activitatea echipei în funcţie de noile cerinţe;",null,7,"Planifică activităţile pe baza indicatorilor principali de performanţă, măsoară progresul acestora şi acţionează pentru a le implementa;"]
[null,null,null,null,null,null,null,null,8,"Ia măsuri active pentru a evita sau a limita abaterile de la activitatea planificată;",null,8,"Ia măsuri active pentru a evita sau a limita abaterile de la activitatea planificată;",null,8,"Gestionează riscurile asociate procesului de schimbare, prin planificare corespunzătoare pentru situaţii neprevăzute, bazânduse pe experienţele anterioare de schimbare şi dezvoltând lecţiile învăţate din acestea;"]
[null,null,null,null,null,null,null,null,9,"Intervine şi remediază situaţiile care afectează nivelurile de productivitate;",null,9,"Intervine şi remediază situaţiile care afectează nivelurile de productivitate;",null,9,"Prezintă obiectivele utilizând instrumente de prezentare adecvate;"]
[null,null,null,null,null,null,null,null,10,"Monitorizează, gestionează şi desfăşoară mai multe activităţi simultan;",null,10,"Monitorizează, gestionează şi desfăşoară mai multe activităţi simultan;",null,10,"Identifică mai multe tipuri de riscuri posibile: asociate cu factori interni şi externi, asociate cu strategia în sine, sau riscuri care ar putea afecta implementarea proiectelor."]
[null,null,null,null,null,null,null,null,11,"Transpune obiectivele în planuri de acţiune pentru a le putea implementa şi monitoriza;",null,11,"Transpune obiectivele în planuri de acţiune pentru a le putea implementa şi monitoriza;"]
[null,null,null,null,null,null,null,null,12,"Dezvoltă şi utilizează sisteme de organizare a activităţii şi de monitorizare a progreselor înregistrate.",null,12,"Dezvoltă şi utilizează sisteme de organizare a activităţii şi de monitorizare a progreselor înregistrate."]
["Eficiență interpersonală","Comunicare\n\nDefiniție:\nCompetenţa generală de a asculta atent, transmite în mod clar şi eficient concepte şi informaţii, atât verbal, cât şi în\nscris, prin structurarea informaţiilor pentru a îndeplini nevoile şi a realiza înţelegerea la nivelul publicului căruia i se adresează.",1,"Exprimă cu claritate opinii şi informaţii;","Comunicare\n\nDefiniție:\nCompetenţa generală de a asculta atent, transmite în mod clar şi eficient concepte şi informaţii, atât verbal, cât şi în\nscris, prin structurarea informaţiilor pentru a îndeplini nevoile şi a realiza înţelegerea la nivelul publicului căruia i se adresează.",1,"Prezintă concepte complexe şi abstracte într-un mod simplu şi inteligibil;","Networking - Construirea relațiilor și influențare\n\nDefiniție:\nSubcompetenţă de a dezvolta relaţii intra şi interinstituţionale, de a construi şi a menţine relaţii deschise şi de încredere.",1,"Participă activ la conversaţii;","Networking - Construirea relațiilor și influențare\n\nDefiniție:\nSubcompetenţă de a dezvolta relaţii intra şi interinstituţionale, de a construi şi a menţine relaţii deschise şi de încredere.",1,"Participă activ la conversaţii;","Comunicare stratgică\n\nDefiniție:\nSubcompetenţa de a identifica provocările şi oportunităţile privind comunicarea în cadrul instituţiei şi de a coordona comunicarea externă pentru a consolida imaginea publică a instituţiei şi obiectivele pe termen lung ale acesteia.",1,"Organizează întâlniri cu personalul şi ascultă punctul de vedere al angajaţilor cu privire la politicile şi procedurile instituţionale;"]
[null,null,{"$f":"C36+1","v":2},"Explică cu claritate logica unui argument;",null,{"$f":"F36+1","v":2},"Identifică şi adoptă cel mai potrivit stil interpersonal pentru diferite tipuri de public şi în diverse contexte;",null,{"$f":"I36+1","v":2},"Susţine dialogul deschis;",null,{"$f":"L36+1","v":2},"Susţine dialogul deschis;",null,{"$f":"O36+1","v":2},"Este accesibil pentru cetăţeni şi entităţi interesate;"]
[null,null,3,"Prezintă concepte complexe și abstracte într-un mod simplu și inteligibil",null,3,"Prezintă opinii într-un mod convingător, expresiv, care captează atenţia publicului;",null,3,"Stabileşte relaţii de cooperare, înţelegeri sau discuţii obţinând acorduri ferme de la ambele părţi;",null,3,"Stabileşte relaţii de cooperare, înţelegeri sau discuţii obţinând acorduri ferme de la ambele părţi;",null,3,"Explică şi clarifică politicile instituţionale părţilor care sunt afectate de acestea;"]
[null,null,4,"Este capabil să asculte atent şi activ;",null,4,"Evită utilizarea jargonului profesional în interacţiunile sale;",null,4,"Structurează punctele esenţiale ale unui argument în timpul unei conversaţii;",null,4,"Structurează punctele esenţiale ale unui argument în timpul unei conversaţii;",null,4,"Comunică personalului informaţii privind schimbările care au impact asupra activităţii din cadrul instituţiei;"]
[null,null,5,"Acordă o atenţie corespunzătoare îngrijorărilor exprimate de alţii;",null,5,"Verifică dacă mesajele au fost auzite şi înţelese atunci când vorbeşte cu alte persoane.",null,5,"Separă ceea ce este important de ceea ce este redundant în prezentarea unei opinii;",null,5,"Separă ceea ce este important de ceea ce este redundant în prezentarea unei opinii;",null,5,"Dezvoltă parteneriate şi relaţii interinstituţionale pentru a stabili obiective comune, a alinia responsabilitatea şi resursele şi a efectua schimbări pozitive;"]
[null,null,6,"Scrie clar, succint şi corect, verificând corectitudinea gramaticală şi ortografică din lucrările sale;",null,null,null,null,6,"Ajunge rapid la subiectul discuţiei;",null,6,"Ajunge rapid la subiectul discuţiei;",null,6,"Prezintă într-un mod structurat informaţii complexe;"]
[null,null,7,"Are capacitate de sinteză, prezentând pe scurt principalele idei ale unei discuţii;",null,null,null,null,7,"Abordează constructiv obiecţiile altora, indicând argumente cu calm;",null,7,"Abordează constructiv obiecţiile altora, indicând argumente cu calm;",null,7,"Internalizează şi susţine punctul de vedere oficial al instituţiei;"]
[null,null,8,"Îşi informează periodic superiorul ierarhic cu privire la progresele înregistrate şi la problemele intervenite.",null,null,null,null,8,"Creează o atmosferă bună, făcând angajaţii să se simtă confortabil;",null,8,"Creează o atmosferă bună, făcând angajaţii să se simtă confortabil;",null,8,"Conduce prin puterea exemplului, ilustrând acest lucru în contexte profesionale favorabile şi credibile;"]
[null,null,null,null,null,null,null,null,9,"Utilizează eficient materialele pregătite şi elementele utilizate pentru ilustrare vizuală;",null,9,"Utilizează eficient materialele pregătite şi elementele utilizate pentru ilustrare vizuală;",null,9,"Comunică direct, manifestă comportament asertiv şi imparţialitate în relaţie cu colegii şi subordonaţii;"]
[null,null,null,null,null,null,null,null,10,"Este deschis colaborării cu angajaţii de la toate nivelurile;",null,10,"Este deschis colaborării cu angajaţii de la toate nivelurile;",null,10,"Promovează un mediu de lucru care susţine valori dezirabile."]
[null,null,null,null,null,null,null,null,11,"Îndepărtează barierele identificate în colaborarea interdepartamentală şi stimulează această colaborare.",null,11,"Îndepărtează barierele identificate în colaborarea interdepartamentală şi stimulează această colaborare."]
[null,"Lucru în echipă\n\nDefiniție:\nCompetenţa generală de a colabora cu alţi membri ai unor grupuri formale sau informale în îndeplinirea unei misiuni şi a unei viziuni comune, a unor valori şi a unor obiective\ncomune; plasarea nevoilor şi priorităţilor echipei în acord cu obiectivele instituţionale.",1,"Contribuie la instalarea unei atmosfere pozitive şi plăcute în echipă, printr-o atitudine personală constructivă şi prin comunicare;","Lucru în echipă\n\nDefiniție:\nCompetenţa generală de a colabora cu alţi membri ai unor grupuri formale sau informale în îndeplinirea unei misiuni şi a unei viziuni comune, a unor valori şi a unor obiective\ncomune; plasarea nevoilor şi priorităţilor echipei în acord cu obiectivele instituţionale.",1,"Iniţiază discuţii cu colegii săi şi încurajează colaborarea la nivelul echipei;","Lucru în echipă\n\nDefiniție:\nCompetenţa generală de a colabora cu alţi membri ai unor grupuri formale sau informale în îndeplinirea unei misiuni şi a unei viziuni comune, a unor valori şi a unor obiective\ncomune; plasarea nevoilor şi priorităţilor echipei în acord cu obiectivele instituţionale.",1,"Iniţiază discuţii cu colegii săi şi încurajează colaborarea la nivelul echipei;","Medierea conflictelor\n\nDefiniție:\nSubcompetenţă de a gestiona conflictele într-o manieră constructivă şi de a reduce probabilitatea intensificării conflictelor între membrii echipei.\n",1,"Se ocupă de problemele care perturbă funcţionarea şi armonia echipei;","Medierea conflictelor\n\nDefiniție:\nSubcompetenţă de a gestiona conflictele într-o\nmanieră constructivă şi de a reduce probabilitatea intensificării conflictelor între membrii echipei.\n",{"$f":"1","v":1},"Se ocupă de problemele care perturbă funcţionarea şi armonia echipei;"]
[null,null,{"$f":"C47+1","v":2},"Discută despre neînţelegeri cu tact şi sensibilitate;",null,{"$f":"F47+1","v":2},"Acceptă şi oferă sprijin atunci când un membru al echipei este demotivat/rezervat/neintegrat;",null,{"$f":"I47+1","v":2},"Acceptă şi oferă sprijin atunci când un membru al echipei este demotivat/rezervat/neintegrat;",null,{"$f":"L47+1","v":2},"Solicită opinia celorlalţi la un moment incipient al procesului decizional;",null,{"$f":"O47+1","v":2},"Solicită opinia celorlalţi la un moment incipient al procesului decizional;"]
[null,null,3,"Solicită sprijin atunci când este nevoie, îi implică pe alţii din timp sau atunci când există riscul de finalizare a sarcinilor alocate cu întârziere;",null,3,"Identifică un numitor comun al problemelor şi acţionează pentru rezolvarea acestora;",null,3,"Identifică un numitor comun al problemelor şi acţionează pentru rezolvarea acestora;",null,3,"Încurajează echipele să colaboreze cu o serie de parteneri şi părţi implicate şi ascultă feedback-ul acestora;",null,{"$f":"O48+1","v":3},"Încurajează echipele să colaboreze cu o serie de parteneri şi părţi implicate şi ascultă feedback-ul acestora;"]
[null,null,4,"îşi exprimă aprecierea pentru ideile şi contribuţiile colegilor;",null,4,"Furnizează informaţiile pe care trebuie să le cunoască echipa pentru a-şi îndeplini sarcinile şi ia decizii fundamentate şi la timp;",null,4,"Furnizează informaţiile pe care trebuie să le cunoască echipa pentru a-şi îndeplini sarcinile şi ia decizii fundamentate şi la timp;",null,4,"Oferă sprijin adaptat nevoilor colaboratorilor;",null,4,"Oferă sprijin adaptat nevoilor colaboratorilor;"]
[null,null,5,"îşi împărtăşeşte cunoştinţele şi experienţa cu colegii.",null,5,"Utilizează instrumente necesare pentru buna colaborare cu echipa proprie sau cu alte echipe;",null,5,"Utilizează instrumente necesare pentru buna colaborare cu echipa proprie sau cu alte echipe;",null,5,"Asigură îndrumarea colegilor în desfăşurarea activităţii precum şi în situaţiile dificile intervenite;",null,5,"Asigură îndrumarea colegilor în desfăşurarea activităţii precum şi în situaţiile dificile intervenite;"]
[null,null,null,null,null,6,"Oferă şi solicită feedback specific pentru o îmbunătăţire permanentă a performanţelor.",null,6,"Oferă şi solicită feedback specific pentru o îmbunătăţire permanentă a performanţelor.",null,6,"Îi implică pe alţii în procesele decizionale care îi privesc;",null,6,"Îi implică pe alţii în procesele decizionale care îi privesc;"]
[null,null,null,null,null,null,null,null,null,null,null,7,"Valorifică punctele forte ale colegilor şi recunoaşte contribuţiile şi realizările altora;",null,7,"Valorifică punctele forte ale colegilor şi recunoaşte contribuţiile şi realizările altora;"]
[null,null,null,null,null,null,null,null,null,null,null,8,"Încurajează un climat de lucru colaborativ prin măsuri adecvate;",null,8,"Încurajează un climat de lucru colaborativ prin măsuri adecvate;"]
[null,null,null,null,null,null,null,null,null,null,null,9,"Respinge în mod direct şi reacţionează cu promptitudine faţă de limbajul sau de comportamentele neadecvate, inclusiv bullying, hărţuire sau discriminare;",null,9,"Respinge în mod direct şi reacţionează cu promptitudine faţă de limbajul sau de comportamentele neadecvate, inclusiv bullying, hărţuire sau discriminare;"]
[null,null,null,null,null,null,null,null,null,null,null,10,"Urmăreşte obţinerea unor rezultate constructive în cadrul discuţiilor, formulează diverse premise/presupuneri spre a fi discutate, însă rămâne dispus să ajungă la o înţelegere atunci când acest lucru este benefic pentru progres/deblocarea unei situaţii.",null,10,"Urmăreşte obţinerea unor rezultate constructive în cadrul discuţiilor, formulează diverse premise/presupuneri spre a fi discutate, însă rămâne dispus să ajungă la o înţelegere atunci când acest lucru este benefic pentru progres/deblocarea unei situaţii."]
["Responsabilitate socială","Orientare către cetățean\n\nDefiniție:\nCapacitatea de a acţiona în interesul cetăţenilor, utilizând în mod eficient resursele instituţiei, precum şi de a demonstra responsabilitate civică şi dedicare pentru funcţia publică.",1,"Lucrează eficient cu cetăţenii sau cu alte persoane cu care intră în contact;","Orientare către cetățean\n\nDefiniție:\nCapacitatea de a acţiona în interesul cetăţenilor, utilizând în mod eficient resursele instituţiei, precum şi de a demonstra responsabilitate civică şi dedicare pentru funcţia publică.",1,"Acţionează pentru a anticipa şi a identifica nevoile cetăţenilor;","Orientare către cetățean\n\nDefiniție:\nCapacitatea de a acţiona în interesul cetăţenilor, utilizând în mod eficient resursele instituţiei, precum şi de a demonstra responsabilitate civică şi dedicare pentru funcţia publică.",1,"Acţionează pentru a anticipa şi a identifica nevoile cetăţenilor;","Adaptare la contextul politic\n\nDefiniție:\nSubcompetenţă de a demonstra încredere, de a relaţiona cu persoane indiferent de nivelul ierarhic al acestora, atât în cadrul instituţiei cât şi în afara acesteia, prin adaptarea la realitatea politică având în vedere integritatea şi interesele cetăţenilor.",1,"Ia iniţiativa pentru a adapta sau a ajusta proceduri, politici, reglementări care au impact asupra interesului cetăţenilor;","Responsabilitate civică\n \nDefiniție:\nSubcompetenţă de a avea în vedere interesul public, asigurându-se că acţiunile instituţiei răspund nevoilor publice; alinierea obiectivelor şi practicilor organizaţionale cu interesele publice.",{"$f":"1","v":1},"Elaborează şi dezvoltă programe pentru a aborda cerinţele esenţiale ale comunităţii;"]
[null,null,{"$f":"C57+1","v":2},"Prioritizează sarcinile cu impact ridicat asupra nevoilor cetăţenilor;",null,{"$f":"F57+1","v":2},"Protejează interesele cetăţenilor atunci când iniţiază noi măsuri şi activităţi;",null,{"$f":"I57+1","v":2},"Protejează interesele cetăţenilor atunci când iniţiază noi măsuri şi activităţi;",null,{"$f":"L57+1","v":2},"Identifică momentul în care anumite probleme trebuie redirecţionate către alte autorităţi şi semnalează acest fapt funcţionarilor potriviţi;",null,{"$f":"O57+1","v":2},"Analizează în mod regulat politicile şi procedurile instituţiei pentru a se asigura că acestea corespund nevoilor publice"]
[null,null,3,"Îşi monitorizează propria activitate ţinând cont de interesul cetăţenilor;",null,3,"Identifică nevoile cetăţenilor care se pot rezolva direct sau indirect prin propriile sale acţiuni sau comportamente;",null,3,"Identifică nevoile cetăţenilor care se pot rezolva direct sau indirect prin propriile sale acţiuni sau comportamente;",null,3,"Oferă îndrumare cu privire la relaţiile dintre funcţii, rolurile şi responsabilităţile funcţiei publice şi ale sectorului public;",null,{"$f":"O58+1","v":3},"Se asigură că toţi participanţii la procesul decizional înţeleg pe deplin rezultatele necesare în vederea atingerii interesului public şi articulează impactul pe care calitatea serviciului, securitatea şi comunicarea îl au asupra instituţiei;"]
[null,null,4,"Tratează reclamaţiile cetăţenilor cu seriozitate, caută soluţii rapide şi proactive pentru a le rezolva;",null,4,"Caută în mod proactiv să vină în întâmpinarea aşteptărilor şi cerinţelor cetăţenilor;",null,4,"Caută în mod proactiv să vină în întâmpinarea aşteptărilor şi cerinţelor cetăţenilor;",null,4,"Dezvoltă şi menţine relaţii interinstituţionale profesionale;",null,4,"Cultivă relaţii cu părţile implicate din comunitate pentru a valida utilitatea acţiunilor şi serviciilor propuse;"]
[null,null,5,"Îşi verifică activitatea pentru a elimina erorile care ar putea avea un impact asupra gradului de mulţumire al cetăţenilor.",null,5,"Stabileşte şi dă curs unor standarde ridicate de calitate în munca sa;",null,5,"Stabileşte şi dă curs unor standarde ridicate de calitate în munca sa;",null,5,"Îşi utilizează cunoştinţele dobândite în materia culturii instituţionale în procesul decizional şi înţelege profund impactul şi implicaţiile deciziilor sale;",null,5,"Propune noi politici şi susţine modernizarea celor vechi prin includerea mai multor perspective asupra unei probleme şi utilizează tehnici de prognozare pentru a testa diferite scenarii;"]
[null,null,null,null,null,6,"Ţine cont de nevoile, problemele şi valorile cetăţenilor atunci când ia decizii;",null,6,"Ţine cont de nevoile, problemele şi valorile cetăţenilor atunci când ia decizii;",null,6,"Înţelege în mod profund punctele sensibile existente la nivel instituţional şi al politicilor şi acţionează în consecinţă;",null,6,"Elaborează proiecte de politici flexibile, care au capacitatea să absoarbă şi să asigure pregătirea şi recuperarea pentru evenimentele neprevăzute din viitor;"]
[null,null,null,null,null,null,null,null,null,null,null,7,"Înţelege mediul politic, priorităţile de management, rolurile şi responsabilităţile angajaţilor, precum şi factorii externi care au impact asupra instituţiei;",null,7,"Acţionează ţinând seama de impactul şi consecinţele pe termen lung asupra intereselor cetăţenilor."]
[null,null,null,null,null,null,null,null,null,null,null,8,"Adaptează abordările personale pentru a exercita o influenţă optimă, ţinând cont de atitudinile angajaţilor faţă de putere şi politică;"]
[null,null,null,null,null,null,null,null,null,null,null,9,"Acţionează cu preocupare pentru interesul cetăţeanului şi anticipează posibile consecinţe pe termen lung ale acţiunilor departamentului pe care îl coordonează."]
[null,"Integritate\n\nDefiniție:\nCompetenţa de a acţiona într-un mod cinstit, echitabil şi etic faţă de alţii; abilitatea de a dovedi consecvenţă între declaraţii şi fapte.",1,"Prezintă adevărul în toate interacţiunile sale şi ia atitudine pentru a proteja adevărul;","Integritate\n\nDefiniție:\nCompetenţa de a acţiona într-un mod cinstit, echitabil şi etic faţă de alţii; abilitatea de a dovedi consecvenţă între declaraţii şi fapte.",1,"Acţionează în conformitate cu standarde morale şi etice ridicate indiferent de circumstanţe;","Integritate\n\nDefiniție:\nCompetenţa de a acţiona într-un mod cinstit, echitabil şi etic faţă de alţii; abilitatea de a dovedi consecvenţă între declaraţii şi fapte.",1,"Acţionează în conformitate cu standarde morale şi etice ridicate indiferent de circumstanţe;","Managementul vulnerabilităților\n\nDefiniție:\nSubcompetenţa de a gestiona şi a reduce sursele de vulnerabilitate din cadrul instituţiei, de a crea un mediu de lucru bazat pe înalte standarde etice şi o cultură care cultivă protejarea acestor standarde",1,"Discută potenţialele probleme etice cu angajaţii şi reacţionează în mod corespunzător;","Managementul vulnerabilităților",{"$f":"1","v":1},"Discută potenţialele probleme etice cu angajaţii şi reacţionează în mod corespunzător;"]
[null,null,{"$f":"C66+1","v":2},"Îşi admite greşelile şi îşi asumă responsabilitatea pentru propriile greşeli;",null,{"$f":"F66+1","v":2},"Îşi declară propriile intenţii în mod clar atunci când interacţionează cu alte persoane şi respectă înţelegerile făcute;",null,{"$f":"I66+1","v":2},"Îşi declară propriile intenţii în mod clar atunci când interacţionează cu alte persoane şi respectă înţelegerile făcute;",null,{"$f":"L66+1","v":2},"Cercetează problemele şi aplică măsuri corective, după caz;",null,{"$f":"O66+1","v":2},"Cercetează problemele şi aplică măsuri corective, după caz;"]
[null,null,3,"Recunoaşte când nu poate să rezolve lucrurile;",null,3,"Inspiră încredere, tratând toate persoanele în mod echitabil şi consecvent;",null,3,"Inspiră încredere, tratând toate persoanele în mod echitabil şi consecvent;",null,3,"Se ocupă de problemele legate de comportamentul angajaţilor în mod confidenţial şi respectuos;",null,{"$f":"O67+1","v":3},"Se ocupă de problemele legate de comportamentul angajaţilor în mod confidenţial şi respectuos;"]
[null,null,4,"Nu promite mai mult decât poate să facă, nu este de acord cu lucruri nesigure sau care nu pot fi îndeplinite;",null,4,"Recunoaşte orice neconformare cu standardele morale şi etice.",null,4,"Recunoaşte orice neconformare cu standardele morale şi etice.",null,4,"Promovează şi susţine în mod activ măsurile etice, prin exemplu personal, în cadrul unităţii şi în relaţia cu cetăţenii;",null,4,"Promovează şi susţine în mod activ măsurile etice, prin exemplu personal, în cadrul unităţii şi în relaţia cu cetăţenii;"]
[null,null,5,"Păstrează şi respectă confidenţialitatea;",null,null,null,null,5,null,null,5,"Ia măsuri proactive pentru a împiedica expunerea instituţiei la riscuri de integritate sau care afectează imaginea instituţiei;",null,5,"Ia măsuri proactive pentru a împiedica expunerea instituţiei la riscuri de integritate sau care afectează imaginea instituţiei;"]
[null,null,6,"Nu se concentrează pe câştiguri personale;",null,null,null,null,6,null,null,6,"Ia măsuri prompt şi eficient pentru a gestiona comportamentele neprofesioniste sau neetice;",null,6,"Ia măsuri prompt şi eficient pentru a gestiona comportamentele neprofesioniste sau neetice;"]
[null,null,7,"Oferă informaţii obţinute din surse de încredere, nu răspândeşte zvonuri sau informaţii false.",null,null,null,null,7,null,null,7,"Nu tolerează solicitarea unor favoruri, presiunea politică sau promisiunile de câştig;",null,7,"Nu tolerează solicitarea unor favoruri, presiunea politică sau promisiunile de câştig;"]
[null,null,null,null,null,null,null,null,8,null,null,8,"Inspiră încredere, recunoscându-şi propriile greşeli şi asumându-şi responsabilitatea pentru propriile acţiuni.",null,8,"Inspiră încredere, recunoscându-şi propriile greşeli şi asumându-şi responsabilitatea pentru propriile acţiuni."]
["Abilități manageriale ",null,null,null,null,null,null,"Managementul performanței \n\nDefiniție:\nCompetenţa generală de a susţine angajaţii să obţină rezultate într-un mod consecvent cu obiectivele instituţiei. Aceasta include definirea explicită a obiectivelor structurii, a rezultatelor preconizate, responsabilizar\nea şi motivarea personalului să obţină rezultate, monitorizarea şi evaluarea progresului pentru a lua măsurile necesare în vederea optimizării performanţei.",1,"Stabileşte obiective specifice şi măsurabile care sunt realiste şi termene de realizare, la nivelul structurii;","Managementul resurselor și al proceselor\n\nDefiniție:\nSubcompetenţă de a gestiona eficient toate resursele disponibile ale instituţiei pentru a realiza obiectivele stabilite.",1,"Formulează propuneri privind obiectivele instituţiei;","Managementul resurselor și al proceselor\n\nDefiniție:\nSubcompetenţă de a gestiona eficient toate resursele disponibile ale instituţiei pentru a realiza obiectivele stabilite.",1,"Formulează propuneri privind obiectivele instituţiei;"]
[null,null,null,null,null,null,null,null,{"$f":"I74+1","v":2},"Stabileşte acţiuni şi planuri corespunzătoare pentru realizarea obiectivelor structurii;",null,{"$f":"L74+1","v":2},"Defineşte rezultatele anticipate la nivel instituţional, corespunzătoare obiectivelor instituţiei şi principalelor programe sau proiecte, precizând şi rezultate specifice şi indicatori de performanţă;",null,{"$f":"O74+1","v":2},"Defineşte rezultatele anticipate la nivel instituţional, corespunzătoare obiectivelor instituţiei şi principalelor programe sau proiecte, precizând şi rezultate specifice şi indicatori de performanţă;"]
[null,null,null,null,null,null,null,null,3,"Armonizează obiectivele individuale şi obiectivele echipei/structurii cu priorităţile instituţiei;",null,3,"Armonizează obiectivele echipei cu priorităţile instituţiei şi formulează propuneri pentru corelarea cu priorităţile programului de guvernare şi ale strategilor în vigoare şi cu priorităţile sociale;",null,3,"Armonizează obiectivele echipei cu priorităţile instituţiei şi formulează propuneri pentru corelarea cu priorităţile programului de guvernare şi ale strategilor în vigoare şi cu priorităţile sociale;"]
[null,null,null,null,null,null,null,null,4,"Defineşte rezultate specifice anticipate pentru fiecare activitate din punct de vedere al obiectivelor şi indicatorilor de performanţă;",null,4,"Informează periodic personalul cu privire la modul în care performanţa lor influenţează rezultatele instituţiei şi societatea;",null,4,"Informează periodic personalul cu privire la modul în care performanţa lor influenţează rezultatele instituţiei şi societatea;"]
[null,null,null,null,null,null,null,null,5,"Informează periodic echipa cu privire la performanţa dorită;",null,5,"Susţine structurile pe care le conduce sau, după caz, şi alte structuri în eforturile acestora de a-şi realiza obiectivele;",null,5,"Susţine structurile pe care le conduce sau, după caz, şi alte structuri în eforturile acestora de a-şi realiza obiectivele;"]
[null,null,null,null,null,null,null,null,6,"Oferă feedback privind performanţa individuală pentru a permite perfecţionarea individuală;",null,6,"Evaluează performanţa în mod obiectiv la toate nivelurile instituţionale;",null,6,"Evaluează performanţa în mod obiectiv la toate nivelurile instituţionale;"]
[null,null,null,null,null,null,null,null,7,"Oferă de îndată feedback de performanţă specific, atât pozitiv, cât şi pentru implementarea unor ajustări;",null,7,"Formulează puncte de vedere şi propuneri privind problemele de performanţă instituţională pe care le identifică, în vederea soluţionării acestora;\n",null,7,"Formulează puncte de vedere şi propuneri privind problemele de performanţă instituţională pe care le identifică, în vederea soluţionării acestora;\n"]
[null,null,null,null,null,null,null,null,8,"Creează condiţii care permit echipei să aibă cea mai bună performanţă\nposibilă;",null,8,"Asigură conducerea în managementul eficient al resurselor instituţiei;",null,8,"Asigură conducerea în managementul eficient al resurselor instituţiei;"]
[null,null,null,null,null,null,null,null,9,"Evaluează obiectiv performanţa individuală şi performanţa echipei;",null,9,"Creează un mediu de lucru care cultivă procese şi sisteme eficiente şi eficace, inclusiv prin reproiectarea acestora, a structurii şi/sau a operaţiunilor, pentru a îndeplini mai bine obiectivele pe termen lung;",null,9,"Creează un mediu de lucru care cultivă procese şi sisteme eficiente şi eficace, inclusiv prin reproiectarea acestora, a structurii şi/sau a operaţiunilor, pentru a îndeplini mai bine obiectivele pe termen lung;"]
[null,null,null,null,null,null,null,null,10,"Acţionează cu fermitate şi promptitudine pentru a corecta problemele de performanţă;",null,10,"Utilizează oportunităţile de finanţare apărute pentru a echilibra resursele între unităţi;",null,10,"Utilizează oportunităţile de finanţare apărute pentru a echilibra resursele între unităţi;"]
[null,null,null,null,null,null,null,null,11,"Solicită angajaţilor să-şi asume răspunderea pentru propria lor activitate;",null,11,"Ştie cum şi când să influenţeze elaborarea unor politici pentru a utiliza resursele limitate pentru atingerea obiectivelor şi realizarea rezultatelor.",null,11,"Ştie cum şi când să influenţeze elaborarea unor politici pentru a utiliza resursele limitate pentru atingerea obiectivelor şi realizarea rezultatelor."]
[null,null,null,null,null,null,null,null,12,"Recunoaşte şi apreciază angajaţii pentru realizările şi performanţa individuală.",null,12,"Îşi impune să fie răspunzător pentru realizarea obiectivelor şi solicită acest lucru şi altora.",null,12,"Îşi impune să fie răspunzător pentru realizarea obiectivelor şi solicită acest lucru şi altora."]
[null,null,null,null,null,null,null,"Dezvoltarea echipei\n\nDefiniție:\nCompetenţa generală de a dezvolta un mediu de lucru colaborativ şi productiv, de a îmbunătăţi competenţele echipei pentru a obţine performanţă pe termen lung.",1,"Creează condiţiile pentru a permite echipei să aibă cea mai bună performanţă posibilă;","Dezvoltarea echipei\n\nDefiniție:\nCompetenţa generală de a dezvolta un mediu de lucru colaborativ şi productiv, de a îmbunătăţi competenţele echipei pentru a obţine performanţă pe termen lung.",1,"Creează condiţiile pentru a permite echipei să aibă cea mai bună performanţă posibilă;","Dezvoltarea echipei\n\nDefiniție:\nCompetenţa generală de a dezvolta un mediu de lucru colaborativ şi productiv, de a îmbunătăţi competenţele echipei pentru a obţine performanţă pe termen lung.",1,"Creează condiţiile pentru a permite echipei să aibă cea mai bună performanţă posibilă;"]
[null,null,null,null,null,null,null,null,{"$f":"I86+1","v":2},"Oferă un bun exemplu, aplicând personal comportamentul dorit;",null,{"$f":"L86+1","v":2},"Oferă un bun exemplu, aplicând personal comportamentul dorit;",null,{"$f":"O86+1","v":2},"Oferă un bun exemplu, aplicând personal comportamentul dorit;"]
[null,null,null,null,null,null,null,null,3,"Exprimă atitudini şi aşteptări pozitive faţă de/de la echipă şi membrii echipei;",null,3,"Exprimă atitudini şi aşteptări pozitive faţă de/de la echipă şi membrii echipei;",null,3,"Exprimă atitudini şi aşteptări pozitive faţă de/de la echipă şi membrii echipei;"]
[null,null,null,null,null,null,null,null,4,"Solicită idei şi opinii pentru a ajuta la luarea deciziilor şi elaborarea de planuri specifice;",null,4,"Solicită idei şi opinii pentru a ajuta la luarea deciziilor şi elaborarea de planuri specifice;",null,4,"Solicită idei şi opinii pentru a ajuta la luarea deciziilor şi elaborarea de planuri specifice;"]
[null,null,null,null,null,null,null,null,5,"Susţine gândirea independentă pentru a rezolva problemele;",null,5,"Susţine gândirea independentă pentru a rezolva problemele;",null,5,"Susţine gândirea independentă pentru a rezolva problemele;"]
[null,null,null,null,null,null,null,null,6,"Defineşte succesul ca realizare a întregii echipe;",null,6,"Defineşte succesul ca realizare a întregii echipe;",null,6,"Defineşte succesul ca realizare a întregii echipe;"]
[null,null,null,null,null,null,null,null,7,"Oferă celorlalţi feedback util cu privire la comportamente;",null,7,"Oferă celorlalţi feedback util cu privire la comportamente;",null,7,"Oferă celorlalţi feedback util cu privire la comportamente;"]
[null,null,null,null,null,null,null,null,8,"Alocă membrilor echipei sarcini care îi vor ajuta să-si dezvolte abilităţile;",null,8,"Alocă membrilor echipei sarcini care îi vor ajuta să-si dezvolte abilităţile;",null,8,"Alocă membrilor echipei sarcini care îi vor ajuta să-si dezvolte abilităţile;"]
[null,null,null,null,null,null,null,null,9,"Are întâlniri periodice cu angajaţii pentru a le analiza progresul în ceea ce priveşte dezvoltarea profesională şi personală;",null,9,"Are întâlniri periodice cu angajaţii pentru a le analiza progresul în ceea ce priveşte dezvoltarea profesională şi personală;",null,9,"Are întâlniri periodice cu angajaţii pentru a le analiza progresul în ceea ce priveşte dezvoltarea profesională şi personală;"]
[null,null,null,null,null,null,null,null,10,"Sprijină colegii în identificarea obiectivelor esenţiale şi pentru a-şi utiliza talentele în vederea realizării obiectivelor;",null,10,"Sprijină colegii în identificarea obiectivelor esenţiale şi pentru a-şi utiliza talentele în vederea realizării obiectivelor;",null,10,"Sprijină colegii în identificarea obiectivelor esenţiale şi pentru a-şi utiliza talentele în vederea realizării obiectivelor;"]
["Leadership",null,null,null,null,null,null,null,null,null,"Generarea angajamentului\n\nDefiniție: \nCompetenţa generală de a conduce instituţia către realizarea obiectivelor prin crearea unui mediu de lucru în care angajaţii sunt motivaţi să atingă nivele superioare de performanţă.",{"$f":"1","v":1},"Explică logica măsurilor şi acţiunilor prin prezentarea perspectivelor strategice, ajutând angajaţii să îmbine în mod armonios ceea ce este important pentru ei cu activitatea desfăşurată;","Generarea angajamentului\n\nDefiniție: \nCompetenţa generală de a conduce instituţia către realizarea obiectivelor prin crearea unui mediu de lucru în care angajaţii sunt motivaţi să atingă nivele superioare de performanţă.",{"$f":"1","v":1},"Explică logica măsurilor şi acţiunilor prin prezentarea perspectivelor strategice, ajutând angajaţii să îmbine în mod armonios ceea ce este important pentru ei cu activitatea desfăşurată;"]
[null,null,null,null,null,null,null,null,null,null,null,{"$f":"L96+1","v":2},"Proiectează fluxurile de lucru, permiţându-le angajaţilor să înregistreze o performanţă la cel mai bun nivel de autonomie şi competenţă pe care îl au;",null,{"$f":"O96+1","v":2},"Proiectează fluxurile de lucru, permiţându-le angajaţilor să înregistreze o performanţă la cel mai bun nivel de autonomie şi competenţă pe care îl au;"]
[null,null,null,null,null,null,null,null,null,null,null,{"$f":"L97+1","v":3},"Creează un mediu în care angajaţii pot să se dezvolte, să-şi dezvolte aptitudinile şi să-şi realizeze obiectivele profesionale;",null,{"$f":"O97+1","v":3},"Creează un mediu în care angajaţii pot să se dezvolte, să-şi dezvolte aptitudinile şi să-şi realizeze obiectivele profesionale;"]
[null,null,null,null,null,null,null,null,null,null,null,4,"Motivează personalul pentru îndeplinirea obiectivelor comune, creând atmosferă destinsă la nivelul echipei;",null,4,"Motivează personalul pentru îndeplinirea obiectivelor comune, creând atmosferă destinsă la nivelul echipei;"]
[null,null,null,null,null,null,null,null,null,null,null,5,"Laudă şi recompensează performanţa ridicată, iniţiativa şi respectarea principiilor etice în circumstanţe dificile;",null,5,"Laudă şi recompensează performanţa ridicată, iniţiativa şi respectarea principiilor etice în circumstanţe dificile;"]
[null,null,null,null,null,null,null,null,null,null,null,6,"Prezintă personalului modul în care munca lor contribuie la succesul instituţiei sau la atingerea interesului public;",null,6,"Prezintă personalului modul în care munca lor contribuie la succesul instituţiei sau la atingerea interesului public;"]
[null,null,null,null,null,null,null,null,null,null,null,7,"Demonstrează o dedicare puternică faţă de succesul instituţiei şi îi inspiră pe alţii să se dedice obiectivelor;",null,7,"Demonstrează o dedicare puternică faţă de succesul instituţiei şi îi inspiră pe alţii să se dedice obiectivelor;"]
[null,null,null,null,null,null,null,null,null,null,null,8,"Promovează crearea şi comunicarea de planuri pentru a realiza obiective care susţin viziunea instituţiei.",null,8,"Promovează crearea şi comunicarea de planuri pentru a realiza obiective care susţin viziunea instituţiei."]
[null,null,null,null,null,null,null,null,null,null,"Promovarea inovației și inițierea schimbării \n\nDefiniție:\nCompetenţa generală de a iniţia, de a gestiona, a conduce şi a face posibil procesul de schimbare şi tranziţie, ajutându-i pe toţi cei afectaţi de schimbare să se adapteze impactului acesteia; presupune o abordare structurată pentru a asigura implementarea schimbărilor şi obţinerea beneficiilor aşteptate.",{"$f":"1","v":1},"Recunoaşte şi comunică potenţialele beneficii ale schimbării;","Agilitate strategică\n\nDefiniție:\nSubcompetenţă de a alinia direcţia schimbărilor instituţionale cu ritmul şi cu direcţia transformărilor sociale",{"$f":"1","v":1},"Propune abordări, metode sau tehnologii noi;"]
[null,null,null,null,null,null,null,null,null,null,null,{"$f":"L104+1","v":2},"Recunoaşte şi gestionează provocările care ar putea însoţi schimbarea;",null,{"$f":"O104+1","v":2},"Stabileşte noi direcţii de dezvoltare, parteneriate, politici sau proceduri; "]
[null,null,null,null,null,null,null,null,null,null,null,{"$f":"L105+1","v":3},"Îi încurajează pe alţii să preţuiască schimbarea;",null,{"$f":"O105+1","v":3},"Observă şi valorifică oportunităţile pentru a influenţa direcţia viitoare a rezultatelor departamentului sau ale instituţiei în general;"]
[null,null,null,null,null,null,null,null,null,null,null,{"$f":"L106+1","v":4},"Dezvoltă modalităţi îmbunătăţite de a face lucrurile, inclusiv abordări sau metode noi;",null,{"$f":"O106+1","v":4},"Elaborează şi comunică etapele schimbării necesare pentru realizarea viziunii;"]
[null,null,null,null,null,null,null,null,null,null,null,5,"Dezvoltă modalităţi mai bune, mai rapide sau mai puţin costisitoare de a face lucrurile;",null,5,"Se raportează la starea de fapt şi caută moduri noi de a realiza obiectivele instituționale"]
[null,null,null,null,null,null,null,null,null,null,null,6,"Cooperează cu personalul pentru a genera soluţii inovatoare;"]
[null,null,null,null,null,null,null,null,null,null,null,7,"Îşi menţine dedicarea pentru implementarea schimbării în ciuda rezistentei la schimbare;"]
[null,null,null,null,null,null,null,null,null,null,null,8,"Ajută personalul să înţeleagă clar ce anume vor avea de făcut în mod diferit, ca urmare a schimbărilor din instituţie;"]
[null,null,null,null,null,null,null,null,null,null,null,9,"Implementează sau susţine diferite activităţi de management al schimbării;"]
[null,null,null,null,null,null,null,null,null,null,null,10,"Constituie structuri şi procese pentru a planifica şi a gestiona implementarea schimbării;"]
[null,null,null,null,null,null,null,null,null,null,null,11,"Iniţiază şi susţine programe menite să sporească eficienţa şi să dezvolte instituţia, sistematizând procesele prin digitalizare şi utilizarea unor noi tehnologii;"]
[null,null,null,null,null,null,null,null,null,null,null,12,"Susţine schimbarea şi creativitatea încurajând, recunoscând şi recompensându-i pe cei care iau iniţiativa, dezvoltă noi idei sau concepte sau îmbunătăţesc procese sau metode de lucru."]

{"sheet":"Raport analiză a posturilor","index":30,"n_rows":2034,"n_cols":8,"rows_kept":2034,"cut":false,"hidden":true,"merged":[[17,3,17,7],[1,6,1,7],[5,1,5,7],[7,3,7,7],[9,3,9,7],[10,3,10,7],[11,3,11,7],[12,3,12,7],[13,3,13,7],[14,3,14,7],[15,3,15,7],[16,3,16,7],[2031,1,2031,7],[2032,1,2032,7],[2033,1,2035,7],[18,3,18,7],[19,3,19,7],[20,3,20,7],[21,3,21,7],[2025,1,2029,1],[2025,3,2025,7],[2027,2,2027,7],[2028,2,2028,7],[2029,2,2029,7]]}
[]
[null,null,null,null,null,null,"APROB"]
[null,null,null,null,null,null,"NUME PRENUME ȘI FUNCȚIA CONDUCĂTORULUI AUTORITĂȚII/INSTITUȚIEI PUBLICE"]
[null,null,null,null,null,null,"SEMNĂTURA "]
[]
[null,"Raport de analiză a posturilor"]
[]
[null,1,"Denumirea autorității sau instituției publice","[se completează conform denumirii autorității sau instituției publice]"]
[]
[null,2,"Număr de posturi supuse analizei:","[se pre-completează cu numărul total de posturi analizate per fiecare categorie de funcție publică]"]
[null,"a)","funcții publice din categoria înalților funcționari publici",{"$f":"COUNTIF('Listă posturi'!C:L,\"Înalți funcționari publici\")","v":0}]
[null,"b)","funcţii publice de director general",{"$f":"COUNTIF('Listă posturi'!C:L,\"Director general\")","v":0}]
[null,"c)","funcţii publice de director general adjunct",{"$f":"COUNTIF('Listă posturi'!C:L,\"Director general adjunct\")","v":0}]
[null,"d)","funcţii publice de director",{"$f":"COUNTIF('Listă posturi'!C:L,\"Director\")","v":0}]
[null,"e)","funcţii publice de director adjunct",{"$f":"COUNTIF('Listă posturi'!C:L,\"Director adjunct\")","v":0}]
[null,"f)","funcţii publice de director executiv",{"$f":"COUNTIF('Listă posturi'!C:L,\"Director executiv\")","v":0}]
[null,"g)","funcţii publice de director executiv adjunct",{"$f":"COUNTIF('Listă posturi'!C:L,\"Director executiv adjunct\")","v":0}]
[null,"h)","funcţii publice de șef serviciu",{"$f":"COUNTIF('Listă posturi'!C:L,\"Șef serviciu\")","v":0}]
[null,"i)","funcţii publice de grad profesional superior",{"$f":"COUNTIF('Listă posturi'!C:L,\"grad superior\")","v":0}]
[null,"j)","funcţii publice de grad profesional principal",{"$f":"COUNTIF('Listă posturi'!C:L,\"grad principal\")","v":1}]
[null,"k)","funcţii publice de grad profesional asistent",{"$f":"COUNTIF('Listă posturi'!C:L,\"grad asistent\")","v":0}]
[null,"l)","funcţii publice de grad profesional debutant",{"$f":"COUNTIF('Listă posturi'!C:L,\"grad debutant\")","v":0}]
[]
[null,3,"Funcția publică supusă analizei (denumire/clasă/grad profesional și ID) și structura funcțională din care face parte","Situația ocupării postului (ocupat/ vacant/temporar ocupat/ temporar vacant)","Competenţele generale şi nivelurile de complexitate aferente[1]","Competența specifică /Competențele specifice identificată/ identificate nivelurile de complexitate aferente[2], după caz","Definiția competenței specifice identificate potrivit art. 11 alin. (2) lit. d) din anexa nr. 8 la Ordonanţa de urgenţă a Guvernului nr. 57/2019, cu modificările și completările ulterioare","Modalitate de verificare a competenței specifice[3]"]
[null,"Model",{"$f":"'Listă posturi'!K6","v":"Consilier, clasa I, grad principal, ID 7598732, -"},{"$f":"'Listă posturi'!I6","v":"ocupat"},{"$f":"'Listă posturi'!L6","v":"1.Rezolvarea de probleme și luarea deciziilor - nivel operațional,\n2.Inițiativă - nivel operațional,\n3.Planificare și organizare - nivel operațional,\n4.Comunicare - nivel operațional,\n5.Lucru în echipă - nivel operațional,\n6.Orientare către cetățean - nivel operațional,\n7.Integritate - nivel operațional."}]
[null,2,{"$f":"'Listă posturi'!K7","v":", , , ID , "},{"$f":"'Listă posturi'!I7","v":0},{"$f":"'Listă posturi'!L7","v":"-"}]
[null,3,{"$f":"'Listă posturi'!K8","v":", , , ID , "},{"$f":"'Listă posturi'!I8","v":0},{"$f":"'Listă posturi'!L8","v":"-"}]
[null,4,{"$f":"'Listă posturi'!K9","v":", , , ID , "},{"$f":"'Listă posturi'!I9","v":0},{"$f":"'Listă posturi'!L9","v":"-"}]
[null,5,{"$f":"'Listă posturi'!K10","v":", , , ID , "},{"$f":"'Listă posturi'!I10","v":0},{"$f":"'Listă posturi'!L10","v":"-"}]
[null,6,{"$f":"'Listă posturi'!K11","v":", , , ID , "},{"$f":"'Listă posturi'!I11","v":0},{"$f":"'Listă posturi'!L11","v":"-"}]
[null,7,{"$f":"'Listă posturi'!K12","v":", , , ID , "},{"$f":"'Listă posturi'!I12","v":0},{"$f":"'Listă posturi'!L12","v":"-"}]
[null,8,{"$f":"'Listă posturi'!K13","v":", , , ID , "},{"$f":"'Listă posturi'!I13","v":0},{"$f":"'Listă posturi'!L13","v":"-"}]
[null,9,{"$f":"'Listă posturi'!K14","v":", , , ID , "},{"$f":"'Listă posturi'!I14","v":0},{"$f":"'Listă posturi'!L14","v":"-"}]
[null,10,{"$f":"'Listă posturi'!K15","v":", , , ID , "},{"$f":"'Listă posturi'!I15","v":0},{"$f":"'Listă posturi'!L15","v":"-"}]
[null,11,{"$f":"'Listă posturi'!K16","v":", , , ID , "},{"$f":"'Listă posturi'!I16","v":0},{"$f":"'Listă posturi'!L16","v":"-"}]
[null,12,{"$f":"'Listă posturi'!K17","v":", , , ID , "},{"$f":"'Listă posturi'!I17","v":0},{"$f":"'Listă posturi'!L17","v":"-"}]
[null,13,{"$f":"'Listă posturi'!K18","v":", , , ID , "},{"$f":"'Listă posturi'!I18","v":0},{"$f":"'Listă posturi'!L18","v":"-"}]
[null,14,{"$f":"'Listă posturi'!K19","v":", , , ID , "},{"$f":"'Listă posturi'!I19","v":0},{"$f":"'Listă posturi'!L19","v":"-"}]
[null,15,{"$f":"'Listă posturi'!K20","v":", , , ID , "},{"$f":"'Listă posturi'!I20","v":0},{"$f":"'Listă posturi'!L20","v":"-"}]
[null,16,{"$f":"'Listă posturi'!K21","v":", , , ID , "},{"$f":"'Listă posturi'!I21","v":0},{"$f":"'Listă posturi'!L21","v":"-"}]
[null,17,{"$f":"'Listă posturi'!K22","v":", , , ID , "},{"$f":"'Listă posturi'!I22","v":0},{"$f":"'Listă posturi'!L22","v":"-"}]
[null,18,{"$f":"'Listă posturi'!K23","v":", , , ID , "},{"$f":"'Listă posturi'!I23","v":0},{"$f":"'Listă posturi'!L23","v":"-"}]
[null,19,{"$f":"'Listă posturi'!K24","v":", , , ID , "},{"$f":"'Listă posturi'!I24","v":0},{"$f":"'Listă posturi'!L24","v":"-"}]
[null,20,{"$f":"'Listă posturi'!K25","v":", , , ID , "},{"$f":"'Listă posturi'!I25","v":0},{"$f":"'Listă posturi'!L25","v":"-"}]
[null,21,{"$f":"'Listă posturi'!K26","v":", , , ID , "},{"$f":"'Listă posturi'!I26","v":0},{"$f":"'Listă posturi'!L26","v":"-"}]
[null,22,{"$f":"'Listă posturi'!K27","v":", , , ID , "},{"$f":"'Listă posturi'!I27","v":0},{"$f":"'Listă posturi'!L27","v":"-"}]
[null,23,{"$f":"'Listă posturi'!K28","v":", , , ID , "},{"$f":"'Listă posturi'!I28","v":0},{"$f":"'Listă posturi'!L28","v":"-"}]
[null,24,{"$f":"'Listă posturi'!K29","v":", , , ID , "},{"$f":"'Listă posturi'!I29","v":0},{"$f":"'Listă posturi'!L29","v":"-"}]
[null,25,{"$f":"'Listă posturi'!K30","v":", , , ID , "},{"$f":"'Listă posturi'!I30","v":0},{"$f":"'Listă posturi'!L30","v":"-"}]
[null,26,{"$f":"'Listă posturi'!K31","v":", , , ID , "},{"$f":"'Listă posturi'!I31","v":0},{"$f":"'Listă posturi'!L31","v":"-"}]
[null,27,{"$f":"'Listă posturi'!K32","v":", , , ID , "},{"$f":"'Listă posturi'!I32","v":0},{"$f":"'Listă posturi'!L32","v":"-"}]
[null,28,{"$f":"'Listă posturi'!K33","v":", , , ID , "},{"$f":"'Listă posturi'!I33","v":0},{"$f":"'Listă posturi'!L33","v":"-"}]
[null,29,{"$f":"'Listă posturi'!K34","v":", , , ID , "},{"$f":"'Listă posturi'!I34","v":0},{"$f":"'Listă posturi'!L34","v":"-"}]
[null,30,{"$f":"'Listă posturi'!K35","v":", , , ID , "},{"$f":"'Listă posturi'!I35","v":0},{"$f":"'Listă posturi'!L35","v":"-"}]
[null,31,{"$f":"'Listă posturi'!K36","v":", , , ID , "},{"$f":"'Listă posturi'!I36","v":0},{"$f":"'Listă posturi'!L36","v":"-"}]
[null,32,{"$f":"'Listă posturi'!K37","v":", , , ID , "},{"$f":"'Listă posturi'!I37","v":0},{"$f":"'Listă posturi'!L37","v":"-"}]
[null,33,{"$f":"'Listă posturi'!K38","v":", , , ID , "},{"$f":"'Listă posturi'!I38","v":0},{"$f":"'Listă posturi'!L38","v":"-"}]
[null,34,{"$f":"'Listă posturi'!K39","v":", , , ID , "},{"$f":"'Listă posturi'!I39","v":0},{"$f":"'Listă posturi'!L39","v":"-"}]
[null,35,{"$f":"'Listă posturi'!K40","v":", , , ID , "},{"$f":"'Listă posturi'!I40","v":0},{"$f":"'Listă posturi'!L40","v":"-"}]
[null,36,{"$f":"'Listă posturi'!K41","v":", , , ID , "},{"$f":"'Listă posturi'!I41","v":0},{"$f":"'Listă posturi'!L41","v":"-"}]
[null,37,{"$f":"'Listă posturi'!K42","v":", , , ID , "},{"$f":"'Listă posturi'!I42","v":0},{"$f":"'Listă posturi'!L42","v":"-"}]
[null,38,{"$f":"'Listă posturi'!K43","v":", , , ID , "},{"$f":"'Listă posturi'!I43","v":0},{"$f":"'Listă posturi'!L43","v":"-"}]
[null,39,{"$f":"'Listă posturi'!K44","v":", , , ID , "},{"$f":"'Listă posturi'!I44","v":0},{"$f":"'Listă posturi'!L44","v":"-"}]
[null,40,{"$f":"'Listă posturi'!K45","v":", , , ID , "},{"$f":"'Listă posturi'!I45","v":0},{"$f":"'Listă posturi'!L45","v":"-"}]
[null,41,{"$f":"'Listă posturi'!K46","v":", , , ID , "},{"$f":"'Listă posturi'!I46","v":0},{"$f":"'Listă posturi'!L46","v":"-"}]
[null,42,{"$f":"'Listă posturi'!K47","v":", , , ID , "},{"$f":"'Listă posturi'!I47","v":0},{"$f":"'Listă posturi'!L47","v":"-"}]
[null,43,{"$f":"'Listă posturi'!K48","v":", , , ID , "},{"$f":"'Listă posturi'!I48","v":0},{"$f":"'Listă posturi'!L48","v":"-"}]
[null,44,{"$f":"'Listă posturi'!K49","v":", , , ID , "},{"$f":"'Listă posturi'!I49","v":0},{"$f":"'Listă posturi'!L49","v":"-"}]
[null,45,{"$f":"'Listă posturi'!K50","v":", , , ID , "},{"$f":"'Listă posturi'!I50","v":0},{"$f":"'Listă posturi'!L50","v":"-"}]
[null,46,{"$f":"'Listă posturi'!K51","v":", , , ID , "},{"$f":"'Listă posturi'!I51","v":0},{"$f":"'Listă posturi'!L51","v":"-"}]
[null,47,{"$f":"'Listă posturi'!K52","v":", , , ID , "},{"$f":"'Listă posturi'!I52","v":0},{"$f":"'Listă posturi'!L52","v":"-"}]
[null,48,{"$f":"'Listă posturi'!K53","v":", , , ID , "},{"$f":"'Listă posturi'!I53","v":0},{"$f":"'Listă posturi'!L53","v":"-"}]
[null,49,{"$f":"'Listă posturi'!K54","v":", , , ID , "},{"$f":"'Listă posturi'!I54","v":0},{"$f":"'Listă posturi'!L54","v":"-"}]
[null,50,{"$f":"'Listă posturi'!K55","v":", , , ID , "},{"$f":"'Listă posturi'!I55","v":0},{"$f":"'Listă posturi'!L55","v":"-"}]
[null,51,{"$f":"'Listă posturi'!K56","v":", , , ID , "},{"$f":"'Listă posturi'!I56","v":0},{"$f":"'Listă posturi'!L56","v":"-"}]
[null,52,{"$f":"'Listă posturi'!K57","v":", , , ID , "},{"$f":"'Listă posturi'!I57","v":0},{"$f":"'Listă posturi'!L57","v":"-"}]
[null,53,{"$f":"'Listă posturi'!K58","v":", , , ID , "},{"$f":"'Listă posturi'!I58","v":0},{"$f":"'Listă posturi'!L58","v":"-"}]
[null,54,{"$f":"'Listă posturi'!K59","v":", , , ID , "},{"$f":"'Listă posturi'!I59","v":0},{"$f":"'Listă posturi'!L59","v":"-"}]
[null,55,{"$f":"'Listă posturi'!K60","v":", , , ID , "},{"$f":"'Listă posturi'!I60","v":0},{"$f":"'Listă posturi'!L60","v":"-"}]
[null,56,{"$f":"'Listă posturi'!K61","v":", , , ID , "},{"$f":"'Listă posturi'!I61","v":0},{"$f":"'Listă posturi'!L61","v":"-"}]
[null,57,{"$f":"'Listă posturi'!K62","v":", , , ID , "},{"$f":"'Listă posturi'!I62","v":0},{"$f":"'Listă posturi'!L62","v":"-"}]
[null,58,{"$f":"'Listă posturi'!K63","v":", , , ID , "},{"$f":"'Listă posturi'!I63","v":0},{"$f":"'Listă posturi'!L63","v":"-"}]
[null,59,{"$f":"'Listă posturi'!K64","v":", , , ID , "},{"$f":"'Listă posturi'!I64","v":0},{"$f":"'Listă posturi'!L64","v":"-"}]
[null,60,{"$f":"'Listă posturi'!K65","v":", , , ID , "},{"$f":"'Listă posturi'!I65","v":0},{"$f":"'Listă posturi'!L65","v":"-"}]
[null,61,{"$f":"'Listă posturi'!K66","v":", , , ID , "},{"$f":"'Listă posturi'!I66","v":0},{"$f":"'Listă posturi'!L66","v":"-"}]
[null,62,{"$f":"'Listă posturi'!K67","v":", , , ID , "},{"$f":"'Listă posturi'!I67","v":0},{"$f":"'Listă posturi'!L67","v":"-"}]
[null,63,{"$f":"'Listă posturi'!K68","v":", , , ID , "},{"$f":"'Listă posturi'!I68","v":0},{"$f":"'Listă posturi'!L68","v":"-"}]
[null,64,{"$f":"'Listă posturi'!K69","v":", , , ID , "},{"$f":"'Listă posturi'!I69","v":0},{"$f":"'Listă posturi'!L69","v":"-"}]
[null,65,{"$f":"'Listă posturi'!K70","v":", , , ID , "},{"$f":"'Listă posturi'!I70","v":0},{"$f":"'Listă posturi'!L70","v":"-"}]
[null,66,{"$f":"'Listă posturi'!K71","v":", , , ID , "},{"$f":"'Listă posturi'!I71","v":0},{"$f":"'Listă posturi'!L71","v":"-"}]
[null,67,{"$f":"'Listă posturi'!K72","v":", , , ID , "},{"$f":"'Listă posturi'!I72","v":0},{"$f":"'Listă posturi'!L72","v":"-"}]
[null,68,{"$f":"'Listă posturi'!K73","v":", , , ID , "},{"$f":"'Listă posturi'!I73","v":0},{"$f":"'Listă posturi'!L73","v":"-"}]
[null,69,{"$f":"'Listă posturi'!K74","v":", , , ID , "},{"$f":"'Listă posturi'!I74","v":0},{"$f":"'Listă posturi'!L74","v":"-"}]
[null,70,{"$f":"'Listă posturi'!K75","v":", , , ID , "},{"$f":"'Listă posturi'!I75","v":0},{"$f":"'Listă posturi'!L75","v":"-"}]
[null,71,{"$f":"'Listă posturi'!K76","v":", , , ID , "},{"$f":"'Listă posturi'!I76","v":0},{"$f":"'Listă posturi'!L76","v":"-"}]
[null,72,{"$f":"'Listă posturi'!K77","v":", , , ID , "},{"$f":"'Listă posturi'!I77","v":0},{"$f":"'Listă posturi'!L77","v":"-"}]
[null,73,{"$f":"'Listă posturi'!K78","v":", , , ID , "},{"$f":"'Listă posturi'!I78","v":0},{"$f":"'Listă posturi'!L78","v":"-"}]
[null,74,{"$f":"'Listă posturi'!K79","v":", , , ID , "},{"$f":"'Listă posturi'!I79","v":0},{"$f":"'Listă posturi'!L79","v":"-"}]
[null,75,{"$f":"'Listă posturi'!K80","v":", , , ID , "},{"$f":"'Listă posturi'!I80","v":0},{"$f":"'Listă posturi'!L80","v":"-"}]
[null,76,{"$f":"'Listă posturi'!K81","v":", , , ID , "},{"$f":"'Listă posturi'!I81","v":0},{"$f":"'Listă posturi'!L81","v":"-"}]
[null,77,{"$f":"'Listă posturi'!K82","v":", , , ID , "},{"$f":"'Listă posturi'!I82","v":0},{"$f":"'Listă posturi'!L82","v":"-"}]
[null,78,{"$f":"'Listă posturi'!K83","v":", , , ID , "},{"$f":"'Listă posturi'!I83","v":0},{"$f":"'Listă posturi'!L83","v":"-"}]
[null,79,{"$f":"'Listă posturi'!K84","v":", , , ID , "},{"$f":"'Listă posturi'!I84","v":0},{"$f":"'Listă posturi'!L84","v":"-"}]
[null,80,{"$f":"'Listă posturi'!K85","v":", , , ID , "},{"$f":"'Listă posturi'!I85","v":0},{"$f":"'Listă posturi'!L85","v":"-"}]
[null,81,{"$f":"'Listă posturi'!K86","v":", , , ID , "},{"$f":"'Listă posturi'!I86","v":0},{"$f":"'Listă posturi'!L86","v":"-"}]
[null,82,{"$f":"'Listă posturi'!K87","v":", , , ID , "},{"$f":"'Listă posturi'!I87","v":0},{"$f":"'Listă posturi'!L87","v":"-"}]
[null,83,{"$f":"'Listă posturi'!K88","v":", , , ID , "},{"$f":"'Listă posturi'!I88","v":0},{"$f":"'Listă posturi'!L88","v":"-"}]
[null,84,{"$f":"'Listă posturi'!K89","v":", , , ID , "},{"$f":"'Listă posturi'!I89","v":0},{"$f":"'Listă posturi'!L89","v":"-"}]
[null,85,{"$f":"'Listă posturi'!K90","v":", , , ID , "},{"$f":"'Listă posturi'!I90","v":0},{"$f":"'Listă posturi'!L90","v":"-"}]
[null,86,{"$f":"'Listă posturi'!K91","v":", , , ID , "},{"$f":"'Listă posturi'!I91","v":0},{"$f":"'Listă posturi'!L91","v":"-"}]
[null,87,{"$f":"'Listă posturi'!K92","v":", , , ID , "},{"$f":"'Listă posturi'!I92","v":0},{"$f":"'Listă posturi'!L92","v":"-"}]
[null,88,{"$f":"'Listă posturi'!K93","v":", , , ID , "},{"$f":"'Listă posturi'!I93","v":0},{"$f":"'Listă posturi'!L93","v":"-"}]
[null,89,{"$f":"'Listă posturi'!K94","v":", , , ID , "},{"$f":"'Listă posturi'!I94","v":0},{"$f":"'Listă posturi'!L94","v":"-"}]
[null,90,{"$f":"'Listă posturi'!K95","v":", , , ID , "},{"$f":"'Listă posturi'!I95","v":0},{"$f":"'Listă posturi'!L95","v":"-"}]
[null,91,{"$f":"'Listă posturi'!K96","v":", , , ID , "},{"$f":"'Listă posturi'!I96","v":0},{"$f":"'Listă posturi'!L96","v":"-"}]
[null,92,{"$f":"'Listă posturi'!K97","v":", , , ID , "},{"$f":"'Listă posturi'!I97","v":0},{"$f":"'Listă posturi'!L97","v":"-"}]
[null,93,{"$f":"'Listă posturi'!K98","v":", , , ID , "},{"$f":"'Listă posturi'!I98","v":0},{"$f":"'Listă posturi'!L98","v":"-"}]
[null,94,{"$f":"'Listă posturi'!K99","v":", , , ID , "},{"$f":"'Listă posturi'!I99","v":0},{"$f":"'Listă posturi'!L99","v":"-"}]
[null,95,{"$f":"'Listă posturi'!K100","v":", , , ID , "},{"$f":"'Listă posturi'!I100","v":0},{"$f":"'Listă posturi'!L100","v":"-"}]
[null,96,{"$f":"'Listă posturi'!K101","v":", , , ID , "},{"$f":"'Listă posturi'!I101","v":0},{"$f":"'Listă posturi'!L101","v":"-"}]
[null,97,{"$f":"'Listă posturi'!K102","v":", , , ID , "},{"$f":"'Listă posturi'!I102","v":0},{"$f":"'Listă posturi'!L102","v":"-"}]
[null,98,{"$f":"'Listă posturi'!K103","v":", , , ID , "},{"$f":"'Listă posturi'!I103","v":0},{"$f":"'Listă posturi'!L103","v":"-"}]
[null,99,{"$f":"'Listă posturi'!K104","v":", , , ID , "},{"$f":"'Listă posturi'!I104","v":0},{"$f":"'Listă posturi'!L104","v":"-"}]
[null,100,{"$f":"'Listă posturi'!K105","v":", , , ID , "},{"$f":"'Listă posturi'!I105","v":0},{"$f":"'Listă posturi'!L105","v":"-"}]
[null,101,{"$f":"'Listă posturi'!K106","v":", , , ID , "},{"$f":"'Listă posturi'!I106","v":0},{"$f":"'Listă posturi'!L106","v":"-"}]
[null,102,{"$f":"'Listă posturi'!K107","v":", , , ID , "},{"$f":"'Listă posturi'!I107","v":0},{"$f":"'Listă posturi'!L107","v":"-"}]
[null,103,{"$f":"'Listă posturi'!K108","v":", , , ID , "},{"$f":"'Listă posturi'!I108","v":0},{"$f":"'Listă posturi'!L108","v":"-"}]
[null,104,{"$f":"'Listă posturi'!K109","v":", , , ID , "},{"$f":"'Listă posturi'!I109","v":0},{"$f":"'Listă posturi'!L109","v":"-"}]
[null,105,{"$f":"'Listă posturi'!K110","v":", , , ID , "},{"$f":"'Listă posturi'!I110","v":0},{"$f":"'Listă posturi'!L110","v":"-"}]
[null,106,{"$f":"'Listă posturi'!K111","v":", , , ID , "},{"$f":"'Listă posturi'!I111","v":0},{"$f":"'Listă posturi'!L111","v":"-"}]
[null,107,{"$f":"'Listă posturi'!K112","v":", , , ID , "},{"$f":"'Listă posturi'!I112","v":0},{"$f":"'Listă posturi'!L112","v":"-"}]
[null,108,{"$f":"'Listă posturi'!K113","v":", , , ID , "},{"$f":"'Listă posturi'!I113","v":0},{"$f":"'Listă posturi'!L113","v":"-"}]
[null,109,{"$f":"'Listă posturi'!K114","v":", , , ID , "},{"$f":"'Listă posturi'!I114","v":0},{"$f":"'Listă posturi'!L114","v":"-"}]
[null,110,{"$f":"'Listă posturi'!K115","v":", , , ID , "},{"$f":"'Listă posturi'!I115","v":0},{"$f":"'Listă posturi'!L115","v":"-"}]
[null,111,{"$f":"'Listă posturi'!K116","v":", , , ID , "},{"$f":"'Listă posturi'!I116","v":0},{"$f":"'Listă posturi'!L116","v":"-"}]
[null,112,{"$f":"'Listă posturi'!K117","v":", , , ID , "},{"$f":"'Listă posturi'!I117","v":0},{"$f":"'Listă posturi'!L117","v":"-"}]
[null,113,{"$f":"'Listă posturi'!K118","v":", , , ID , "},{"$f":"'Listă posturi'!I118","v":0},{"$f":"'Listă posturi'!L118","v":"-"}]
[null,114,{"$f":"'Listă posturi'!K119","v":", , , ID , "},{"$f":"'Listă posturi'!I119","v":0},{"$f":"'Listă posturi'!L119","v":"-"}]
[null,115,{"$f":"'Listă posturi'!K120","v":", , , ID , "},{"$f":"'Listă posturi'!I120","v":0},{"$f":"'Listă posturi'!L120","v":"-"}]
[null,116,{"$f":"'Listă posturi'!K121","v":", , , ID , "},{"$f":"'Listă posturi'!I121","v":0},{"$f":"'Listă posturi'!L121","v":"-"}]
[null,117,{"$f":"'Listă posturi'!K122","v":", , , ID , "},{"$f":"'Listă posturi'!I122","v":0},{"$f":"'Listă posturi'!L122","v":"-"}]
[null,118,{"$f":"'Listă posturi'!K123","v":", , , ID , "},{"$f":"'Listă posturi'!I123","v":0},{"$f":"'Listă posturi'!L123","v":"-"}]
[null,119,{"$f":"'Listă posturi'!K124","v":", , , ID , "},{"$f":"'Listă posturi'!I124","v":0},{"$f":"'Listă posturi'!L124","v":"-"}]
[null,120,{"$f":"'Listă posturi'!K125","v":", , , ID , "},{"$f":"'Listă posturi'!I125","v":0},{"$f":"'Listă posturi'!L125","v":"-"}]
[null,121,{"$f":"'Listă posturi'!K126","v":", , , ID , "},{"$f":"'Listă posturi'!I126","v":0},{"$f":"'Listă posturi'!L126","v":"-"}]
[null,122,{"$f":"'Listă posturi'!K127","v":", , , ID , "},{"$f":"'Listă posturi'!I127","v":0},{"$f":"'Listă posturi'!L127","v":"-"}]
[null,123,{"$f":"'Listă posturi'!K128","v":", , , ID , "},{"$f":"'Listă posturi'!I128","v":0},{"$f":"'Listă posturi'!L128","v":"-"}]
[null,124,{"$f":"'Listă posturi'!K129","v":", , , ID , "},{"$f":"'Listă posturi'!I129","v":0},{"$f":"'Listă posturi'!L129","v":"-"}]
[null,125,{"$f":"'Listă posturi'!K130","v":", , , ID , "},{"$f":"'Listă posturi'!I130","v":0},{"$f":"'Listă posturi'!L130","v":"-"}]
[null,126,{"$f":"'Listă posturi'!K131","v":", , , ID , "},{"$f":"'Listă posturi'!I131","v":0},{"$f":"'Listă posturi'!L131","v":"-"}]
[null,127,{"$f":"'Listă posturi'!K132","v":", , , ID , "},{"$f":"'Listă posturi'!I132","v":0},{"$f":"'Listă posturi'!L132","v":"-"}]
[null,128,{"$f":"'Listă posturi'!K133","v":", , , ID , "},{"$f":"'Listă posturi'!I133","v":0},{"$f":"'Listă posturi'!L133","v":"-"}]
[null,129,{"$f":"'Listă posturi'!K134","v":", , , ID , "},{"$f":"'Listă posturi'!I134","v":0},{"$f":"'Listă posturi'!L134","v":"-"}]
[null,130,{"$f":"'Listă posturi'!K135","v":", , , ID , "},{"$f":"'Listă posturi'!I135","v":0},{"$f":"'Listă posturi'!L135","v":"-"}]
[null,131,{"$f":"'Listă posturi'!K136","v":", , , ID , "},{"$f":"'Listă posturi'!I136","v":0},{"$f":"'Listă posturi'!L136","v":"-"}]
[null,132,{"$f":"'Listă posturi'!K137","v":", , , ID , "},{"$f":"'Listă posturi'!I137","v":0},{"$f":"'Listă posturi'!L137","v":"-"}]
[null,133,{"$f":"'Listă posturi'!K138","v":", , , ID , "},{"$f":"'Listă posturi'!I138","v":0},{"$f":"'Listă posturi'!L138","v":"-"}]
[null,134,{"$f":"'Listă posturi'!K139","v":", , , ID , "},{"$f":"'Listă posturi'!I139","v":0},{"$f":"'Listă posturi'!L139","v":"-"}]
[null,135,{"$f":"'Listă posturi'!K140","v":", , , ID , "},{"$f":"'Listă posturi'!I140","v":0},{"$f":"'Listă posturi'!L140","v":"-"}]
[null,136,{"$f":"'Listă posturi'!K141","v":", , , ID , "},{"$f":"'Listă posturi'!I141","v":0},{"$f":"'Listă posturi'!L141","v":"-"}]
[null,137,{"$f":"'Listă posturi'!K142","v":", , , ID , "},{"$f":"'Listă posturi'!I142","v":0},{"$f":"'Listă posturi'!L142","v":"-"}]
[null,138,{"$f":"'Listă posturi'!K143","v":", , , ID , "},{"$f":"'Listă posturi'!I143","v":0},{"$f":"'Listă posturi'!L143","v":"-"}]
[null,139,{"$f":"'Listă posturi'!K144","v":", , , ID , "},{"$f":"'Listă posturi'!I144","v":0},{"$f":"'Listă posturi'!L144","v":"-"}]
[null,140,{"$f":"'Listă posturi'!K145","v":", , , ID , "},{"$f":"'Listă posturi'!I145","v":0},{"$f":"'Listă posturi'!L145","v":"-"}]
[null,141,{"$f":"'Listă posturi'!K146","v":", , , ID , "},{"$f":"'Listă posturi'!I146","v":0},{"$f":"'Listă posturi'!L146","v":"-"}]
[null,142,{"$f":"'Listă posturi'!K147","v":", , , ID , "},{"$f":"'Listă posturi'!I147","v":0},{"$f":"'Listă posturi'!L147","v":"-"}]
[null,143,{"$f":"'Listă posturi'!K148","v":", , , ID , "},{"$f":"'Listă posturi'!I148","v":0},{"$f":"'Listă posturi'!L148","v":"-"}]
[null,144,{"$f":"'Listă posturi'!K149","v":", , , ID , "},{"$f":"'Listă posturi'!I149","v":0},{"$f":"'Listă posturi'!L149","v":"-"}]
[null,145,{"$f":"'Listă posturi'!K150","v":", , , ID , "},{"$f":"'Listă posturi'!I150","v":0},{"$f":"'Listă posturi'!L150","v":"-"}]
[null,146,{"$f":"'Listă posturi'!K151","v":", , , ID , "},{"$f":"'Listă posturi'!I151","v":0},{"$f":"'Listă posturi'!L151","v":"-"}]
[null,147,{"$f":"'Listă posturi'!K152","v":", , , ID , "},{"$f":"'Listă posturi'!I152","v":0},{"$f":"'Listă posturi'!L152","v":"-"}]
[null,148,{"$f":"'Listă posturi'!K153","v":", , , ID , "},{"$f":"'Listă posturi'!I153","v":0},{"$f":"'Listă posturi'!L153","v":"-"}]
[null,149,{"$f":"'Listă posturi'!K154","v":", , , ID , "},{"$f":"'Listă posturi'!I154","v":0},{"$f":"'Listă posturi'!L154","v":"-"}]
[null,150,{"$f":"'Listă posturi'!K155","v":", , , ID , "},{"$f":"'Listă posturi'!I155","v":0},{"$f":"'Listă posturi'!L155","v":"-"}]
[null,151,{"$f":"'Listă posturi'!K156","v":", , , ID , "},{"$f":"'Listă posturi'!I156","v":0},{"$f":"'Listă posturi'!L156","v":"-"}]
[null,152,{"$f":"'Listă posturi'!K157","v":", , , ID , "},{"$f":"'Listă posturi'!I157","v":0},{"$f":"'Listă posturi'!L157","v":"-"}]
[null,153,{"$f":"'Listă posturi'!K158","v":", , , ID , "},{"$f":"'Listă posturi'!I158","v":0},{"$f":"'Listă posturi'!L158","v":"-"}]
[null,154,{"$f":"'Listă posturi'!K159","v":", , , ID , "},{"$f":"'Listă posturi'!I159","v":0},{"$f":"'Listă posturi'!L159","v":"-"}]
[null,155,{"$f":"'Listă posturi'!K160","v":", , , ID , "},{"$f":"'Listă posturi'!I160","v":0},{"$f":"'Listă posturi'!L160","v":"-"}]
[null,156,{"$f":"'Listă posturi'!K161","v":", , , ID , "},{"$f":"'Listă posturi'!I161","v":0},{"$f":"'Listă posturi'!L161","v":"-"}]
[null,157,{"$f":"'Listă posturi'!K162","v":", , , ID , "},{"$f":"'Listă posturi'!I162","v":0},{"$f":"'Listă posturi'!L162","v":"-"}]
[null,158,{"$f":"'Listă posturi'!K163","v":", , , ID , "},{"$f":"'Listă posturi'!I163","v":0},{"$f":"'Listă posturi'!L163","v":"-"}]
[null,159,{"$f":"'Listă posturi'!K164","v":", , , ID , "},{"$f":"'Listă posturi'!I164","v":0},{"$f":"'Listă posturi'!L164","v":"-"}]
[null,160,{"$f":"'Listă posturi'!K165","v":", , , ID , "},{"$f":"'Listă posturi'!I165","v":0},{"$f":"'Listă posturi'!L165","v":"-"}]
[null,161,{"$f":"'Listă posturi'!K166","v":", , , ID , "},{"$f":"'Listă posturi'!I166","v":0},{"$f":"'Listă posturi'!L166","v":"-"}]
[null,162,{"$f":"'Listă posturi'!K167","v":", , , ID , "},{"$f":"'Listă posturi'!I167","v":0},{"$f":"'Listă posturi'!L167","v":"-"}]
[null,163,{"$f":"'Listă posturi'!K168","v":", , , ID , "},{"$f":"'Listă posturi'!I168","v":0},{"$f":"'Listă posturi'!L168","v":"-"}]
[null,164,{"$f":"'Listă posturi'!K169","v":", , , ID , "},{"$f":"'Listă posturi'!I169","v":0},{"$f":"'Listă posturi'!L169","v":"-"}]
[null,165,{"$f":"'Listă posturi'!K170","v":", , , ID , "},{"$f":"'Listă posturi'!I170","v":0},{"$f":"'Listă posturi'!L170","v":"-"}]
[null,166,{"$f":"'Listă posturi'!K171","v":", , , ID , "},{"$f":"'Listă posturi'!I171","v":0},{"$f":"'Listă posturi'!L171","v":"-"}]
[null,167,{"$f":"'Listă posturi'!K172","v":", , , ID , "},{"$f":"'Listă posturi'!I172","v":0},{"$f":"'Listă posturi'!L172","v":"-"}]
[null,168,{"$f":"'Listă posturi'!K173","v":", , , ID , "},{"$f":"'Listă posturi'!I173","v":0},{"$f":"'Listă posturi'!L173","v":"-"}]
[null,169,{"$f":"'Listă posturi'!K174","v":", , , ID , "},{"$f":"'Listă posturi'!I174","v":0},{"$f":"'Listă posturi'!L174","v":"-"}]
[null,170,{"$f":"'Listă posturi'!K175","v":", , , ID , "},{"$f":"'Listă posturi'!I175","v":0},{"$f":"'Listă posturi'!L175","v":"-"}]
[null,171,{"$f":"'Listă posturi'!K176","v":", , , ID , "},{"$f":"'Listă posturi'!I176","v":0},{"$f":"'Listă posturi'!L176","v":"-"}]
[null,172,{"$f":"'Listă posturi'!K177","v":", , , ID , "},{"$f":"'Listă posturi'!I177","v":0},{"$f":"'Listă posturi'!L177","v":"-"}]
[null,173,{"$f":"'Listă posturi'!K178","v":", , , ID , "},{"$f":"'Listă posturi'!I178","v":0},{"$f":"'Listă posturi'!L178","v":"-"}]
[null,174,{"$f":"'Listă posturi'!K179","v":", , , ID , "},{"$f":"'Listă posturi'!I179","v":0},{"$f":"'Listă posturi'!L179","v":"-"}]
[null,175,{"$f":"'Listă posturi'!K180","v":", , , ID , "},{"$f":"'Listă posturi'!I180","v":0},{"$f":"'Listă posturi'!L180","v":"-"}]
[null,176,{"$f":"'Listă posturi'!K181","v":", , , ID , "},{"$f":"'Listă posturi'!I181","v":0},{"$f":"'Listă posturi'!L181","v":"-"}]
[null,177,{"$f":"'Listă posturi'!K182","v":", , , ID , "},{"$f":"'Listă posturi'!I182","v":0},{"$f":"'Listă posturi'!L182","v":"-"}]
[null,178,{"$f":"'Listă posturi'!K183","v":", , , ID , "},{"$f":"'Listă posturi'!I183","v":0},{"$f":"'Listă posturi'!L183","v":"-"}]
[null,179,{"$f":"'Listă posturi'!K184","v":", , , ID , "},{"$f":"'Listă posturi'!I184","v":0},{"$f":"'Listă posturi'!L184","v":"-"}]
[null,180,{"$f":"'Listă posturi'!K185","v":", , , ID , "},{"$f":"'Listă posturi'!I185","v":0},{"$f":"'Listă posturi'!L185","v":"-"}]
[null,181,{"$f":"'Listă posturi'!K186","v":", , , ID , "},{"$f":"'Listă posturi'!I186","v":0},{"$f":"'Listă posturi'!L186","v":"-"}]
[null,182,{"$f":"'Listă posturi'!K187","v":", , , ID , "},{"$f":"'Listă posturi'!I187","v":0},{"$f":"'Listă posturi'!L187","v":"-"}]
[null,183,{"$f":"'Listă posturi'!K188","v":", , , ID , "},{"$f":"'Listă posturi'!I188","v":0},{"$f":"'Listă posturi'!L188","v":"-"}]
[null,184,{"$f":"'Listă posturi'!K189","v":", , , ID , "},{"$f":"'Listă posturi'!I189","v":0},{"$f":"'Listă posturi'!L189","v":"-"}]
[null,185,{"$f":"'Listă posturi'!K190","v":", , , ID , "},{"$f":"'Listă posturi'!I190","v":0},{"$f":"'Listă posturi'!L190","v":"-"}]
[null,186,{"$f":"'Listă posturi'!K191","v":", , , ID , "},{"$f":"'Listă posturi'!I191","v":0},{"$f":"'Listă posturi'!L191","v":"-"}]
[null,187,{"$f":"'Listă posturi'!K192","v":", , , ID , "},{"$f":"'Listă posturi'!I192","v":0},{"$f":"'Listă posturi'!L192","v":"-"}]
[null,188,{"$f":"'Listă posturi'!K193","v":", , , ID , "},{"$f":"'Listă posturi'!I193","v":0},{"$f":"'Listă posturi'!L193","v":"-"}]
[null,189,{"$f":"'Listă posturi'!K194","v":", , , ID , "},{"$f":"'Listă posturi'!I194","v":0},{"$f":"'Listă posturi'!L194","v":"-"}]
[null,190,{"$f":"'Listă posturi'!K195","v":", , , ID , "},{"$f":"'Listă posturi'!I195","v":0},{"$f":"'Listă posturi'!L195","v":"-"}]
[null,191,{"$f":"'Listă posturi'!K196","v":", , , ID , "},{"$f":"'Listă posturi'!I196","v":0},{"$f":"'Listă posturi'!L196","v":"-"}]
[null,192,{"$f":"'Listă posturi'!K197","v":", , , ID , "},{"$f":"'Listă posturi'!I197","v":0},{"$f":"'Listă posturi'!L197","v":"-"}]
[null,193,{"$f":"'Listă posturi'!K198","v":", , , ID , "},{"$f":"'Listă posturi'!I198","v":0},{"$f":"'Listă posturi'!L198","v":"-"}]
[null,194,{"$f":"'Listă posturi'!K199","v":", , , ID , "},{"$f":"'Listă posturi'!I199","v":0},{"$f":"'Listă posturi'!L199","v":"-"}]
[null,195,{"$f":"'Listă posturi'!K200","v":", , , ID , "},{"$f":"'Listă posturi'!I200","v":0},{"$f":"'Listă posturi'!L200","v":"-"}]
[null,196,{"$f":"'Listă posturi'!K201","v":", , , ID , "},{"$f":"'Listă posturi'!I201","v":0},{"$f":"'Listă posturi'!L201","v":"-"}]
[null,197,{"$f":"'Listă posturi'!K202","v":", , , ID , "},{"$f":"'Listă posturi'!I202","v":0},{"$f":"'Listă posturi'!L202","v":"-"}]
[null,198,{"$f":"'Listă posturi'!K203","v":", , , ID , "},{"$f":"'Listă posturi'!I203","v":0},{"$f":"'Listă posturi'!L203","v":"-"}]
[null,199,{"$f":"'Listă posturi'!K204","v":", , , ID , "},{"$f":"'Listă posturi'!I204","v":0},{"$f":"'Listă posturi'!L204","v":"-"}]
[null,200,{"$f":"'Listă posturi'!K205","v":", , , ID , "},{"$f":"'Listă posturi'!I205","v":0},{"$f":"'Listă posturi'!L205","v":"-"}]
[null,201,{"$f":"'Listă posturi'!K206","v":", , , ID , "},{"$f":"'Listă posturi'!I206","v":0},{"$f":"'Listă posturi'!L206","v":"-"}]
[null,202,{"$f":"'Listă posturi'!K207","v":", , , ID , "},{"$f":"'Listă posturi'!I207","v":0},{"$f":"'Listă posturi'!L207","v":"-"}]
[null,203,{"$f":"'Listă posturi'!K208","v":", , , ID , "},{"$f":"'Listă posturi'!I208","v":0},{"$f":"'Listă posturi'!L208","v":"-"}]
[null,204,{"$f":"'Listă posturi'!K209","v":", , , ID , "},{"$f":"'Listă posturi'!I209","v":0},{"$f":"'Listă posturi'!L209","v":"-"}]
[null,205,{"$f":"'Listă posturi'!K210","v":", , , ID , "},{"$f":"'Listă posturi'!I210","v":0},{"$f":"'Listă posturi'!L210","v":"-"}]
[null,206,{"$f":"'Listă posturi'!K211","v":", , , ID , "},{"$f":"'Listă posturi'!I211","v":0},{"$f":"'Listă posturi'!L211","v":"-"}]
[null,207,{"$f":"'Listă posturi'!K212","v":", , , ID , "},{"$f":"'Listă posturi'!I212","v":0},{"$f":"'Listă posturi'!L212","v":"-"}]
[null,208,{"$f":"'Listă posturi'!K213","v":", , , ID , "},{"$f":"'Listă posturi'!I213","v":0},{"$f":"'Listă posturi'!L213","v":"-"}]
[null,209,{"$f":"'Listă posturi'!K214","v":", , , ID , "},{"$f":"'Listă posturi'!I214","v":0},{"$f":"'Listă posturi'!L214","v":"-"}]
[null,210,{"$f":"'Listă posturi'!K215","v":", , , ID , "},{"$f":"'Listă posturi'!I215","v":0},{"$f":"'Listă posturi'!L215","v":"-"}]
[null,211,{"$f":"'Listă posturi'!K216","v":", , , ID , "},{"$f":"'Listă posturi'!I216","v":0},{"$f":"'Listă posturi'!L216","v":"-"}]
[null,212,{"$f":"'Listă posturi'!K217","v":", , , ID , "},{"$f":"'Listă posturi'!I217","v":0},{"$f":"'Listă posturi'!L217","v":"-"}]
[null,213,{"$f":"'Listă posturi'!K218","v":", , , ID , "},{"$f":"'Listă posturi'!I218","v":0},{"$f":"'Listă posturi'!L218","v":"-"}]
[null,214,{"$f":"'Listă posturi'!K219","v":", , , ID , "},{"$f":"'Listă posturi'!I219","v":0},{"$f":"'Listă posturi'!L219","v":"-"}]
[null,215,{"$f":"'Listă posturi'!K220","v":", , , ID , "},{"$f":"'Listă posturi'!I220","v":0},{"$f":"'Listă posturi'!L220","v":"-"}]
[null,216,{"$f":"'Listă posturi'!K221","v":", , , ID , "},{"$f":"'Listă posturi'!I221","v":0},{"$f":"'Listă posturi'!L221","v":"-"}]
[null,217,{"$f":"'Listă posturi'!K222","v":", , , ID , "},{"$f":"'Listă posturi'!I222","v":0},{"$f":"'Listă posturi'!L222","v":"-"}]
[null,218,{"$f":"'Listă posturi'!K223","v":", , , ID , "},{"$f":"'Listă posturi'!I223","v":0},{"$f":"'Listă posturi'!L223","v":"-"}]
[null,219,{"$f":"'Listă posturi'!K224","v":", , , ID , "},{"$f":"'Listă posturi'!I224","v":0},{"$f":"'Listă posturi'!L224","v":"-"}]
[null,220,{"$f":"'Listă posturi'!K225","v":", , , ID , "},{"$f":"'Listă posturi'!I225","v":0},{"$f":"'Listă posturi'!L225","v":"-"}]
[null,221,{"$f":"'Listă posturi'!K226","v":", , , ID , "},{"$f":"'Listă posturi'!I226","v":0},{"$f":"'Listă posturi'!L226","v":"-"}]
[null,222,{"$f":"'Listă posturi'!K227","v":", , , ID , "},{"$f":"'Listă posturi'!I227","v":0},{"$f":"'Listă posturi'!L227","v":"-"}]
[null,223,{"$f":"'Listă posturi'!K228","v":", , , ID , "},{"$f":"'Listă posturi'!I228","v":0},{"$f":"'Listă posturi'!L228","v":"-"}]
[null,224,{"$f":"'Listă posturi'!K229","v":", , , ID , "},{"$f":"'Listă posturi'!I229","v":0},{"$f":"'Listă posturi'!L229","v":"-"}]
[null,225,{"$f":"'Listă posturi'!K230","v":", , , ID , "},{"$f":"'Listă posturi'!I230","v":0},{"$f":"'Listă posturi'!L230","v":"-"}]
[null,226,{"$f":"'Listă posturi'!K231","v":", , , ID , "},{"$f":"'Listă posturi'!I231","v":0},{"$f":"'Listă posturi'!L231","v":"-"}]
[null,227,{"$f":"'Listă posturi'!K232","v":", , , ID , "},{"$f":"'Listă posturi'!I232","v":0},{"$f":"'Listă posturi'!L232","v":"-"}]
[null,228,{"$f":"'Listă posturi'!K233","v":", , , ID , "},{"$f":"'Listă posturi'!I233","v":0},{"$f":"'Listă posturi'!L233","v":"-"}]
[null,229,{"$f":"'Listă posturi'!K234","v":", , , ID , "},{"$f":"'Listă posturi'!I234","v":0},{"$f":"'Listă posturi'!L234","v":"-"}]
[null,230,{"$f":"'Listă posturi'!K235","v":", , , ID , "},{"$f":"'Listă posturi'!I235","v":0},{"$f":"'Listă posturi'!L235","v":"-"}]
[null,231,{"$f":"'Listă posturi'!K236","v":", , , ID , "},{"$f":"'Listă posturi'!I236","v":0},{"$f":"'Listă posturi'!L236","v":"-"}]
[null,232,{"$f":"'Listă posturi'!K237","v":", , , ID , "},{"$f":"'Listă posturi'!I237","v":0},{"$f":"'Listă posturi'!L237","v":"-"}]
[null,233,{"$f":"'Listă posturi'!K238","v":", , , ID , "},{"$f":"'Listă posturi'!I238","v":0},{"$f":"'Listă posturi'!L238","v":"-"}]
[null,234,{"$f":"'Listă posturi'!K239","v":", , , ID , "},{"$f":"'Listă posturi'!I239","v":0},{"$f":"'Listă posturi'!L239","v":"-"}]
[null,235,{"$f":"'Listă posturi'!K240","v":", , , ID , "},{"$f":"'Listă posturi'!I240","v":0},{"$f":"'Listă posturi'!L240","v":"-"}]
[null,236,{"$f":"'Listă posturi'!K241","v":", , , ID , "},{"$f":"'Listă posturi'!I241","v":0},{"$f":"'Listă posturi'!L241","v":"-"}]
[null,237,{"$f":"'Listă posturi'!K242","v":", , , ID , "},{"$f":"'Listă posturi'!I242","v":0},{"$f":"'Listă posturi'!L242","v":"-"}]
[null,238,{"$f":"'Listă posturi'!K243","v":", , , ID , "},{"$f":"'Listă posturi'!I243","v":0},{"$f":"'Listă posturi'!L243","v":"-"}]
[null,239,{"$f":"'Listă posturi'!K244","v":", , , ID , "},{"$f":"'Listă posturi'!I244","v":0},{"$f":"'Listă posturi'!L244","v":"-"}]
[null,240,{"$f":"'Listă posturi'!K245","v":", , , ID , "},{"$f":"'Listă posturi'!I245","v":0},{"$f":"'Listă posturi'!L245","v":"-"}]
[null,241,{"$f":"'Listă posturi'!K246","v":", , , ID , "},{"$f":"'Listă posturi'!I246","v":0},{"$f":"'Listă posturi'!L246","v":"-"}]
[null,242,{"$f":"'Listă posturi'!K247","v":", , , ID , "},{"$f":"'Listă posturi'!I247","v":0},{"$f":"'Listă posturi'!L247","v":"-"}]
[null,243,{"$f":"'Listă posturi'!K248","v":", , , ID , "},{"$f":"'Listă posturi'!I248","v":0},{"$f":"'Listă posturi'!L248","v":"-"}]
[null,244,{"$f":"'Listă posturi'!K249","v":", , , ID , "},{"$f":"'Listă posturi'!I249","v":0},{"$f":"'Listă posturi'!L249","v":"-"}]
[null,245,{"$f":"'Listă posturi'!K250","v":", , , ID , "},{"$f":"'Listă posturi'!I250","v":0},{"$f":"'Listă posturi'!L250","v":"-"}]
[null,246,{"$f":"'Listă posturi'!K251","v":", , , ID , "},{"$f":"'Listă posturi'!I251","v":0},{"$f":"'Listă posturi'!L251","v":"-"}]
[null,247,{"$f":"'Listă posturi'!K252","v":", , , ID , "},{"$f":"'Listă posturi'!I252","v":0},{"$f":"'Listă posturi'!L252","v":"-"}]
[null,248,{"$f":"'Listă posturi'!K253","v":", , , ID , "},{"$f":"'Listă posturi'!I253","v":0},{"$f":"'Listă posturi'!L253","v":"-"}]
[null,249,{"$f":"'Listă posturi'!K254","v":", , , ID , "},{"$f":"'Listă posturi'!I254","v":0},{"$f":"'Listă posturi'!L254","v":"-"}]
[null,250,{"$f":"'Listă posturi'!K255","v":", , , ID , "},{"$f":"'Listă posturi'!I255","v":0},{"$f":"'Listă posturi'!L255","v":"-"}]
[null,251,{"$f":"'Listă posturi'!K256","v":", , , ID , "},{"$f":"'Listă posturi'!I256","v":0},{"$f":"'Listă posturi'!L256","v":"-"}]
[null,252,{"$f":"'Listă posturi'!K257","v":", , , ID , "},{"$f":"'Listă posturi'!I257","v":0},{"$f":"'Listă posturi'!L257","v":"-"}]
[null,253,{"$f":"'Listă posturi'!K258","v":", , , ID , "},{"$f":"'Listă posturi'!I258","v":0},{"$f":"'Listă posturi'!L258","v":"-"}]
[null,254,{"$f":"'Listă posturi'!K259","v":", , , ID , "},{"$f":"'Listă posturi'!I259","v":0},{"$f":"'Listă posturi'!L259","v":"-"}]
[null,255,{"$f":"'Listă posturi'!K260","v":", , , ID , "},{"$f":"'Listă posturi'!I260","v":0},{"$f":"'Listă posturi'!L260","v":"-"}]
[null,256,{"$f":"'Listă posturi'!K261","v":", , , ID , "},{"$f":"'Listă posturi'!I261","v":0},{"$f":"'Listă posturi'!L261","v":"-"}]
[null,257,{"$f":"'Listă posturi'!K262","v":", , , ID , "},{"$f":"'Listă posturi'!I262","v":0},{"$f":"'Listă posturi'!L262","v":"-"}]
[null,258,{"$f":"'Listă posturi'!K263","v":", , , ID , "},{"$f":"'Listă posturi'!I263","v":0},{"$f":"'Listă posturi'!L263","v":"-"}]
[null,259,{"$f":"'Listă posturi'!K264","v":", , , ID , "},{"$f":"'Listă posturi'!I264","v":0},{"$f":"'Listă posturi'!L264","v":"-"}]
[null,260,{"$f":"'Listă posturi'!K265","v":", , , ID , "},{"$f":"'Listă posturi'!I265","v":0},{"$f":"'Listă posturi'!L265","v":"-"}]
[null,261,{"$f":"'Listă posturi'!K266","v":", , , ID , "},{"$f":"'Listă posturi'!I266","v":0},{"$f":"'Listă posturi'!L266","v":"-"}]
[null,262,{"$f":"'Listă posturi'!K267","v":", , , ID , "},{"$f":"'Listă posturi'!I267","v":0},{"$f":"'Listă posturi'!L267","v":"-"}]
[null,263,{"$f":"'Listă posturi'!K268","v":", , , ID , "},{"$f":"'Listă posturi'!I268","v":0},{"$f":"'Listă posturi'!L268","v":"-"}]
[null,264,{"$f":"'Listă posturi'!K269","v":", , , ID , "},{"$f":"'Listă posturi'!I269","v":0},{"$f":"'Listă posturi'!L269","v":"-"}]
[null,265,{"$f":"'Listă posturi'!K270","v":", , , ID , "},{"$f":"'Listă posturi'!I270","v":0},{"$f":"'Listă posturi'!L270","v":"-"}]
[null,266,{"$f":"'Listă posturi'!K271","v":", , , ID , "},{"$f":"'Listă posturi'!I271","v":0},{"$f":"'Listă posturi'!L271","v":"-"}]
[null,267,{"$f":"'Listă posturi'!K272","v":", , , ID , "},{"$f":"'Listă posturi'!I272","v":0},{"$f":"'Listă posturi'!L272","v":"-"}]
[null,268,{"$f":"'Listă posturi'!K273","v":", , , ID , "},{"$f":"'Listă posturi'!I273","v":0},{"$f":"'Listă posturi'!L273","v":"-"}]
[null,269,{"$f":"'Listă posturi'!K274","v":", , , ID , "},{"$f":"'Listă posturi'!I274","v":0},{"$f":"'Listă posturi'!L274","v":"-"}]
[null,270,{"$f":"'Listă posturi'!K275","v":", , , ID , "},{"$f":"'Listă posturi'!I275","v":0},{"$f":"'Listă posturi'!L275","v":"-"}]
[null,271,{"$f":"'Listă posturi'!K276","v":", , , ID , "},{"$f":"'Listă posturi'!I276","v":0},{"$f":"'Listă posturi'!L276","v":"-"}]
[null,272,{"$f":"'Listă posturi'!K277","v":", , , ID , "},{"$f":"'Listă posturi'!I277","v":0},{"$f":"'Listă posturi'!L277","v":"-"}]
[null,273,{"$f":"'Listă posturi'!K278","v":", , , ID , "},{"$f":"'Listă posturi'!I278","v":0},{"$f":"'Listă posturi'!L278","v":"-"}]
[null,274,{"$f":"'Listă posturi'!K279","v":", , , ID , "},{"$f":"'Listă posturi'!I279","v":0},{"$f":"'Listă posturi'!L279","v":"-"}]
[null,275,{"$f":"'Listă posturi'!K280","v":", , , ID , "},{"$f":"'Listă posturi'!I280","v":0},{"$f":"'Listă posturi'!L280","v":"-"}]
[null,276,{"$f":"'Listă posturi'!K281","v":", , , ID , "},{"$f":"'Listă posturi'!I281","v":0},{"$f":"'Listă posturi'!L281","v":"-"}]
[null,277,{"$f":"'Listă posturi'!K282","v":", , , ID , "},{"$f":"'Listă posturi'!I282","v":0},{"$f":"'Listă posturi'!L282","v":"-"}]
[null,278,{"$f":"'Listă posturi'!K283","v":", , , ID , "},{"$f":"'Listă posturi'!I283","v":0},{"$f":"'Listă posturi'!L283","v":"-"}]
[null,279,{"$f":"'Listă posturi'!K284","v":", , , ID , "},{"$f":"'Listă posturi'!I284","v":0},{"$f":"'Listă posturi'!L284","v":"-"}]
[null,280,{"$f":"'Listă posturi'!K285","v":", , , ID , "},{"$f":"'Listă posturi'!I285","v":0},{"$f":"'Listă posturi'!L285","v":"-"}]
[null,281,{"$f":"'Listă posturi'!K286","v":", , , ID , "},{"$f":"'Listă posturi'!I286","v":0},{"$f":"'Listă posturi'!L286","v":"-"}]
[null,282,{"$f":"'Listă posturi'!K287","v":", , , ID , "},{"$f":"'Listă posturi'!I287","v":0},{"$f":"'Listă posturi'!L287","v":"-"}]
[null,283,{"$f":"'Listă posturi'!K288","v":", , , ID , "},{"$f":"'Listă posturi'!I288","v":0},{"$f":"'Listă posturi'!L288","v":"-"}]
[null,284,{"$f":"'Listă posturi'!K289","v":", , , ID , "},{"$f":"'Listă posturi'!I289","v":0},{"$f":"'Listă posturi'!L289","v":"-"}]
[null,285,{"$f":"'Listă posturi'!K290","v":", , , ID , "},{"$f":"'Listă posturi'!I290","v":0},{"$f":"'Listă posturi'!L290","v":"-"}]
[null,286,{"$f":"'Listă posturi'!K291","v":", , , ID , "},{"$f":"'Listă posturi'!I291","v":0},{"$f":"'Listă posturi'!L291","v":"-"}]
[null,287,{"$f":"'Listă posturi'!K292","v":", , , ID , "},{"$f":"'Listă posturi'!I292","v":0},{"$f":"'Listă posturi'!L292","v":"-"}]
[null,288,{"$f":"'Listă posturi'!K293","v":", , , ID , "},{"$f":"'Listă posturi'!I293","v":0},{"$f":"'Listă posturi'!L293","v":"-"}]
[null,289,{"$f":"'Listă posturi'!K294","v":", , , ID , "},{"$f":"'Listă posturi'!I294","v":0},{"$f":"'Listă posturi'!L294","v":"-"}]
[null,290,{"$f":"'Listă posturi'!K295","v":", , , ID , "},{"$f":"'Listă posturi'!I295","v":0},{"$f":"'Listă posturi'!L295","v":"-"}]
[null,291,{"$f":"'Listă posturi'!K296","v":", , , ID , "},{"$f":"'Listă posturi'!I296","v":0},{"$f":"'Listă posturi'!L296","v":"-"}]
[null,292,{"$f":"'Listă posturi'!K297","v":", , , ID , "},{"$f":"'Listă posturi'!I297","v":0},{"$f":"'Listă posturi'!L297","v":"-"}]
[null,293,{"$f":"'Listă posturi'!K298","v":", , , ID , "},{"$f":"'Listă posturi'!I298","v":0},{"$f":"'Listă posturi'!L298","v":"-"}]
[null,294,{"$f":"'Listă posturi'!K299","v":", , , ID , "},{"$f":"'Listă posturi'!I299","v":0},{"$f":"'Listă posturi'!L299","v":"-"}]
[null,295,{"$f":"'Listă posturi'!K300","v":", , , ID , "},{"$f":"'Listă posturi'!I300","v":0},{"$f":"'Listă posturi'!L300","v":"-"}]
[null,296,{"$f":"'Listă posturi'!K301","v":", , , ID , "},{"$f":"'Listă posturi'!I301","v":0},{"$f":"'Listă posturi'!L301","v":"-"}]
[null,297,{"$f":"'Listă posturi'!K302","v":", , , ID , "},{"$f":"'Listă posturi'!I302","v":0},{"$f":"'Listă posturi'!L302","v":"-"}]
[null,298,{"$f":"'Listă posturi'!K303","v":", , , ID , "},{"$f":"'Listă posturi'!I303","v":0},{"$f":"'Listă posturi'!L303","v":"-"}]
[null,299,{"$f":"'Listă posturi'!K304","v":", , , ID , "},{"$f":"'Listă posturi'!I304","v":0},{"$f":"'Listă posturi'!L304","v":"-"}]
[null,300,{"$f":"'Listă posturi'!K305","v":", , , ID , "},{"$f":"'Listă posturi'!I305","v":0},{"$f":"'Listă posturi'!L305","v":"-"}]
[null,301,{"$f":"'Listă posturi'!K306","v":", , , ID , "},{"$f":"'Listă posturi'!I306","v":0},{"$f":"'Listă posturi'!L306","v":"-"}]
[null,302,{"$f":"'Listă posturi'!K307","v":", , , ID , "},{"$f":"'Listă posturi'!I307","v":0},{"$f":"'Listă posturi'!L307","v":"-"}]
[null,303,{"$f":"'Listă posturi'!K308","v":", , , ID , "},{"$f":"'Listă posturi'!I308","v":0},{"$f":"'Listă posturi'!L308","v":"-"}]
[null,304,{"$f":"'Listă posturi'!K309","v":", , , ID , "},{"$f":"'Listă posturi'!I309","v":0},{"$f":"'Listă posturi'!L309","v":"-"}]
[null,305,{"$f":"'Listă posturi'!K310","v":", , , ID , "},{"$f":"'Listă posturi'!I310","v":0},{"$f":"'Listă posturi'!L310","v":"-"}]
[null,306,{"$f":"'Listă posturi'!K311","v":", , , ID , "},{"$f":"'Listă posturi'!I311","v":0},{"$f":"'Listă posturi'!L311","v":"-"}]
[null,307,{"$f":"'Listă posturi'!K312","v":", , , ID , "},{"$f":"'Listă posturi'!I312","v":0},{"$f":"'Listă posturi'!L312","v":"-"}]
[null,308,{"$f":"'Listă posturi'!K313","v":", , , ID , "},{"$f":"'Listă posturi'!I313","v":0},{"$f":"'Listă posturi'!L313","v":"-"}]
[null,309,{"$f":"'Listă posturi'!K314","v":", , , ID , "},{"$f":"'Listă posturi'!I314","v":0},{"$f":"'Listă posturi'!L314","v":"-"}]
[null,310,{"$f":"'Listă posturi'!K315","v":", , , ID , "},{"$f":"'Listă posturi'!I315","v":0},{"$f":"'Listă posturi'!L315","v":"-"}]
[null,311,{"$f":"'Listă posturi'!K316","v":", , , ID , "},{"$f":"'Listă posturi'!I316","v":0},{"$f":"'Listă posturi'!L316","v":"-"}]
[null,312,{"$f":"'Listă posturi'!K317","v":", , , ID , "},{"$f":"'Listă posturi'!I317","v":0},{"$f":"'Listă posturi'!L317","v":"-"}]
[null,313,{"$f":"'Listă posturi'!K318","v":", , , ID , "},{"$f":"'Listă posturi'!I318","v":0},{"$f":"'Listă posturi'!L318","v":"-"}]
[null,314,{"$f":"'Listă posturi'!K319","v":", , , ID , "},{"$f":"'Listă posturi'!I319","v":0},{"$f":"'Listă posturi'!L319","v":"-"}]
[null,315,{"$f":"'Listă posturi'!K320","v":", , , ID , "},{"$f":"'Listă posturi'!I320","v":0},{"$f":"'Listă posturi'!L320","v":"-"}]
[null,316,{"$f":"'Listă posturi'!K321","v":", , , ID , "},{"$f":"'Listă posturi'!I321","v":0},{"$f":"'Listă posturi'!L321","v":"-"}]
[null,317,{"$f":"'Listă posturi'!K322","v":", , , ID , "},{"$f":"'Listă posturi'!I322","v":0},{"$f":"'Listă posturi'!L322","v":"-"}]
[null,318,{"$f":"'Listă posturi'!K323","v":", , , ID , "},{"$f":"'Listă posturi'!I323","v":0},{"$f":"'Listă posturi'!L323","v":"-"}]
[null,319,{"$f":"'Listă posturi'!K324","v":", , , ID , "},{"$f":"'Listă posturi'!I324","v":0},{"$f":"'Listă posturi'!L324","v":"-"}]
[null,320,{"$f":"'Listă posturi'!K325","v":", , , ID , "},{"$f":"'Listă posturi'!I325","v":0},{"$f":"'Listă posturi'!L325","v":"-"}]
[null,321,{"$f":"'Listă posturi'!K326","v":", , , ID , "},{"$f":"'Listă posturi'!I326","v":0},{"$f":"'Listă posturi'!L326","v":"-"}]
[null,322,{"$f":"'Listă posturi'!K327","v":", , , ID , "},{"$f":"'Listă posturi'!I327","v":0},{"$f":"'Listă posturi'!L327","v":"-"}]
[null,323,{"$f":"'Listă posturi'!K328","v":", , , ID , "},{"$f":"'Listă posturi'!I328","v":0},{"$f":"'Listă posturi'!L328","v":"-"}]
[null,324,{"$f":"'Listă posturi'!K329","v":", , , ID , "},{"$f":"'Listă posturi'!I329","v":0},{"$f":"'Listă posturi'!L329","v":"-"}]
[null,325,{"$f":"'Listă posturi'!K330","v":", , , ID , "},{"$f":"'Listă posturi'!I330","v":0},{"$f":"'Listă posturi'!L330","v":"-"}]
[null,326,{"$f":"'Listă posturi'!K331","v":", , , ID , "},{"$f":"'Listă posturi'!I331","v":0},{"$f":"'Listă posturi'!L331","v":"-"}]
[null,327,{"$f":"'Listă posturi'!K332","v":", , , ID , "},{"$f":"'Listă posturi'!I332","v":0},{"$f":"'Listă posturi'!L332","v":"-"}]
[null,328,{"$f":"'Listă posturi'!K333","v":", , , ID , "},{"$f":"'Listă posturi'!I333","v":0},{"$f":"'Listă posturi'!L333","v":"-"}]
[null,329,{"$f":"'Listă posturi'!K334","v":", , , ID , "},{"$f":"'Listă posturi'!I334","v":0},{"$f":"'Listă posturi'!L334","v":"-"}]
[null,330,{"$f":"'Listă posturi'!K335","v":", , , ID , "},{"$f":"'Listă posturi'!I335","v":0},{"$f":"'Listă posturi'!L335","v":"-"}]
[null,331,{"$f":"'Listă posturi'!K336","v":", , , ID , "},{"$f":"'Listă posturi'!I336","v":0},{"$f":"'Listă posturi'!L336","v":"-"}]
[null,332,{"$f":"'Listă posturi'!K337","v":", , , ID , "},{"$f":"'Listă posturi'!I337","v":0},{"$f":"'Listă posturi'!L337","v":"-"}]
[null,333,{"$f":"'Listă posturi'!K338","v":", , , ID , "},{"$f":"'Listă posturi'!I338","v":0},{"$f":"'Listă posturi'!L338","v":"-"}]
[null,334,{"$f":"'Listă posturi'!K339","v":", , , ID , "},{"$f":"'Listă posturi'!I339","v":0},{"$f":"'Listă posturi'!L339","v":"-"}]
[null,335,{"$f":"'Listă posturi'!K340","v":", , , ID , "},{"$f":"'Listă posturi'!I340","v":0},{"$f":"'Listă posturi'!L340","v":"-"}]
[null,336,{"$f":"'Listă posturi'!K341","v":", , , ID , "},{"$f":"'Listă posturi'!I341","v":0},{"$f":"'Listă posturi'!L341","v":"-"}]
[null,337,{"$f":"'Listă posturi'!K342","v":", , , ID , "},{"$f":"'Listă posturi'!I342","v":0},{"$f":"'Listă posturi'!L342","v":"-"}]
[null,338,{"$f":"'Listă posturi'!K343","v":", , , ID , "},{"$f":"'Listă posturi'!I343","v":0},{"$f":"'Listă posturi'!L343","v":"-"}]
[null,339,{"$f":"'Listă posturi'!K344","v":", , , ID , "},{"$f":"'Listă posturi'!I344","v":0},{"$f":"'Listă posturi'!L344","v":"-"}]
[null,340,{"$f":"'Listă posturi'!K345","v":", , , ID , "},{"$f":"'Listă posturi'!I345","v":0},{"$f":"'Listă posturi'!L345","v":"-"}]
[null,341,{"$f":"'Listă posturi'!K346","v":", , , ID , "},{"$f":"'Listă posturi'!I346","v":0},{"$f":"'Listă posturi'!L346","v":"-"}]
[null,342,{"$f":"'Listă posturi'!K347","v":", , , ID , "},{"$f":"'Listă posturi'!I347","v":0},{"$f":"'Listă posturi'!L347","v":"-"}]
[null,343,{"$f":"'Listă posturi'!K348","v":", , , ID , "},{"$f":"'Listă posturi'!I348","v":0},{"$f":"'Listă posturi'!L348","v":"-"}]
[null,344,{"$f":"'Listă posturi'!K349","v":", , , ID , "},{"$f":"'Listă posturi'!I349","v":0},{"$f":"'Listă posturi'!L349","v":"-"}]
[null,345,{"$f":"'Listă posturi'!K350","v":", , , ID , "},{"$f":"'Listă posturi'!I350","v":0},{"$f":"'Listă posturi'!L350","v":"-"}]
[null,346,{"$f":"'Listă posturi'!K351","v":", , , ID , "},{"$f":"'Listă posturi'!I351","v":0},{"$f":"'Listă posturi'!L351","v":"-"}]
[null,347,{"$f":"'Listă posturi'!K352","v":", , , ID , "},{"$f":"'Listă posturi'!I352","v":0},{"$f":"'Listă posturi'!L352","v":"-"}]
[null,348,{"$f":"'Listă posturi'!K353","v":", , , ID , "},{"$f":"'Listă posturi'!I353","v":0},{"$f":"'Listă posturi'!L353","v":"-"}]
[null,349,{"$f":"'Listă posturi'!K354","v":", , , ID , "},{"$f":"'Listă posturi'!I354","v":0},{"$f":"'Listă posturi'!L354","v":"-"}]
[null,350,{"$f":"'Listă posturi'!K355","v":", , , ID , "},{"$f":"'Listă posturi'!I355","v":0},{"$f":"'Listă posturi'!L355","v":"-"}]
[null,351,{"$f":"'Listă posturi'!K356","v":", , , ID , "},{"$f":"'Listă posturi'!I356","v":0},{"$f":"'Listă posturi'!L356","v":"-"}]
[null,352,{"$f":"'Listă posturi'!K357","v":", , , ID , "},{"$f":"'Listă posturi'!I357","v":0},{"$f":"'Listă posturi'!L357","v":"-"}]
[null,353,{"$f":"'Listă posturi'!K358","v":", , , ID , "},{"$f":"'Listă posturi'!I358","v":0},{"$f":"'Listă posturi'!L358","v":"-"}]
[null,354,{"$f":"'Listă posturi'!K359","v":", , , ID , "},{"$f":"'Listă posturi'!I359","v":0},{"$f":"'Listă posturi'!L359","v":"-"}]
[null,355,{"$f":"'Listă posturi'!K360","v":", , , ID , "},{"$f":"'Listă posturi'!I360","v":0},{"$f":"'Listă posturi'!L360","v":"-"}]
[null,356,{"$f":"'Listă posturi'!K361","v":", , , ID , "},{"$f":"'Listă posturi'!I361","v":0},{"$f":"'Listă posturi'!L361","v":"-"}]
[null,357,{"$f":"'Listă posturi'!K362","v":", , , ID , "},{"$f":"'Listă posturi'!I362","v":0},{"$f":"'Listă posturi'!L362","v":"-"}]
[null,358,{"$f":"'Listă posturi'!K363","v":", , , ID , "},{"$f":"'Listă posturi'!I363","v":0},{"$f":"'Listă posturi'!L363","v":"-"}]
[null,359,{"$f":"'Listă posturi'!K364","v":", , , ID , "},{"$f":"'Listă posturi'!I364","v":0},{"$f":"'Listă posturi'!L364","v":"-"}]
[null,360,{"$f":"'Listă posturi'!K365","v":", , , ID , "},{"$f":"'Listă posturi'!I365","v":0},{"$f":"'Listă posturi'!L365","v":"-"}]
[null,361,{"$f":"'Listă posturi'!K366","v":", , , ID , "},{"$f":"'Listă posturi'!I366","v":0},{"$f":"'Listă posturi'!L366","v":"-"}]
[null,362,{"$f":"'Listă posturi'!K367","v":", , , ID , "},{"$f":"'Listă posturi'!I367","v":0},{"$f":"'Listă posturi'!L367","v":"-"}]
[null,363,{"$f":"'Listă posturi'!K368","v":", , , ID , "},{"$f":"'Listă posturi'!I368","v":0},{"$f":"'Listă posturi'!L368","v":"-"}]
[null,364,{"$f":"'Listă posturi'!K369","v":", , , ID , "},{"$f":"'Listă posturi'!I369","v":0},{"$f":"'Listă posturi'!L369","v":"-"}]
[null,365,{"$f":"'Listă posturi'!K370","v":", , , ID , "},{"$f":"'Listă posturi'!I370","v":0},{"$f":"'Listă posturi'!L370","v":"-"}]
[null,366,{"$f":"'Listă posturi'!K371","v":", , , ID , "},{"$f":"'Listă posturi'!I371","v":0},{"$f":"'Listă posturi'!L371","v":"-"}]
[null,367,{"$f":"'Listă posturi'!K372","v":", , , ID , "},{"$f":"'Listă posturi'!I372","v":0},{"$f":"'Listă posturi'!L372","v":"-"}]
[null,368,{"$f":"'Listă posturi'!K373","v":", , , ID , "},{"$f":"'Listă posturi'!I373","v":0},{"$f":"'Listă posturi'!L373","v":"-"}]
[null,369,{"$f":"'Listă posturi'!K374","v":", , , ID , "},{"$f":"'Listă posturi'!I374","v":0},{"$f":"'Listă posturi'!L374","v":"-"}]
[null,370,{"$f":"'Listă posturi'!K375","v":", , , ID , "},{"$f":"'Listă posturi'!I375","v":0},{"$f":"'Listă posturi'!L375","v":"-"}]
[null,371,{"$f":"'Listă posturi'!K376","v":", , , ID , "},{"$f":"'Listă posturi'!I376","v":0},{"$f":"'Listă posturi'!L376","v":"-"}]
[null,372,{"$f":"'Listă posturi'!K377","v":", , , ID , "},{"$f":"'Listă posturi'!I377","v":0},{"$f":"'Listă posturi'!L377","v":"-"}]
[null,373,{"$f":"'Listă posturi'!K378","v":", , , ID , "},{"$f":"'Listă posturi'!I378","v":0},{"$f":"'Listă posturi'!L378","v":"-"}]
[null,374,{"$f":"'Listă posturi'!K379","v":", , , ID , "},{"$f":"'Listă posturi'!I379","v":0},{"$f":"'Listă posturi'!L379","v":"-"}]
[null,375,{"$f":"'Listă posturi'!K380","v":", , , ID , "},{"$f":"'Listă posturi'!I380","v":0},{"$f":"'Listă posturi'!L380","v":"-"}]
[null,376,{"$f":"'Listă posturi'!K381","v":", , , ID , "},{"$f":"'Listă posturi'!I381","v":0},{"$f":"'Listă posturi'!L381","v":"-"}]
[null,377,{"$f":"'Listă posturi'!K382","v":", , , ID , "},{"$f":"'Listă posturi'!I382","v":0},{"$f":"'Listă posturi'!L382","v":"-"}]
[null,378,{"$f":"'Listă posturi'!K383","v":", , , ID , "},{"$f":"'Listă posturi'!I383","v":0},{"$f":"'Listă posturi'!L383","v":"-"}]
[null,379,{"$f":"'Listă posturi'!K384","v":", , , ID , "},{"$f":"'Listă posturi'!I384","v":0},{"$f":"'Listă posturi'!L384","v":"-"}]
[null,380,{"$f":"'Listă posturi'!K385","v":", , , ID , "},{"$f":"'Listă posturi'!I385","v":0},{"$f":"'Listă posturi'!L385","v":"-"}]
[null,381,{"$f":"'Listă posturi'!K386","v":", , , ID , "},{"$f":"'Listă posturi'!I386","v":0},{"$f":"'Listă posturi'!L386","v":"-"}]
[null,382,{"$f":"'Listă posturi'!K387","v":", , , ID , "},{"$f":"'Listă posturi'!I387","v":0},{"$f":"'Listă posturi'!L387","v":"-"}]
[null,383,{"$f":"'Listă posturi'!K388","v":", , , ID , "},{"$f":"'Listă posturi'!I388","v":0},{"$f":"'Listă posturi'!L388","v":"-"}]
[null,384,{"$f":"'Listă posturi'!K389","v":", , , ID , "},{"$f":"'Listă posturi'!I389","v":0},{"$f":"'Listă posturi'!L389","v":"-"}]
[null,385,{"$f":"'Listă posturi'!K390","v":", , , ID , "},{"$f":"'Listă posturi'!I390","v":0},{"$f":"'Listă posturi'!L390","v":"-"}]
[null,386,{"$f":"'Listă posturi'!K391","v":", , , ID , "},{"$f":"'Listă posturi'!I391","v":0},{"$f":"'Listă posturi'!L391","v":"-"}]
[null,387,{"$f":"'Listă posturi'!K392","v":", , , ID , "},{"$f":"'Listă posturi'!I392","v":0},{"$f":"'Listă posturi'!L392","v":"-"}]
[null,388,{"$f":"'Listă posturi'!K393","v":", , , ID , "},{"$f":"'Listă posturi'!I393","v":0},{"$f":"'Listă posturi'!L393","v":"-"}]
[null,389,{"$f":"'Listă posturi'!K394","v":", , , ID , "},{"$f":"'Listă posturi'!I394","v":0},{"$f":"'Listă posturi'!L394","v":"-"}]
[null,390,{"$f":"'Listă posturi'!K395","v":", , , ID , "},{"$f":"'Listă posturi'!I395","v":0},{"$f":"'Listă posturi'!L395","v":"-"}]
[null,391,{"$f":"'Listă posturi'!K396","v":", , , ID , "},{"$f":"'Listă posturi'!I396","v":0},{"$f":"'Listă posturi'!L396","v":"-"}]
[null,392,{"$f":"'Listă posturi'!K397","v":", , , ID , "},{"$f":"'Listă posturi'!I397","v":0},{"$f":"'Listă posturi'!L397","v":"-"}]
[null,393,{"$f":"'Listă posturi'!K398","v":", , , ID , "},{"$f":"'Listă posturi'!I398","v":0},{"$f":"'Listă posturi'!L398","v":"-"}]
[null,394,{"$f":"'Listă posturi'!K399","v":", , , ID , "},{"$f":"'Listă posturi'!I399","v":0},{"$f":"'Listă posturi'!L399","v":"-"}]
[null,395,{"$f":"'Listă posturi'!K400","v":", , , ID , "},{"$f":"'Listă posturi'!I400","v":0},{"$f":"'Listă posturi'!L400","v":"-"}]
[null,396,{"$f":"'Listă posturi'!K401","v":", , , ID , "},{"$f":"'Listă posturi'!I401","v":0},{"$f":"'Listă posturi'!L401","v":"-"}]
[null,397,{"$f":"'Listă posturi'!K402","v":", , , ID , "},{"$f":"'Listă posturi'!I402","v":0},{"$f":"'Listă posturi'!L402","v":"-"}]
[null,398,{"$f":"'Listă posturi'!K403","v":", , , ID , "},{"$f":"'Listă posturi'!I403","v":0},{"$f":"'Listă posturi'!L403","v":"-"}]
[null,399,{"$f":"'Listă posturi'!K404","v":", , , ID , "},{"$f":"'Listă posturi'!I404","v":0},{"$f":"'Listă posturi'!L404","v":"-"}]
[null,400,{"$f":"'Listă posturi'!K405","v":", , , ID , "},{"$f":"'Listă posturi'!I405","v":0},{"$f":"'Listă posturi'!L405","v":"-"}]
[null,401,{"$f":"'Listă posturi'!K406","v":", , , ID , "},{"$f":"'Listă posturi'!I406","v":0},{"$f":"'Listă posturi'!L406","v":"-"}]
[null,402,{"$f":"'Listă posturi'!K407","v":", , , ID , "},{"$f":"'Listă posturi'!I407","v":0},{"$f":"'Listă posturi'!L407","v":"-"}]
[null,403,{"$f":"'Listă posturi'!K408","v":", , , ID , "},{"$f":"'Listă posturi'!I408","v":0},{"$f":"'Listă posturi'!L408","v":"-"}]
[null,404,{"$f":"'Listă posturi'!K409","v":", , , ID , "},{"$f":"'Listă posturi'!I409","v":0},{"$f":"'Listă posturi'!L409","v":"-"}]
[null,405,{"$f":"'Listă posturi'!K410","v":", , , ID , "},{"$f":"'Listă posturi'!I410","v":0},{"$f":"'Listă posturi'!L410","v":"-"}]
[null,406,{"$f":"'Listă posturi'!K411","v":", , , ID , "},{"$f":"'Listă posturi'!I411","v":0},{"$f":"'Listă posturi'!L411","v":"-"}]
[null,407,{"$f":"'Listă posturi'!K412","v":", , , ID , "},{"$f":"'Listă posturi'!I412","v":0},{"$f":"'Listă posturi'!L412","v":"-"}]
[null,408,{"$f":"'Listă posturi'!K413","v":", , , ID , "},{"$f":"'Listă posturi'!I413","v":0},{"$f":"'Listă posturi'!L413","v":"-"}]
[null,409,{"$f":"'Listă posturi'!K414","v":", , , ID , "},{"$f":"'Listă posturi'!I414","v":0},{"$f":"'Listă posturi'!L414","v":"-"}]
[null,410,{"$f":"'Listă posturi'!K415","v":", , , ID , "},{"$f":"'Listă posturi'!I415","v":0},{"$f":"'Listă posturi'!L415","v":"-"}]
[null,411,{"$f":"'Listă posturi'!K416","v":", , , ID , "},{"$f":"'Listă posturi'!I416","v":0},{"$f":"'Listă posturi'!L416","v":"-"}]
[null,412,{"$f":"'Listă posturi'!K417","v":", , , ID , "},{"$f":"'Listă posturi'!I417","v":0},{"$f":"'Listă posturi'!L417","v":"-"}]
[null,413,{"$f":"'Listă posturi'!K418","v":", , , ID , "},{"$f":"'Listă posturi'!I418","v":0},{"$f":"'Listă posturi'!L418","v":"-"}]
[null,414,{"$f":"'Listă posturi'!K419","v":", , , ID , "},{"$f":"'Listă posturi'!I419","v":0},{"$f":"'Listă posturi'!L419","v":"-"}]
[null,415,{"$f":"'Listă posturi'!K420","v":", , , ID , "},{"$f":"'Listă posturi'!I420","v":0},{"$f":"'Listă posturi'!L420","v":"-"}]
[null,416,{"$f":"'Listă posturi'!K421","v":", , , ID , "},{"$f":"'Listă posturi'!I421","v":0},{"$f":"'Listă posturi'!L421","v":"-"}]
[null,417,{"$f":"'Listă posturi'!K422","v":", , , ID , "},{"$f":"'Listă posturi'!I422","v":0},{"$f":"'Listă posturi'!L422","v":"-"}]
[null,418,{"$f":"'Listă posturi'!K423","v":", , , ID , "},{"$f":"'Listă posturi'!I423","v":0},{"$f":"'Listă posturi'!L423","v":"-"}]
[null,419,{"$f":"'Listă posturi'!K424","v":", , , ID , "},{"$f":"'Listă posturi'!I424","v":0},{"$f":"'Listă posturi'!L424","v":"-"}]
[null,420,{"$f":"'Listă posturi'!K425","v":", , , ID , "},{"$f":"'Listă posturi'!I425","v":0},{"$f":"'Listă posturi'!L425","v":"-"}]
[null,421,{"$f":"'Listă posturi'!K426","v":", , , ID , "},{"$f":"'Listă posturi'!I426","v":0},{"$f":"'Listă posturi'!L426","v":"-"}]
[null,422,{"$f":"'Listă posturi'!K427","v":", , , ID , "},{"$f":"'Listă posturi'!I427","v":0},{"$f":"'Listă posturi'!L427","v":"-"}]
[null,423,{"$f":"'Listă posturi'!K428","v":", , , ID , "},{"$f":"'Listă posturi'!I428","v":0},{"$f":"'Listă posturi'!L428","v":"-"}]
[null,424,{"$f":"'Listă posturi'!K429","v":", , , ID , "},{"$f":"'Listă posturi'!I429","v":0},{"$f":"'Listă posturi'!L429","v":"-"}]
[null,425,{"$f":"'Listă posturi'!K430","v":", , , ID , "},{"$f":"'Listă posturi'!I430","v":0},{"$f":"'Listă posturi'!L430","v":"-"}]
[null,426,{"$f":"'Listă posturi'!K431","v":", , , ID , "},{"$f":"'Listă posturi'!I431","v":0},{"$f":"'Listă posturi'!L431","v":"-"}]
[null,427,{"$f":"'Listă posturi'!K432","v":", , , ID , "},{"$f":"'Listă posturi'!I432","v":0},{"$f":"'Listă posturi'!L432","v":"-"}]
[null,428,{"$f":"'Listă posturi'!K433","v":", , , ID , "},{"$f":"'Listă posturi'!I433","v":0},{"$f":"'Listă posturi'!L433","v":"-"}]
[null,429,{"$f":"'Listă posturi'!K434","v":", , , ID , "},{"$f":"'Listă posturi'!I434","v":0},{"$f":"'Listă posturi'!L434","v":"-"}]
[null,430,{"$f":"'Listă posturi'!K435","v":", , , ID , "},{"$f":"'Listă posturi'!I435","v":0},{"$f":"'Listă posturi'!L435","v":"-"}]
[null,431,{"$f":"'Listă posturi'!K436","v":", , , ID , "},{"$f":"'Listă posturi'!I436","v":0},{"$f":"'Listă posturi'!L436","v":"-"}]
[null,432,{"$f":"'Listă posturi'!K437","v":", , , ID , "},{"$f":"'Listă posturi'!I437","v":0},{"$f":"'Listă posturi'!L437","v":"-"}]
[null,433,{"$f":"'Listă posturi'!K438","v":", , , ID , "},{"$f":"'Listă posturi'!I438","v":0},{"$f":"'Listă posturi'!L438","v":"-"}]
[null,434,{"$f":"'Listă posturi'!K439","v":", , , ID , "},{"$f":"'Listă posturi'!I439","v":0},{"$f":"'Listă posturi'!L439","v":"-"}]
[null,435,{"$f":"'Listă posturi'!K440","v":", , , ID , "},{"$f":"'Listă posturi'!I440","v":0},{"$f":"'Listă posturi'!L440","v":"-"}]
[null,436,{"$f":"'Listă posturi'!K441","v":", , , ID , "},{"$f":"'Listă posturi'!I441","v":0},{"$f":"'Listă posturi'!L441","v":"-"}]
[null,437,{"$f":"'Listă posturi'!K442","v":", , , ID , "},{"$f":"'Listă posturi'!I442","v":0},{"$f":"'Listă posturi'!L442","v":"-"}]
[null,438,{"$f":"'Listă posturi'!K443","v":", , , ID , "},{"$f":"'Listă posturi'!I443","v":0},{"$f":"'Listă posturi'!L443","v":"-"}]
[null,439,{"$f":"'Listă posturi'!K444","v":", , , ID , "},{"$f":"'Listă posturi'!I444","v":0},{"$f":"'Listă posturi'!L444","v":"-"}]
[null,440,{"$f":"'Listă posturi'!K445","v":", , , ID , "},{"$f":"'Listă posturi'!I445","v":0},{"$f":"'Listă posturi'!L445","v":"-"}]
[null,441,{"$f":"'Listă posturi'!K446","v":", , , ID , "},{"$f":"'Listă posturi'!I446","v":0},{"$f":"'Listă posturi'!L446","v":"-"}]
[null,442,{"$f":"'Listă posturi'!K447","v":", , , ID , "},{"$f":"'Listă posturi'!I447","v":0},{"$f":"'Listă posturi'!L447","v":"-"}]
[null,443,{"$f":"'Listă posturi'!K448","v":", , , ID , "},{"$f":"'Listă posturi'!I448","v":0},{"$f":"'Listă posturi'!L448","v":"-"}]
[null,444,{"$f":"'Listă posturi'!K449","v":", , , ID , "},{"$f":"'Listă posturi'!I449","v":0},{"$f":"'Listă posturi'!L449","v":"-"}]
[null,445,{"$f":"'Listă posturi'!K450","v":", , , ID , "},{"$f":"'Listă posturi'!I450","v":0},{"$f":"'Listă posturi'!L450","v":"-"}]
[null,446,{"$f":"'Listă posturi'!K451","v":", , , ID , "},{"$f":"'Listă posturi'!I451","v":0},{"$f":"'Listă posturi'!L451","v":"-"}]
[null,447,{"$f":"'Listă posturi'!K452","v":", , , ID , "},{"$f":"'Listă posturi'!I452","v":0},{"$f":"'Listă posturi'!L452","v":"-"}]
[null,448,{"$f":"'Listă posturi'!K453","v":", , , ID , "},{"$f":"'Listă posturi'!I453","v":0},{"$f":"'Listă posturi'!L453","v":"-"}]
[null,449,{"$f":"'Listă posturi'!K454","v":", , , ID , "},{"$f":"'Listă posturi'!I454","v":0},{"$f":"'Listă posturi'!L454","v":"-"}]
[null,450,{"$f":"'Listă posturi'!K455","v":", , , ID , "},{"$f":"'Listă posturi'!I455","v":0},{"$f":"'Listă posturi'!L455","v":"-"}]
[null,451,{"$f":"'Listă posturi'!K456","v":", , , ID , "},{"$f":"'Listă posturi'!I456","v":0},{"$f":"'Listă posturi'!L456","v":"-"}]
[null,452,{"$f":"'Listă posturi'!K457","v":", , , ID , "},{"$f":"'Listă posturi'!I457","v":0},{"$f":"'Listă posturi'!L457","v":"-"}]
[null,453,{"$f":"'Listă posturi'!K458","v":", , , ID , "},{"$f":"'Listă posturi'!I458","v":0},{"$f":"'Listă posturi'!L458","v":"-"}]
[null,454,{"$f":"'Listă posturi'!K459","v":", , , ID , "},{"$f":"'Listă posturi'!I459","v":0},{"$f":"'Listă posturi'!L459","v":"-"}]
[null,455,{"$f":"'Listă posturi'!K460","v":", , , ID , "},{"$f":"'Listă posturi'!I460","v":0},{"$f":"'Listă posturi'!L460","v":"-"}]
[null,456,{"$f":"'Listă posturi'!K461","v":", , , ID , "},{"$f":"'Listă posturi'!I461","v":0},{"$f":"'Listă posturi'!L461","v":"-"}]
[null,457,{"$f":"'Listă posturi'!K462","v":", , , ID , "},{"$f":"'Listă posturi'!I462","v":0},{"$f":"'Listă posturi'!L462","v":"-"}]
[null,458,{"$f":"'Listă posturi'!K463","v":", , , ID , "},{"$f":"'Listă posturi'!I463","v":0},{"$f":"'Listă posturi'!L463","v":"-"}]
[null,459,{"$f":"'Listă posturi'!K464","v":", , , ID , "},{"$f":"'Listă posturi'!I464","v":0},{"$f":"'Listă posturi'!L464","v":"-"}]
[null,460,{"$f":"'Listă posturi'!K465","v":", , , ID , "},{"$f":"'Listă posturi'!I465","v":0},{"$f":"'Listă posturi'!L465","v":"-"}]
[null,461,{"$f":"'Listă posturi'!K466","v":", , , ID , "},{"$f":"'Listă posturi'!I466","v":0},{"$f":"'Listă posturi'!L466","v":"-"}]
[null,462,{"$f":"'Listă posturi'!K467","v":", , , ID , "},{"$f":"'Listă posturi'!I467","v":0},{"$f":"'Listă posturi'!L467","v":"-"}]
[null,463,{"$f":"'Listă posturi'!K468","v":", , , ID , "},{"$f":"'Listă posturi'!I468","v":0},{"$f":"'Listă posturi'!L468","v":"-"}]
[null,464,{"$f":"'Listă posturi'!K469","v":", , , ID , "},{"$f":"'Listă posturi'!I469","v":0},{"$f":"'Listă posturi'!L469","v":"-"}]
[null,465,{"$f":"'Listă posturi'!K470","v":", , , ID , "},{"$f":"'Listă posturi'!I470","v":0},{"$f":"'Listă posturi'!L470","v":"-"}]
[null,466,{"$f":"'Listă posturi'!K471","v":", , , ID , "},{"$f":"'Listă posturi'!I471","v":0},{"$f":"'Listă posturi'!L471","v":"-"}]
[null,467,{"$f":"'Listă posturi'!K472","v":", , , ID , "},{"$f":"'Listă posturi'!I472","v":0},{"$f":"'Listă posturi'!L472","v":"-"}]
[null,468,{"$f":"'Listă posturi'!K473","v":", , , ID , "},{"$f":"'Listă posturi'!I473","v":0},{"$f":"'Listă posturi'!L473","v":"-"}]
[null,469,{"$f":"'Listă posturi'!K474","v":", , , ID , "},{"$f":"'Listă posturi'!I474","v":0},{"$f":"'Listă posturi'!L474","v":"-"}]
[null,470,{"$f":"'Listă posturi'!K475","v":", , , ID , "},{"$f":"'Listă posturi'!I475","v":0},{"$f":"'Listă posturi'!L475","v":"-"}]
[null,471,{"$f":"'Listă posturi'!K476","v":", , , ID , "},{"$f":"'Listă posturi'!I476","v":0},{"$f":"'Listă posturi'!L476","v":"-"}]
[null,472,{"$f":"'Listă posturi'!K477","v":", , , ID , "},{"$f":"'Listă posturi'!I477","v":0},{"$f":"'Listă posturi'!L477","v":"-"}]
[null,473,{"$f":"'Listă posturi'!K478","v":", , , ID , "},{"$f":"'Listă posturi'!I478","v":0},{"$f":"'Listă posturi'!L478","v":"-"}]
[null,474,{"$f":"'Listă posturi'!K479","v":", , , ID , "},{"$f":"'Listă posturi'!I479","v":0},{"$f":"'Listă posturi'!L479","v":"-"}]
[null,475,{"$f":"'Listă posturi'!K480","v":", , , ID , "},{"$f":"'Listă posturi'!I480","v":0},{"$f":"'Listă posturi'!L480","v":"-"}]
[null,476,{"$f":"'Listă posturi'!K481","v":", , , ID , "},{"$f":"'Listă posturi'!I481","v":0},{"$f":"'Listă posturi'!L481","v":"-"}]
[null,477,{"$f":"'Listă posturi'!K482","v":", , , ID , "},{"$f":"'Listă posturi'!I482","v":0},{"$f":"'Listă posturi'!L482","v":"-"}]
[null,478,{"$f":"'Listă posturi'!K483","v":", , , ID , "},{"$f":"'Listă posturi'!I483","v":0},{"$f":"'Listă posturi'!L483","v":"-"}]
[null,479,{"$f":"'Listă posturi'!K484","v":", , , ID , "},{"$f":"'Listă posturi'!I484","v":0},{"$f":"'Listă posturi'!L484","v":"-"}]
[null,480,{"$f":"'Listă posturi'!K485","v":", , , ID , "},{"$f":"'Listă posturi'!I485","v":0},{"$f":"'Listă posturi'!L485","v":"-"}]
[null,481,{"$f":"'Listă posturi'!K486","v":", , , ID , "},{"$f":"'Listă posturi'!I486","v":0},{"$f":"'Listă posturi'!L486","v":"-"}]
[null,482,{"$f":"'Listă posturi'!K487","v":", , , ID , "},{"$f":"'Listă posturi'!I487","v":0},{"$f":"'Listă posturi'!L487","v":"-"}]
[null,483,{"$f":"'Listă posturi'!K488","v":", , , ID , "},{"$f":"'Listă posturi'!I488","v":0},{"$f":"'Listă posturi'!L488","v":"-"}]
[null,484,{"$f":"'Listă posturi'!K489","v":", , , ID , "},{"$f":"'Listă posturi'!I489","v":0},{"$f":"'Listă posturi'!L489","v":"-"}]
[null,485,{"$f":"'Listă posturi'!K490","v":", , , ID , "},{"$f":"'Listă posturi'!I490","v":0},{"$f":"'Listă posturi'!L490","v":"-"}]
[null,486,{"$f":"'Listă posturi'!K491","v":", , , ID , "},{"$f":"'Listă posturi'!I491","v":0},{"$f":"'Listă posturi'!L491","v":"-"}]
[null,487,{"$f":"'Listă posturi'!K492","v":", , , ID , "},{"$f":"'Listă posturi'!I492","v":0},{"$f":"'Listă posturi'!L492","v":"-"}]
[null,488,{"$f":"'Listă posturi'!K493","v":", , , ID , "},{"$f":"'Listă posturi'!I493","v":0},{"$f":"'Listă posturi'!L493","v":"-"}]
[null,489,{"$f":"'Listă posturi'!K494","v":", , , ID , "},{"$f":"'Listă posturi'!I494","v":0},{"$f":"'Listă posturi'!L494","v":"-"}]
[null,490,{"$f":"'Listă posturi'!K495","v":", , , ID , "},{"$f":"'Listă posturi'!I495","v":0},{"$f":"'Listă posturi'!L495","v":"-"}]
[null,491,{"$f":"'Listă posturi'!K496","v":", , , ID , "},{"$f":"'Listă posturi'!I496","v":0},{"$f":"'Listă posturi'!L496","v":"-"}]
[null,492,{"$f":"'Listă posturi'!K497","v":", , , ID , "},{"$f":"'Listă posturi'!I497","v":0},{"$f":"'Listă posturi'!L497","v":"-"}]
[null,493,{"$f":"'Listă posturi'!K498","v":", , , ID , "},{"$f":"'Listă posturi'!I498","v":0},{"$f":"'Listă posturi'!L498","v":"-"}]
[null,494,{"$f":"'Listă posturi'!K499","v":", , , ID , "},{"$f":"'Listă posturi'!I499","v":0},{"$f":"'Listă posturi'!L499","v":"-"}]
[null,495,{"$f":"'Listă posturi'!K500","v":", , , ID , "},{"$f":"'Listă posturi'!I500","v":0},{"$f":"'Listă posturi'!L500","v":"-"}]
[null,496,{"$f":"'Listă posturi'!K501","v":", , , ID , "},{"$f":"'Listă posturi'!I501","v":0},{"$f":"'Listă posturi'!L501","v":"-"}]
[null,497,{"$f":"'Listă posturi'!K502","v":", , , ID , "},{"$f":"'Listă posturi'!I502","v":0},{"$f":"'Listă posturi'!L502","v":"-"}]
[null,498,{"$f":"'Listă posturi'!K503","v":", , , ID , "},{"$f":"'Listă posturi'!I503","v":0},{"$f":"'Listă posturi'!L503","v":"-"}]
[null,499,{"$f":"'Listă posturi'!K504","v":", , , ID , "},{"$f":"'Listă posturi'!I504","v":0},{"$f":"'Listă posturi'!L504","v":"-"}]
[null,500,{"$f":"'Listă posturi'!K505","v":", , , ID , "},{"$f":"'Listă posturi'!I505","v":0},{"$f":"'Listă posturi'!L505","v":"-"}]
[null,501,{"$f":"'Listă posturi'!K506","v":", , , ID , "},{"$f":"'Listă posturi'!I506","v":0},{"$f":"'Listă posturi'!L506","v":"-"}]
[null,502,{"$f":"'Listă posturi'!K507","v":", , , ID , "},{"$f":"'Listă posturi'!I507","v":0},{"$f":"'Listă posturi'!L507","v":"-"}]
[null,503,{"$f":"'Listă posturi'!K508","v":", , , ID , "},{"$f":"'Listă posturi'!I508","v":0},{"$f":"'Listă posturi'!L508","v":"-"}]
[null,504,{"$f":"'Listă posturi'!K509","v":", , , ID , "},{"$f":"'Listă posturi'!I509","v":0},{"$f":"'Listă posturi'!L509","v":"-"}]
[null,505,{"$f":"'Listă posturi'!K510","v":", , , ID , "},{"$f":"'Listă posturi'!I510","v":0},{"$f":"'Listă posturi'!L510","v":"-"}]
[null,506,{"$f":"'Listă posturi'!K511","v":", , , ID , "},{"$f":"'Listă posturi'!I511","v":0},{"$f":"'Listă posturi'!L511","v":"-"}]
[null,507,{"$f":"'Listă posturi'!K512","v":", , , ID , "},{"$f":"'Listă posturi'!I512","v":0},{"$f":"'Listă posturi'!L512","v":"-"}]
[null,508,{"$f":"'Listă posturi'!K513","v":", , , ID , "},{"$f":"'Listă posturi'!I513","v":0},{"$f":"'Listă posturi'!L513","v":"-"}]
[null,509,{"$f":"'Listă posturi'!K514","v":", , , ID , "},{"$f":"'Listă posturi'!I514","v":0},{"$f":"'Listă posturi'!L514","v":"-"}]
[null,510,{"$f":"'Listă posturi'!K515","v":", , , ID , "},{"$f":"'Listă posturi'!I515","v":0},{"$f":"'Listă posturi'!L515","v":"-"}]
[null,511,{"$f":"'Listă posturi'!K516","v":", , , ID , "},{"$f":"'Listă posturi'!I516","v":0},{"$f":"'Listă posturi'!L516","v":"-"}]
[null,512,{"$f":"'Listă posturi'!K517","v":", , , ID , "},{"$f":"'Listă posturi'!I517","v":0},{"$f":"'Listă posturi'!L517","v":"-"}]
[null,513,{"$f":"'Listă posturi'!K518","v":", , , ID , "},{"$f":"'Listă posturi'!I518","v":0},{"$f":"'Listă posturi'!L518","v":"-"}]
[null,514,{"$f":"'Listă posturi'!K519","v":", , , ID , "},{"$f":"'Listă posturi'!I519","v":0},{"$f":"'Listă posturi'!L519","v":"-"}]
[null,515,{"$f":"'Listă posturi'!K520","v":", , , ID , "},{"$f":"'Listă posturi'!I520","v":0},{"$f":"'Listă posturi'!L520","v":"-"}]
[null,516,{"$f":"'Listă posturi'!K521","v":", , , ID , "},{"$f":"'Listă posturi'!I521","v":0},{"$f":"'Listă posturi'!L521","v":"-"}]
[null,517,{"$f":"'Listă posturi'!K522","v":", , , ID , "},{"$f":"'Listă posturi'!I522","v":0},{"$f":"'Listă posturi'!L522","v":"-"}]
[null,518,{"$f":"'Listă posturi'!K523","v":", , , ID , "},{"$f":"'Listă posturi'!I523","v":0},{"$f":"'Listă posturi'!L523","v":"-"}]
[null,519,{"$f":"'Listă posturi'!K524","v":", , , ID , "},{"$f":"'Listă posturi'!I524","v":0},{"$f":"'Listă posturi'!L524","v":"-"}]
[null,520,{"$f":"'Listă posturi'!K525","v":", , , ID , "},{"$f":"'Listă posturi'!I525","v":0},{"$f":"'Listă posturi'!L525","v":"-"}]
[null,521,{"$f":"'Listă posturi'!K526","v":", , , ID , "},{"$f":"'Listă posturi'!I526","v":0},{"$f":"'Listă posturi'!L526","v":"-"}]
[null,522,{"$f":"'Listă posturi'!K527","v":", , , ID , "},{"$f":"'Listă posturi'!I527","v":0},{"$f":"'Listă posturi'!L527","v":"-"}]
[null,523,{"$f":"'Listă posturi'!K528","v":", , , ID , "},{"$f":"'Listă posturi'!I528","v":0},{"$f":"'Listă posturi'!L528","v":"-"}]
[null,524,{"$f":"'Listă posturi'!K529","v":", , , ID , "},{"$f":"'Listă posturi'!I529","v":0},{"$f":"'Listă posturi'!L529","v":"-"}]
[null,525,{"$f":"'Listă posturi'!K530","v":", , , ID , "},{"$f":"'Listă posturi'!I530","v":0},{"$f":"'Listă posturi'!L530","v":"-"}]
[null,526,{"$f":"'Listă posturi'!K531","v":", , , ID , "},{"$f":"'Listă posturi'!I531","v":0},{"$f":"'Listă posturi'!L531","v":"-"}]
[null,527,{"$f":"'Listă posturi'!K532","v":", , , ID , "},{"$f":"'Listă posturi'!I532","v":0},{"$f":"'Listă posturi'!L532","v":"-"}]
[null,528,{"$f":"'Listă posturi'!K533","v":", , , ID , "},{"$f":"'Listă posturi'!I533","v":0},{"$f":"'Listă posturi'!L533","v":"-"}]
[null,529,{"$f":"'Listă posturi'!K534","v":", , , ID , "},{"$f":"'Listă posturi'!I534","v":0},{"$f":"'Listă posturi'!L534","v":"-"}]
[null,530,{"$f":"'Listă posturi'!K535","v":", , , ID , "},{"$f":"'Listă posturi'!I535","v":0},{"$f":"'Listă posturi'!L535","v":"-"}]
[null,531,{"$f":"'Listă posturi'!K536","v":", , , ID , "},{"$f":"'Listă posturi'!I536","v":0},{"$f":"'Listă posturi'!L536","v":"-"}]
[null,532,{"$f":"'Listă posturi'!K537","v":", , , ID , "},{"$f":"'Listă posturi'!I537","v":0},{"$f":"'Listă posturi'!L537","v":"-"}]
[null,533,{"$f":"'Listă posturi'!K538","v":", , , ID , "},{"$f":"'Listă posturi'!I538","v":0},{"$f":"'Listă posturi'!L538","v":"-"}]
[null,534,{"$f":"'Listă posturi'!K539","v":", , , ID , "},{"$f":"'Listă posturi'!I539","v":0},{"$f":"'Listă posturi'!L539","v":"-"}]
[null,535,{"$f":"'Listă posturi'!K540","v":", , , ID , "},{"$f":"'Listă posturi'!I540","v":0},{"$f":"'Listă posturi'!L540","v":"-"}]
[null,536,{"$f":"'Listă posturi'!K541","v":", , , ID , "},{"$f":"'Listă posturi'!I541","v":0},{"$f":"'Listă posturi'!L541","v":"-"}]
[null,537,{"$f":"'Listă posturi'!K542","v":", , , ID , "},{"$f":"'Listă posturi'!I542","v":0},{"$f":"'Listă posturi'!L542","v":"-"}]
[null,538,{"$f":"'Listă posturi'!K543","v":", , , ID , "},{"$f":"'Listă posturi'!I543","v":0},{"$f":"'Listă posturi'!L543","v":"-"}]
[null,539,{"$f":"'Listă posturi'!K544","v":", , , ID , "},{"$f":"'Listă posturi'!I544","v":0},{"$f":"'Listă posturi'!L544","v":"-"}]
[null,540,{"$f":"'Listă posturi'!K545","v":", , , ID , "},{"$f":"'Listă posturi'!I545","v":0},{"$f":"'Listă posturi'!L545","v":"-"}]
[null,541,{"$f":"'Listă posturi'!K546","v":", , , ID , "},{"$f":"'Listă posturi'!I546","v":0},{"$f":"'Listă posturi'!L546","v":"-"}]
[null,542,{"$f":"'Listă posturi'!K547","v":", , , ID , "},{"$f":"'Listă posturi'!I547","v":0},{"$f":"'Listă posturi'!L547","v":"-"}]
[null,543,{"$f":"'Listă posturi'!K548","v":", , , ID , "},{"$f":"'Listă posturi'!I548","v":0},{"$f":"'Listă posturi'!L548","v":"-"}]
[null,544,{"$f":"'Listă posturi'!K549","v":", , , ID , "},{"$f":"'Listă posturi'!I549","v":0},{"$f":"'Listă posturi'!L549","v":"-"}]
[null,545,{"$f":"'Listă posturi'!K550","v":", , , ID , "},{"$f":"'Listă posturi'!I550","v":0},{"$f":"'Listă posturi'!L550","v":"-"}]
[null,546,{"$f":"'Listă posturi'!K551","v":", , , ID , "},{"$f":"'Listă posturi'!I551","v":0},{"$f":"'Listă posturi'!L551","v":"-"}]
[null,547,{"$f":"'Listă posturi'!K552","v":", , , ID , "},{"$f":"'Listă posturi'!I552","v":0},{"$f":"'Listă posturi'!L552","v":"-"}]
[null,548,{"$f":"'Listă posturi'!K553","v":", , , ID , "},{"$f":"'Listă posturi'!I553","v":0},{"$f":"'Listă posturi'!L553","v":"-"}]
[null,549,{"$f":"'Listă posturi'!K554","v":", , , ID , "},{"$f":"'Listă posturi'!I554","v":0},{"$f":"'Listă posturi'!L554","v":"-"}]
[null,550,{"$f":"'Listă posturi'!K555","v":", , , ID , "},{"$f":"'Listă posturi'!I555","v":0},{"$f":"'Listă posturi'!L555","v":"-"}]
[null,551,{"$f":"'Listă posturi'!K556","v":", , , ID , "},{"$f":"'Listă posturi'!I556","v":0},{"$f":"'Listă posturi'!L556","v":"-"}]
[null,552,{"$f":"'Listă posturi'!K557","v":", , , ID , "},{"$f":"'Listă posturi'!I557","v":0},{"$f":"'Listă posturi'!L557","v":"-"}]
[null,553,{"$f":"'Listă posturi'!K558","v":", , , ID , "},{"$f":"'Listă posturi'!I558","v":0},{"$f":"'Listă posturi'!L558","v":"-"}]
[null,554,{"$f":"'Listă posturi'!K559","v":", , , ID , "},{"$f":"'Listă posturi'!I559","v":0},{"$f":"'Listă posturi'!L559","v":"-"}]
[null,555,{"$f":"'Listă posturi'!K560","v":", , , ID , "},{"$f":"'Listă posturi'!I560","v":0},{"$f":"'Listă posturi'!L560","v":"-"}]
[null,556,{"$f":"'Listă posturi'!K561","v":", , , ID , "},{"$f":"'Listă posturi'!I561","v":0},{"$f":"'Listă posturi'!L561","v":"-"}]
[null,557,{"$f":"'Listă posturi'!K562","v":", , , ID , "},{"$f":"'Listă posturi'!I562","v":0},{"$f":"'Listă posturi'!L562","v":"-"}]
[null,558,{"$f":"'Listă posturi'!K563","v":", , , ID , "},{"$f":"'Listă posturi'!I563","v":0},{"$f":"'Listă posturi'!L563","v":"-"}]
[null,559,{"$f":"'Listă posturi'!K564","v":", , , ID , "},{"$f":"'Listă posturi'!I564","v":0},{"$f":"'Listă posturi'!L564","v":"-"}]
[null,560,{"$f":"'Listă posturi'!K565","v":", , , ID , "},{"$f":"'Listă posturi'!I565","v":0},{"$f":"'Listă posturi'!L565","v":"-"}]
[null,561,{"$f":"'Listă posturi'!K566","v":", , , ID , "},{"$f":"'Listă posturi'!I566","v":0},{"$f":"'Listă posturi'!L566","v":"-"}]
[null,562,{"$f":"'Listă posturi'!K567","v":", , , ID , "},{"$f":"'Listă posturi'!I567","v":0},{"$f":"'Listă posturi'!L567","v":"-"}]
[null,563,{"$f":"'Listă posturi'!K568","v":", , , ID , "},{"$f":"'Listă posturi'!I568","v":0},{"$f":"'Listă posturi'!L568","v":"-"}]
[null,564,{"$f":"'Listă posturi'!K569","v":", , , ID , "},{"$f":"'Listă posturi'!I569","v":0},{"$f":"'Listă posturi'!L569","v":"-"}]
[null,565,{"$f":"'Listă posturi'!K570","v":", , , ID , "},{"$f":"'Listă posturi'!I570","v":0},{"$f":"'Listă posturi'!L570","v":"-"}]
[null,566,{"$f":"'Listă posturi'!K571","v":", , , ID , "},{"$f":"'Listă posturi'!I571","v":0},{"$f":"'Listă posturi'!L571","v":"-"}]
[null,567,{"$f":"'Listă posturi'!K572","v":", , , ID , "},{"$f":"'Listă posturi'!I572","v":0},{"$f":"'Listă posturi'!L572","v":"-"}]
[null,568,{"$f":"'Listă posturi'!K573","v":", , , ID , "},{"$f":"'Listă posturi'!I573","v":0},{"$f":"'Listă posturi'!L573","v":"-"}]
[null,569,{"$f":"'Listă posturi'!K574","v":", , , ID , "},{"$f":"'Listă posturi'!I574","v":0},{"$f":"'Listă posturi'!L574","v":"-"}]
[null,570,{"$f":"'Listă posturi'!K575","v":", , , ID , "},{"$f":"'Listă posturi'!I575","v":0},{"$f":"'Listă posturi'!L575","v":"-"}]
[null,571,{"$f":"'Listă posturi'!K576","v":", , , ID , "},{"$f":"'Listă posturi'!I576","v":0},{"$f":"'Listă posturi'!L576","v":"-"}]
[null,572,{"$f":"'Listă posturi'!K577","v":", , , ID , "},{"$f":"'Listă posturi'!I577","v":0},{"$f":"'Listă posturi'!L577","v":"-"}]
[null,573,{"$f":"'Listă posturi'!K578","v":", , , ID , "},{"$f":"'Listă posturi'!I578","v":0},{"$f":"'Listă posturi'!L578","v":"-"}]
[null,574,{"$f":"'Listă posturi'!K579","v":", , , ID , "},{"$f":"'Listă posturi'!I579","v":0},{"$f":"'Listă posturi'!L579","v":"-"}]
[null,575,{"$f":"'Listă posturi'!K580","v":", , , ID , "},{"$f":"'Listă posturi'!I580","v":0},{"$f":"'Listă posturi'!L580","v":"-"}]
[null,576,{"$f":"'Listă posturi'!K581","v":", , , ID , "},{"$f":"'Listă posturi'!I581","v":0},{"$f":"'Listă posturi'!L581","v":"-"}]
[null,577,{"$f":"'Listă posturi'!K582","v":", , , ID , "},{"$f":"'Listă posturi'!I582","v":0},{"$f":"'Listă posturi'!L582","v":"-"}]
[null,578,{"$f":"'Listă posturi'!K583","v":", , , ID , "},{"$f":"'Listă posturi'!I583","v":0},{"$f":"'Listă posturi'!L583","v":"-"}]
[null,579,{"$f":"'Listă posturi'!K584","v":", , , ID , "},{"$f":"'Listă posturi'!I584","v":0},{"$f":"'Listă posturi'!L584","v":"-"}]
[null,580,{"$f":"'Listă posturi'!K585","v":", , , ID , "},{"$f":"'Listă posturi'!I585","v":0},{"$f":"'Listă posturi'!L585","v":"-"}]
[null,581,{"$f":"'Listă posturi'!K586","v":", , , ID , "},{"$f":"'Listă posturi'!I586","v":0},{"$f":"'Listă posturi'!L586","v":"-"}]
[null,582,{"$f":"'Listă posturi'!K587","v":", , , ID , "},{"$f":"'Listă posturi'!I587","v":0},{"$f":"'Listă posturi'!L587","v":"-"}]
[null,583,{"$f":"'Listă posturi'!K588","v":", , , ID , "},{"$f":"'Listă posturi'!I588","v":0},{"$f":"'Listă posturi'!L588","v":"-"}]
[null,584,{"$f":"'Listă posturi'!K589","v":", , , ID , "},{"$f":"'Listă posturi'!I589","v":0},{"$f":"'Listă posturi'!L589","v":"-"}]
[null,585,{"$f":"'Listă posturi'!K590","v":", , , ID , "},{"$f":"'Listă posturi'!I590","v":0},{"$f":"'Listă posturi'!L590","v":"-"}]
[null,586,{"$f":"'Listă posturi'!K591","v":", , , ID , "},{"$f":"'Listă posturi'!I591","v":0},{"$f":"'Listă posturi'!L591","v":"-"}]
[null,587,{"$f":"'Listă posturi'!K592","v":", , , ID , "},{"$f":"'Listă posturi'!I592","v":0},{"$f":"'Listă posturi'!L592","v":"-"}]
[null,588,{"$f":"'Listă posturi'!K593","v":", , , ID , "},{"$f":"'Listă posturi'!I593","v":0},{"$f":"'Listă posturi'!L593","v":"-"}]
[null,589,{"$f":"'Listă posturi'!K594","v":", , , ID , "},{"$f":"'Listă posturi'!I594","v":0},{"$f":"'Listă posturi'!L594","v":"-"}]
[null,590,{"$f":"'Listă posturi'!K595","v":", , , ID , "},{"$f":"'Listă posturi'!I595","v":0},{"$f":"'Listă posturi'!L595","v":"-"}]
[null,591,{"$f":"'Listă posturi'!K596","v":", , , ID , "},{"$f":"'Listă posturi'!I596","v":0},{"$f":"'Listă posturi'!L596","v":"-"}]
[null,592,{"$f":"'Listă posturi'!K597","v":", , , ID , "},{"$f":"'Listă posturi'!I597","v":0},{"$f":"'Listă posturi'!L597","v":"-"}]
[null,593,{"$f":"'Listă posturi'!K598","v":", , , ID , "},{"$f":"'Listă posturi'!I598","v":0},{"$f":"'Listă posturi'!L598","v":"-"}]
[null,594,{"$f":"'Listă posturi'!K599","v":", , , ID , "},{"$f":"'Listă posturi'!I599","v":0},{"$f":"'Listă posturi'!L599","v":"-"}]
[null,595,{"$f":"'Listă posturi'!K600","v":", , , ID , "},{"$f":"'Listă posturi'!I600","v":0},{"$f":"'Listă posturi'!L600","v":"-"}]
[null,596,{"$f":"'Listă posturi'!K601","v":", , , ID , "},{"$f":"'Listă posturi'!I601","v":0},{"$f":"'Listă posturi'!L601","v":"-"}]
[null,597,{"$f":"'Listă posturi'!K602","v":", , , ID , "},{"$f":"'Listă posturi'!I602","v":0},{"$f":"'Listă posturi'!L602","v":"-"}]
[null,598,{"$f":"'Listă posturi'!K603","v":", , , ID , "},{"$f":"'Listă posturi'!I603","v":0},{"$f":"'Listă posturi'!L603","v":"-"}]
[null,599,{"$f":"'Listă posturi'!K604","v":", , , ID , "},{"$f":"'Listă posturi'!I604","v":0},{"$f":"'Listă posturi'!L604","v":"-"}]
[null,600,{"$f":"'Listă posturi'!K605","v":", , , ID , "},{"$f":"'Listă posturi'!I605","v":0},{"$f":"'Listă posturi'!L605","v":"-"}]
[null,601,{"$f":"'Listă posturi'!K606","v":", , , ID , "},{"$f":"'Listă posturi'!I606","v":0},{"$f":"'Listă posturi'!L606","v":"-"}]
[null,602,{"$f":"'Listă posturi'!K607","v":", , , ID , "},{"$f":"'Listă posturi'!I607","v":0},{"$f":"'Listă posturi'!L607","v":"-"}]
[null,603,{"$f":"'Listă posturi'!K608","v":", , , ID , "},{"$f":"'Listă posturi'!I608","v":0},{"$f":"'Listă posturi'!L608","v":"-"}]
[null,604,{"$f":"'Listă posturi'!K609","v":", , , ID , "},{"$f":"'Listă posturi'!I609","v":0},{"$f":"'Listă posturi'!L609","v":"-"}]
[null,605,{"$f":"'Listă posturi'!K610","v":", , , ID , "},{"$f":"'Listă posturi'!I610","v":0},{"$f":"'Listă posturi'!L610","v":"-"}]
[null,606,{"$f":"'Listă posturi'!K611","v":", , , ID , "},{"$f":"'Listă posturi'!I611","v":0},{"$f":"'Listă posturi'!L611","v":"-"}]
[null,607,{"$f":"'Listă posturi'!K612","v":", , , ID , "},{"$f":"'Listă posturi'!I612","v":0},{"$f":"'Listă posturi'!L612","v":"-"}]
[null,608,{"$f":"'Listă posturi'!K613","v":", , , ID , "},{"$f":"'Listă posturi'!I613","v":0},{"$f":"'Listă posturi'!L613","v":"-"}]
[null,609,{"$f":"'Listă posturi'!K614","v":", , , ID , "},{"$f":"'Listă posturi'!I614","v":0},{"$f":"'Listă posturi'!L614","v":"-"}]
[null,610,{"$f":"'Listă posturi'!K615","v":", , , ID , "},{"$f":"'Listă posturi'!I615","v":0},{"$f":"'Listă posturi'!L615","v":"-"}]
[null,611,{"$f":"'Listă posturi'!K616","v":", , , ID , "},{"$f":"'Listă posturi'!I616","v":0},{"$f":"'Listă posturi'!L616","v":"-"}]
[null,612,{"$f":"'Listă posturi'!K617","v":", , , ID , "},{"$f":"'Listă posturi'!I617","v":0},{"$f":"'Listă posturi'!L617","v":"-"}]
[null,613,{"$f":"'Listă posturi'!K618","v":", , , ID , "},{"$f":"'Listă posturi'!I618","v":0},{"$f":"'Listă posturi'!L618","v":"-"}]
[null,614,{"$f":"'Listă posturi'!K619","v":", , , ID , "},{"$f":"'Listă posturi'!I619","v":0},{"$f":"'Listă posturi'!L619","v":"-"}]
[null,615,{"$f":"'Listă posturi'!K620","v":", , , ID , "},{"$f":"'Listă posturi'!I620","v":0},{"$f":"'Listă posturi'!L620","v":"-"}]
[null,616,{"$f":"'Listă posturi'!K621","v":", , , ID , "},{"$f":"'Listă posturi'!I621","v":0},{"$f":"'Listă posturi'!L621","v":"-"}]
[null,617,{"$f":"'Listă posturi'!K622","v":", , , ID , "},{"$f":"'Listă posturi'!I622","v":0},{"$f":"'Listă posturi'!L622","v":"-"}]
[null,618,{"$f":"'Listă posturi'!K623","v":", , , ID , "},{"$f":"'Listă posturi'!I623","v":0},{"$f":"'Listă posturi'!L623","v":"-"}]
[null,619,{"$f":"'Listă posturi'!K624","v":", , , ID , "},{"$f":"'Listă posturi'!I624","v":0},{"$f":"'Listă posturi'!L624","v":"-"}]
[null,620,{"$f":"'Listă posturi'!K625","v":", , , ID , "},{"$f":"'Listă posturi'!I625","v":0},{"$f":"'Listă posturi'!L625","v":"-"}]
[null,621,{"$f":"'Listă posturi'!K626","v":", , , ID , "},{"$f":"'Listă posturi'!I626","v":0},{"$f":"'Listă posturi'!L626","v":"-"}]
[null,622,{"$f":"'Listă posturi'!K627","v":", , , ID , "},{"$f":"'Listă posturi'!I627","v":0},{"$f":"'Listă posturi'!L627","v":"-"}]
[null,623,{"$f":"'Listă posturi'!K628","v":", , , ID , "},{"$f":"'Listă posturi'!I628","v":0},{"$f":"'Listă posturi'!L628","v":"-"}]
[null,624,{"$f":"'Listă posturi'!K629","v":", , , ID , "},{"$f":"'Listă posturi'!I629","v":0},{"$f":"'Listă posturi'!L629","v":"-"}]
[null,625,{"$f":"'Listă posturi'!K630","v":", , , ID , "},{"$f":"'Listă posturi'!I630","v":0},{"$f":"'Listă posturi'!L630","v":"-"}]
[null,626,{"$f":"'Listă posturi'!K631","v":", , , ID , "},{"$f":"'Listă posturi'!I631","v":0},{"$f":"'Listă posturi'!L631","v":"-"}]
[null,627,{"$f":"'Listă posturi'!K632","v":", , , ID , "},{"$f":"'Listă posturi'!I632","v":0},{"$f":"'Listă posturi'!L632","v":"-"}]
[null,628,{"$f":"'Listă posturi'!K633","v":", , , ID , "},{"$f":"'Listă posturi'!I633","v":0},{"$f":"'Listă posturi'!L633","v":"-"}]
[null,629,{"$f":"'Listă posturi'!K634","v":", , , ID , "},{"$f":"'Listă posturi'!I634","v":0},{"$f":"'Listă posturi'!L634","v":"-"}]
[null,630,{"$f":"'Listă posturi'!K635","v":", , , ID , "},{"$f":"'Listă posturi'!I635","v":0},{"$f":"'Listă posturi'!L635","v":"-"}]
[null,631,{"$f":"'Listă posturi'!K636","v":", , , ID , "},{"$f":"'Listă posturi'!I636","v":0},{"$f":"'Listă posturi'!L636","v":"-"}]
[null,632,{"$f":"'Listă posturi'!K637","v":", , , ID , "},{"$f":"'Listă posturi'!I637","v":0},{"$f":"'Listă posturi'!L637","v":"-"}]
[null,633,{"$f":"'Listă posturi'!K638","v":", , , ID , "},{"$f":"'Listă posturi'!I638","v":0},{"$f":"'Listă posturi'!L638","v":"-"}]
[null,634,{"$f":"'Listă posturi'!K639","v":", , , ID , "},{"$f":"'Listă posturi'!I639","v":0},{"$f":"'Listă posturi'!L639","v":"-"}]
[null,635,{"$f":"'Listă posturi'!K640","v":", , , ID , "},{"$f":"'Listă posturi'!I640","v":0},{"$f":"'Listă posturi'!L640","v":"-"}]
[null,636,{"$f":"'Listă posturi'!K641","v":", , , ID , "},{"$f":"'Listă posturi'!I641","v":0},{"$f":"'Listă posturi'!L641","v":"-"}]
[null,637,{"$f":"'Listă posturi'!K642","v":", , , ID , "},{"$f":"'Listă posturi'!I642","v":0},{"$f":"'Listă posturi'!L642","v":"-"}]
[null,638,{"$f":"'Listă posturi'!K643","v":", , , ID , "},{"$f":"'Listă posturi'!I643","v":0},{"$f":"'Listă posturi'!L643","v":"-"}]
[null,639,{"$f":"'Listă posturi'!K644","v":", , , ID , "},{"$f":"'Listă posturi'!I644","v":0},{"$f":"'Listă posturi'!L644","v":"-"}]
[null,640,{"$f":"'Listă posturi'!K645","v":", , , ID , "},{"$f":"'Listă posturi'!I645","v":0},{"$f":"'Listă posturi'!L645","v":"-"}]
[null,641,{"$f":"'Listă posturi'!K646","v":", , , ID , "},{"$f":"'Listă posturi'!I646","v":0},{"$f":"'Listă posturi'!L646","v":"-"}]
[null,642,{"$f":"'Listă posturi'!K647","v":", , , ID , "},{"$f":"'Listă posturi'!I647","v":0},{"$f":"'Listă posturi'!L647","v":"-"}]
[null,643,{"$f":"'Listă posturi'!K648","v":", , , ID , "},{"$f":"'Listă posturi'!I648","v":0},{"$f":"'Listă posturi'!L648","v":"-"}]
[null,644,{"$f":"'Listă posturi'!K649","v":", , , ID , "},{"$f":"'Listă posturi'!I649","v":0},{"$f":"'Listă posturi'!L649","v":"-"}]
[null,645,{"$f":"'Listă posturi'!K650","v":", , , ID , "},{"$f":"'Listă posturi'!I650","v":0},{"$f":"'Listă posturi'!L650","v":"-"}]
[null,646,{"$f":"'Listă posturi'!K651","v":", , , ID , "},{"$f":"'Listă posturi'!I651","v":0},{"$f":"'Listă posturi'!L651","v":"-"}]
[null,647,{"$f":"'Listă posturi'!K652","v":", , , ID , "},{"$f":"'Listă posturi'!I652","v":0},{"$f":"'Listă posturi'!L652","v":"-"}]
[null,648,{"$f":"'Listă posturi'!K653","v":", , , ID , "},{"$f":"'Listă posturi'!I653","v":0},{"$f":"'Listă posturi'!L653","v":"-"}]
[null,649,{"$f":"'Listă posturi'!K654","v":", , , ID , "},{"$f":"'Listă posturi'!I654","v":0},{"$f":"'Listă posturi'!L654","v":"-"}]
[null,650,{"$f":"'Listă posturi'!K655","v":", , , ID , "},{"$f":"'Listă posturi'!I655","v":0},{"$f":"'Listă posturi'!L655","v":"-"}]
[null,651,{"$f":"'Listă posturi'!K656","v":", , , ID , "},{"$f":"'Listă posturi'!I656","v":0},{"$f":"'Listă posturi'!L656","v":"-"}]
[null,652,{"$f":"'Listă posturi'!K657","v":", , , ID , "},{"$f":"'Listă posturi'!I657","v":0},{"$f":"'Listă posturi'!L657","v":"-"}]
[null,653,{"$f":"'Listă posturi'!K658","v":", , , ID , "},{"$f":"'Listă posturi'!I658","v":0},{"$f":"'Listă posturi'!L658","v":"-"}]
[null,654,{"$f":"'Listă posturi'!K659","v":", , , ID , "},{"$f":"'Listă posturi'!I659","v":0},{"$f":"'Listă posturi'!L659","v":"-"}]
[null,655,{"$f":"'Listă posturi'!K660","v":", , , ID , "},{"$f":"'Listă posturi'!I660","v":0},{"$f":"'Listă posturi'!L660","v":"-"}]
[null,656,{"$f":"'Listă posturi'!K661","v":", , , ID , "},{"$f":"'Listă posturi'!I661","v":0},{"$f":"'Listă posturi'!L661","v":"-"}]
[null,657,{"$f":"'Listă posturi'!K662","v":", , , ID , "},{"$f":"'Listă posturi'!I662","v":0},{"$f":"'Listă posturi'!L662","v":"-"}]
[null,658,{"$f":"'Listă posturi'!K663","v":", , , ID , "},{"$f":"'Listă posturi'!I663","v":0},{"$f":"'Listă posturi'!L663","v":"-"}]
[null,659,{"$f":"'Listă posturi'!K664","v":", , , ID , "},{"$f":"'Listă posturi'!I664","v":0},{"$f":"'Listă posturi'!L664","v":"-"}]
[null,660,{"$f":"'Listă posturi'!K665","v":", , , ID , "},{"$f":"'Listă posturi'!I665","v":0},{"$f":"'Listă posturi'!L665","v":"-"}]
[null,661,{"$f":"'Listă posturi'!K666","v":", , , ID , "},{"$f":"'Listă posturi'!I666","v":0},{"$f":"'Listă posturi'!L666","v":"-"}]
[null,662,{"$f":"'Listă posturi'!K667","v":", , , ID , "},{"$f":"'Listă posturi'!I667","v":0},{"$f":"'Listă posturi'!L667","v":"-"}]
[null,663,{"$f":"'Listă posturi'!K668","v":", , , ID , "},{"$f":"'Listă posturi'!I668","v":0},{"$f":"'Listă posturi'!L668","v":"-"}]
[null,664,{"$f":"'Listă posturi'!K669","v":", , , ID , "},{"$f":"'Listă posturi'!I669","v":0},{"$f":"'Listă posturi'!L669","v":"-"}]
[null,665,{"$f":"'Listă posturi'!K670","v":", , , ID , "},{"$f":"'Listă posturi'!I670","v":0},{"$f":"'Listă posturi'!L670","v":"-"}]
[null,666,{"$f":"'Listă posturi'!K671","v":", , , ID , "},{"$f":"'Listă posturi'!I671","v":0},{"$f":"'Listă posturi'!L671","v":"-"}]
[null,667,{"$f":"'Listă posturi'!K672","v":", , , ID , "},{"$f":"'Listă posturi'!I672","v":0},{"$f":"'Listă posturi'!L672","v":"-"}]
[null,668,{"$f":"'Listă posturi'!K673","v":", , , ID , "},{"$f":"'Listă posturi'!I673","v":0},{"$f":"'Listă posturi'!L673","v":"-"}]
[null,669,{"$f":"'Listă posturi'!K674","v":", , , ID , "},{"$f":"'Listă posturi'!I674","v":0},{"$f":"'Listă posturi'!L674","v":"-"}]
[null,670,{"$f":"'Listă posturi'!K675","v":", , , ID , "},{"$f":"'Listă posturi'!I675","v":0},{"$f":"'Listă posturi'!L675","v":"-"}]
[null,671,{"$f":"'Listă posturi'!K676","v":", , , ID , "},{"$f":"'Listă posturi'!I676","v":0},{"$f":"'Listă posturi'!L676","v":"-"}]
[null,672,{"$f":"'Listă posturi'!K677","v":", , , ID , "},{"$f":"'Listă posturi'!I677","v":0},{"$f":"'Listă posturi'!L677","v":"-"}]
[null,673,{"$f":"'Listă posturi'!K678","v":", , , ID , "},{"$f":"'Listă posturi'!I678","v":0},{"$f":"'Listă posturi'!L678","v":"-"}]
[null,674,{"$f":"'Listă posturi'!K679","v":", , , ID , "},{"$f":"'Listă posturi'!I679","v":0},{"$f":"'Listă posturi'!L679","v":"-"}]
[null,675,{"$f":"'Listă posturi'!K680","v":", , , ID , "},{"$f":"'Listă posturi'!I680","v":0},{"$f":"'Listă posturi'!L680","v":"-"}]
[null,676,{"$f":"'Listă posturi'!K681","v":", , , ID , "},{"$f":"'Listă posturi'!I681","v":0},{"$f":"'Listă posturi'!L681","v":"-"}]
[null,677,{"$f":"'Listă posturi'!K682","v":", , , ID , "},{"$f":"'Listă posturi'!I682","v":0},{"$f":"'Listă posturi'!L682","v":"-"}]
[null,678,{"$f":"'Listă posturi'!K683","v":", , , ID , "},{"$f":"'Listă posturi'!I683","v":0},{"$f":"'Listă posturi'!L683","v":"-"}]
[null,679,{"$f":"'Listă posturi'!K684","v":", , , ID , "},{"$f":"'Listă posturi'!I684","v":0},{"$f":"'Listă posturi'!L684","v":"-"}]
[null,680,{"$f":"'Listă posturi'!K685","v":", , , ID , "},{"$f":"'Listă posturi'!I685","v":0},{"$f":"'Listă posturi'!L685","v":"-"}]
[null,681,{"$f":"'Listă posturi'!K686","v":", , , ID , "},{"$f":"'Listă posturi'!I686","v":0},{"$f":"'Listă posturi'!L686","v":"-"}]
[null,682,{"$f":"'Listă posturi'!K687","v":", , , ID , "},{"$f":"'Listă posturi'!I687","v":0},{"$f":"'Listă posturi'!L687","v":"-"}]
[null,683,{"$f":"'Listă posturi'!K688","v":", , , ID , "},{"$f":"'Listă posturi'!I688","v":0},{"$f":"'Listă posturi'!L688","v":"-"}]
[null,684,{"$f":"'Listă posturi'!K689","v":", , , ID , "},{"$f":"'Listă posturi'!I689","v":0},{"$f":"'Listă posturi'!L689","v":"-"}]
[null,685,{"$f":"'Listă posturi'!K690","v":", , , ID , "},{"$f":"'Listă posturi'!I690","v":0},{"$f":"'Listă posturi'!L690","v":"-"}]
[null,686,{"$f":"'Listă posturi'!K691","v":", , , ID , "},{"$f":"'Listă posturi'!I691","v":0},{"$f":"'Listă posturi'!L691","v":"-"}]
[null,687,{"$f":"'Listă posturi'!K692","v":", , , ID , "},{"$f":"'Listă posturi'!I692","v":0},{"$f":"'Listă posturi'!L692","v":"-"}]
[null,688,{"$f":"'Listă posturi'!K693","v":", , , ID , "},{"$f":"'Listă posturi'!I693","v":0},{"$f":"'Listă posturi'!L693","v":"-"}]
[null,689,{"$f":"'Listă posturi'!K694","v":", , , ID , "},{"$f":"'Listă posturi'!I694","v":0},{"$f":"'Listă posturi'!L694","v":"-"}]
[null,690,{"$f":"'Listă posturi'!K695","v":", , , ID , "},{"$f":"'Listă posturi'!I695","v":0},{"$f":"'Listă posturi'!L695","v":"-"}]
[null,691,{"$f":"'Listă posturi'!K696","v":", , , ID , "},{"$f":"'Listă posturi'!I696","v":0},{"$f":"'Listă posturi'!L696","v":"-"}]
[null,692,{"$f":"'Listă posturi'!K697","v":", , , ID , "},{"$f":"'Listă posturi'!I697","v":0},{"$f":"'Listă posturi'!L697","v":"-"}]
[null,693,{"$f":"'Listă posturi'!K698","v":", , , ID , "},{"$f":"'Listă posturi'!I698","v":0},{"$f":"'Listă posturi'!L698","v":"-"}]
[null,694,{"$f":"'Listă posturi'!K699","v":", , , ID , "},{"$f":"'Listă posturi'!I699","v":0},{"$f":"'Listă posturi'!L699","v":"-"}]
[null,695,{"$f":"'Listă posturi'!K700","v":", , , ID , "},{"$f":"'Listă posturi'!I700","v":0},{"$f":"'Listă posturi'!L700","v":"-"}]
[null,696,{"$f":"'Listă posturi'!K701","v":", , , ID , "},{"$f":"'Listă posturi'!I701","v":0},{"$f":"'Listă posturi'!L701","v":"-"}]
[null,697,{"$f":"'Listă posturi'!K702","v":", , , ID , "},{"$f":"'Listă posturi'!I702","v":0},{"$f":"'Listă posturi'!L702","v":"-"}]
[null,698,{"$f":"'Listă posturi'!K703","v":", , , ID , "},{"$f":"'Listă posturi'!I703","v":0},{"$f":"'Listă posturi'!L703","v":"-"}]
[null,699,{"$f":"'Listă posturi'!K704","v":", , , ID , "},{"$f":"'Listă posturi'!I704","v":0},{"$f":"'Listă posturi'!L704","v":"-"}]
[null,700,{"$f":"'Listă posturi'!K705","v":", , , ID , "},{"$f":"'Listă posturi'!I705","v":0},{"$f":"'Listă posturi'!L705","v":"-"}]
[null,701,{"$f":"'Listă posturi'!K706","v":", , , ID , "},{"$f":"'Listă posturi'!I706","v":0},{"$f":"'Listă posturi'!L706","v":"-"}]
[null,702,{"$f":"'Listă posturi'!K707","v":", , , ID , "},{"$f":"'Listă posturi'!I707","v":0},{"$f":"'Listă posturi'!L707","v":"-"}]
[null,703,{"$f":"'Listă posturi'!K708","v":", , , ID , "},{"$f":"'Listă posturi'!I708","v":0},{"$f":"'Listă posturi'!L708","v":"-"}]
[null,704,{"$f":"'Listă posturi'!K709","v":", , , ID , "},{"$f":"'Listă posturi'!I709","v":0},{"$f":"'Listă posturi'!L709","v":"-"}]
[null,705,{"$f":"'Listă posturi'!K710","v":", , , ID , "},{"$f":"'Listă posturi'!I710","v":0},{"$f":"'Listă posturi'!L710","v":"-"}]
[null,706,{"$f":"'Listă posturi'!K711","v":", , , ID , "},{"$f":"'Listă posturi'!I711","v":0},{"$f":"'Listă posturi'!L711","v":"-"}]
[null,707,{"$f":"'Listă posturi'!K712","v":", , , ID , "},{"$f":"'Listă posturi'!I712","v":0},{"$f":"'Listă posturi'!L712","v":"-"}]
[null,708,{"$f":"'Listă posturi'!K713","v":", , , ID , "},{"$f":"'Listă posturi'!I713","v":0},{"$f":"'Listă posturi'!L713","v":"-"}]
[null,709,{"$f":"'Listă posturi'!K714","v":", , , ID , "},{"$f":"'Listă posturi'!I714","v":0},{"$f":"'Listă posturi'!L714","v":"-"}]
[null,710,{"$f":"'Listă posturi'!K715","v":", , , ID , "},{"$f":"'Listă posturi'!I715","v":0},{"$f":"'Listă posturi'!L715","v":"-"}]
[null,711,{"$f":"'Listă posturi'!K716","v":", , , ID , "},{"$f":"'Listă posturi'!I716","v":0},{"$f":"'Listă posturi'!L716","v":"-"}]
[null,712,{"$f":"'Listă posturi'!K717","v":", , , ID , "},{"$f":"'Listă posturi'!I717","v":0},{"$f":"'Listă posturi'!L717","v":"-"}]
[null,713,{"$f":"'Listă posturi'!K718","v":", , , ID , "},{"$f":"'Listă posturi'!I718","v":0},{"$f":"'Listă posturi'!L718","v":"-"}]
[null,714,{"$f":"'Listă posturi'!K719","v":", , , ID , "},{"$f":"'Listă posturi'!I719","v":0},{"$f":"'Listă posturi'!L719","v":"-"}]
[null,715,{"$f":"'Listă posturi'!K720","v":", , , ID , "},{"$f":"'Listă posturi'!I720","v":0},{"$f":"'Listă posturi'!L720","v":"-"}]
[null,716,{"$f":"'Listă posturi'!K721","v":", , , ID , "},{"$f":"'Listă posturi'!I721","v":0},{"$f":"'Listă posturi'!L721","v":"-"}]
[null,717,{"$f":"'Listă posturi'!K722","v":", , , ID , "},{"$f":"'Listă posturi'!I722","v":0},{"$f":"'Listă posturi'!L722","v":"-"}]
[null,718,{"$f":"'Listă posturi'!K723","v":", , , ID , "},{"$f":"'Listă posturi'!I723","v":0},{"$f":"'Listă posturi'!L723","v":"-"}]
[null,719,{"$f":"'Listă posturi'!K724","v":", , , ID , "},{"$f":"'Listă posturi'!I724","v":0},{"$f":"'Listă posturi'!L724","v":"-"}]
[null,720,{"$f":"'Listă posturi'!K725","v":", , , ID , "},{"$f":"'Listă posturi'!I725","v":0},{"$f":"'Listă posturi'!L725","v":"-"}]
[null,721,{"$f":"'Listă posturi'!K726","v":", , , ID , "},{"$f":"'Listă posturi'!I726","v":0},{"$f":"'Listă posturi'!L726","v":"-"}]
[null,722,{"$f":"'Listă posturi'!K727","v":", , , ID , "},{"$f":"'Listă posturi'!I727","v":0},{"$f":"'Listă posturi'!L727","v":"-"}]
[null,723,{"$f":"'Listă posturi'!K728","v":", , , ID , "},{"$f":"'Listă posturi'!I728","v":0},{"$f":"'Listă posturi'!L728","v":"-"}]
[null,724,{"$f":"'Listă posturi'!K729","v":", , , ID , "},{"$f":"'Listă posturi'!I729","v":0},{"$f":"'Listă posturi'!L729","v":"-"}]
[null,725,{"$f":"'Listă posturi'!K730","v":", , , ID , "},{"$f":"'Listă posturi'!I730","v":0},{"$f":"'Listă posturi'!L730","v":"-"}]
[null,726,{"$f":"'Listă posturi'!K731","v":", , , ID , "},{"$f":"'Listă posturi'!I731","v":0},{"$f":"'Listă posturi'!L731","v":"-"}]
[null,727,{"$f":"'Listă posturi'!K732","v":", , , ID , "},{"$f":"'Listă posturi'!I732","v":0},{"$f":"'Listă posturi'!L732","v":"-"}]
[null,728,{"$f":"'Listă posturi'!K733","v":", , , ID , "},{"$f":"'Listă posturi'!I733","v":0},{"$f":"'Listă posturi'!L733","v":"-"}]
[null,729,{"$f":"'Listă posturi'!K734","v":", , , ID , "},{"$f":"'Listă posturi'!I734","v":0},{"$f":"'Listă posturi'!L734","v":"-"}]
[null,730,{"$f":"'Listă posturi'!K735","v":", , , ID , "},{"$f":"'Listă posturi'!I735","v":0},{"$f":"'Listă posturi'!L735","v":"-"}]
[null,731,{"$f":"'Listă posturi'!K736","v":", , , ID , "},{"$f":"'Listă posturi'!I736","v":0},{"$f":"'Listă posturi'!L736","v":"-"}]
[null,732,{"$f":"'Listă posturi'!K737","v":", , , ID , "},{"$f":"'Listă posturi'!I737","v":0},{"$f":"'Listă posturi'!L737","v":"-"}]
[null,733,{"$f":"'Listă posturi'!K738","v":", , , ID , "},{"$f":"'Listă posturi'!I738","v":0},{"$f":"'Listă posturi'!L738","v":"-"}]
[null,734,{"$f":"'Listă posturi'!K739","v":", , , ID , "},{"$f":"'Listă posturi'!I739","v":0},{"$f":"'Listă posturi'!L739","v":"-"}]
[null,735,{"$f":"'Listă posturi'!K740","v":", , , ID , "},{"$f":"'Listă posturi'!I740","v":0},{"$f":"'Listă posturi'!L740","v":"-"}]
[null,736,{"$f":"'Listă posturi'!K741","v":", , , ID , "},{"$f":"'Listă posturi'!I741","v":0},{"$f":"'Listă posturi'!L741","v":"-"}]
[null,737,{"$f":"'Listă posturi'!K742","v":", , , ID , "},{"$f":"'Listă posturi'!I742","v":0},{"$f":"'Listă posturi'!L742","v":"-"}]
[null,738,{"$f":"'Listă posturi'!K743","v":", , , ID , "},{"$f":"'Listă posturi'!I743","v":0},{"$f":"'Listă posturi'!L743","v":"-"}]
[null,739,{"$f":"'Listă posturi'!K744","v":", , , ID , "},{"$f":"'Listă posturi'!I744","v":0},{"$f":"'Listă posturi'!L744","v":"-"}]
[null,740,{"$f":"'Listă posturi'!K745","v":", , , ID , "},{"$f":"'Listă posturi'!I745","v":0},{"$f":"'Listă posturi'!L745","v":"-"}]
[null,741,{"$f":"'Listă posturi'!K746","v":", , , ID , "},{"$f":"'Listă posturi'!I746","v":0},{"$f":"'Listă posturi'!L746","v":"-"}]
[null,742,{"$f":"'Listă posturi'!K747","v":", , , ID , "},{"$f":"'Listă posturi'!I747","v":0},{"$f":"'Listă posturi'!L747","v":"-"}]
[null,743,{"$f":"'Listă posturi'!K748","v":", , , ID , "},{"$f":"'Listă posturi'!I748","v":0},{"$f":"'Listă posturi'!L748","v":"-"}]
[null,744,{"$f":"'Listă posturi'!K749","v":", , , ID , "},{"$f":"'Listă posturi'!I749","v":0},{"$f":"'Listă posturi'!L749","v":"-"}]
[null,745,{"$f":"'Listă posturi'!K750","v":", , , ID , "},{"$f":"'Listă posturi'!I750","v":0},{"$f":"'Listă posturi'!L750","v":"-"}]
[null,746,{"$f":"'Listă posturi'!K751","v":", , , ID , "},{"$f":"'Listă posturi'!I751","v":0},{"$f":"'Listă posturi'!L751","v":"-"}]
[null,747,{"$f":"'Listă posturi'!K752","v":", , , ID , "},{"$f":"'Listă posturi'!I752","v":0},{"$f":"'Listă posturi'!L752","v":"-"}]
[null,748,{"$f":"'Listă posturi'!K753","v":", , , ID , "},{"$f":"'Listă posturi'!I753","v":0},{"$f":"'Listă posturi'!L753","v":"-"}]
[null,749,{"$f":"'Listă posturi'!K754","v":", , , ID , "},{"$f":"'Listă posturi'!I754","v":0},{"$f":"'Listă posturi'!L754","v":"-"}]
[null,750,{"$f":"'Listă posturi'!K755","v":", , , ID , "},{"$f":"'Listă posturi'!I755","v":0},{"$f":"'Listă posturi'!L755","v":"-"}]
[null,751,{"$f":"'Listă posturi'!K756","v":", , , ID , "},{"$f":"'Listă posturi'!I756","v":0},{"$f":"'Listă posturi'!L756","v":"-"}]
[null,752,{"$f":"'Listă posturi'!K757","v":", , , ID , "},{"$f":"'Listă posturi'!I757","v":0},{"$f":"'Listă posturi'!L757","v":"-"}]
[null,753,{"$f":"'Listă posturi'!K758","v":", , , ID , "},{"$f":"'Listă posturi'!I758","v":0},{"$f":"'Listă posturi'!L758","v":"-"}]
[null,754,{"$f":"'Listă posturi'!K759","v":", , , ID , "},{"$f":"'Listă posturi'!I759","v":0},{"$f":"'Listă posturi'!L759","v":"-"}]
[null,755,{"$f":"'Listă posturi'!K760","v":", , , ID , "},{"$f":"'Listă posturi'!I760","v":0},{"$f":"'Listă posturi'!L760","v":"-"}]
[null,756,{"$f":"'Listă posturi'!K761","v":", , , ID , "},{"$f":"'Listă posturi'!I761","v":0},{"$f":"'Listă posturi'!L761","v":"-"}]
[null,757,{"$f":"'Listă posturi'!K762","v":", , , ID , "},{"$f":"'Listă posturi'!I762","v":0},{"$f":"'Listă posturi'!L762","v":"-"}]
[null,758,{"$f":"'Listă posturi'!K763","v":", , , ID , "},{"$f":"'Listă posturi'!I763","v":0},{"$f":"'Listă posturi'!L763","v":"-"}]
[null,759,{"$f":"'Listă posturi'!K764","v":", , , ID , "},{"$f":"'Listă posturi'!I764","v":0},{"$f":"'Listă posturi'!L764","v":"-"}]
[null,760,{"$f":"'Listă posturi'!K765","v":", , , ID , "},{"$f":"'Listă posturi'!I765","v":0},{"$f":"'Listă posturi'!L765","v":"-"}]
[null,761,{"$f":"'Listă posturi'!K766","v":", , , ID , "},{"$f":"'Listă posturi'!I766","v":0},{"$f":"'Listă posturi'!L766","v":"-"}]
[null,762,{"$f":"'Listă posturi'!K767","v":", , , ID , "},{"$f":"'Listă posturi'!I767","v":0},{"$f":"'Listă posturi'!L767","v":"-"}]
[null,763,{"$f":"'Listă posturi'!K768","v":", , , ID , "},{"$f":"'Listă posturi'!I768","v":0},{"$f":"'Listă posturi'!L768","v":"-"}]
[null,764,{"$f":"'Listă posturi'!K769","v":", , , ID , "},{"$f":"'Listă posturi'!I769","v":0},{"$f":"'Listă posturi'!L769","v":"-"}]
[null,765,{"$f":"'Listă posturi'!K770","v":", , , ID , "},{"$f":"'Listă posturi'!I770","v":0},{"$f":"'Listă posturi'!L770","v":"-"}]
[null,766,{"$f":"'Listă posturi'!K771","v":", , , ID , "},{"$f":"'Listă posturi'!I771","v":0},{"$f":"'Listă posturi'!L771","v":"-"}]
[null,767,{"$f":"'Listă posturi'!K772","v":", , , ID , "},{"$f":"'Listă posturi'!I772","v":0},{"$f":"'Listă posturi'!L772","v":"-"}]
[null,768,{"$f":"'Listă posturi'!K773","v":", , , ID , "},{"$f":"'Listă posturi'!I773","v":0},{"$f":"'Listă posturi'!L773","v":"-"}]
[null,769,{"$f":"'Listă posturi'!K774","v":", , , ID , "},{"$f":"'Listă posturi'!I774","v":0},{"$f":"'Listă posturi'!L774","v":"-"}]
[null,770,{"$f":"'Listă posturi'!K775","v":", , , ID , "},{"$f":"'Listă posturi'!I775","v":0},{"$f":"'Listă posturi'!L775","v":"-"}]
[null,771,{"$f":"'Listă posturi'!K776","v":", , , ID , "},{"$f":"'Listă posturi'!I776","v":0},{"$f":"'Listă posturi'!L776","v":"-"}]
[null,772,{"$f":"'Listă posturi'!K777","v":", , , ID , "},{"$f":"'Listă posturi'!I777","v":0},{"$f":"'Listă posturi'!L777","v":"-"}]
[null,773,{"$f":"'Listă posturi'!K778","v":", , , ID , "},{"$f":"'Listă posturi'!I778","v":0},{"$f":"'Listă posturi'!L778","v":"-"}]
[null,774,{"$f":"'Listă posturi'!K779","v":", , , ID , "},{"$f":"'Listă posturi'!I779","v":0},{"$f":"'Listă posturi'!L779","v":"-"}]
[null,775,{"$f":"'Listă posturi'!K780","v":", , , ID , "},{"$f":"'Listă posturi'!I780","v":0},{"$f":"'Listă posturi'!L780","v":"-"}]
[null,776,{"$f":"'Listă posturi'!K781","v":", , , ID , "},{"$f":"'Listă posturi'!I781","v":0},{"$f":"'Listă posturi'!L781","v":"-"}]
[null,777,{"$f":"'Listă posturi'!K782","v":", , , ID , "},{"$f":"'Listă posturi'!I782","v":0},{"$f":"'Listă posturi'!L782","v":"-"}]
[null,778,{"$f":"'Listă posturi'!K783","v":", , , ID , "},{"$f":"'Listă posturi'!I783","v":0},{"$f":"'Listă posturi'!L783","v":"-"}]
[null,779,{"$f":"'Listă posturi'!K784","v":", , , ID , "},{"$f":"'Listă posturi'!I784","v":0},{"$f":"'Listă posturi'!L784","v":"-"}]
[null,780,{"$f":"'Listă posturi'!K785","v":", , , ID , "},{"$f":"'Listă posturi'!I785","v":0},{"$f":"'Listă posturi'!L785","v":"-"}]
[null,781,{"$f":"'Listă posturi'!K786","v":", , , ID , "},{"$f":"'Listă posturi'!I786","v":0},{"$f":"'Listă posturi'!L786","v":"-"}]
[null,782,{"$f":"'Listă posturi'!K787","v":", , , ID , "},{"$f":"'Listă posturi'!I787","v":0},{"$f":"'Listă posturi'!L787","v":"-"}]
[null,783,{"$f":"'Listă posturi'!K788","v":", , , ID , "},{"$f":"'Listă posturi'!I788","v":0},{"$f":"'Listă posturi'!L788","v":"-"}]
[null,784,{"$f":"'Listă posturi'!K789","v":", , , ID , "},{"$f":"'Listă posturi'!I789","v":0},{"$f":"'Listă posturi'!L789","v":"-"}]
[null,785,{"$f":"'Listă posturi'!K790","v":", , , ID , "},{"$f":"'Listă posturi'!I790","v":0},{"$f":"'Listă posturi'!L790","v":"-"}]
[null,786,{"$f":"'Listă posturi'!K791","v":", , , ID , "},{"$f":"'Listă posturi'!I791","v":0},{"$f":"'Listă posturi'!L791","v":"-"}]
[null,787,{"$f":"'Listă posturi'!K792","v":", , , ID , "},{"$f":"'Listă posturi'!I792","v":0},{"$f":"'Listă posturi'!L792","v":"-"}]
[null,788,{"$f":"'Listă posturi'!K793","v":", , , ID , "},{"$f":"'Listă posturi'!I793","v":0},{"$f":"'Listă posturi'!L793","v":"-"}]
[null,789,{"$f":"'Listă posturi'!K794","v":", , , ID , "},{"$f":"'Listă posturi'!I794","v":0},{"$f":"'Listă posturi'!L794","v":"-"}]
[null,790,{"$f":"'Listă posturi'!K795","v":", , , ID , "},{"$f":"'Listă posturi'!I795","v":0},{"$f":"'Listă posturi'!L795","v":"-"}]
[null,791,{"$f":"'Listă posturi'!K796","v":", , , ID , "},{"$f":"'Listă posturi'!I796","v":0},{"$f":"'Listă posturi'!L796","v":"-"}]
[null,792,{"$f":"'Listă posturi'!K797","v":", , , ID , "},{"$f":"'Listă posturi'!I797","v":0},{"$f":"'Listă posturi'!L797","v":"-"}]
[null,793,{"$f":"'Listă posturi'!K798","v":", , , ID , "},{"$f":"'Listă posturi'!I798","v":0},{"$f":"'Listă posturi'!L798","v":"-"}]
[null,794,{"$f":"'Listă posturi'!K799","v":", , , ID , "},{"$f":"'Listă posturi'!I799","v":0},{"$f":"'Listă posturi'!L799","v":"-"}]
[null,795,{"$f":"'Listă posturi'!K800","v":", , , ID , "},{"$f":"'Listă posturi'!I800","v":0},{"$f":"'Listă posturi'!L800","v":"-"}]
[null,796,{"$f":"'Listă posturi'!K801","v":", , , ID , "},{"$f":"'Listă posturi'!I801","v":0},{"$f":"'Listă posturi'!L801","v":"-"}]
[null,797,{"$f":"'Listă posturi'!K802","v":", , , ID , "},{"$f":"'Listă posturi'!I802","v":0},{"$f":"'Listă posturi'!L802","v":"-"}]
[null,798,{"$f":"'Listă posturi'!K803","v":", , , ID , "},{"$f":"'Listă posturi'!I803","v":0},{"$f":"'Listă posturi'!L803","v":"-"}]
[null,799,{"$f":"'Listă posturi'!K804","v":", , , ID , "},{"$f":"'Listă posturi'!I804","v":0},{"$f":"'Listă posturi'!L804","v":"-"}]
[null,800,{"$f":"'Listă posturi'!K805","v":", , , ID , "},{"$f":"'Listă posturi'!I805","v":0},{"$f":"'Listă posturi'!L805","v":"-"}]
[null,801,{"$f":"'Listă posturi'!K806","v":", , , ID , "},{"$f":"'Listă posturi'!I806","v":0},{"$f":"'Listă posturi'!L806","v":"-"}]
[null,802,{"$f":"'Listă posturi'!K807","v":", , , ID , "},{"$f":"'Listă posturi'!I807","v":0},{"$f":"'Listă posturi'!L807","v":"-"}]
[null,803,{"$f":"'Listă posturi'!K808","v":", , , ID , "},{"$f":"'Listă posturi'!I808","v":0},{"$f":"'Listă posturi'!L808","v":"-"}]
[null,804,{"$f":"'Listă posturi'!K809","v":", , , ID , "},{"$f":"'Listă posturi'!I809","v":0},{"$f":"'Listă posturi'!L809","v":"-"}]
[null,805,{"$f":"'Listă posturi'!K810","v":", , , ID , "},{"$f":"'Listă posturi'!I810","v":0},{"$f":"'Listă posturi'!L810","v":"-"}]
[null,806,{"$f":"'Listă posturi'!K811","v":", , , ID , "},{"$f":"'Listă posturi'!I811","v":0},{"$f":"'Listă posturi'!L811","v":"-"}]
[null,807,{"$f":"'Listă posturi'!K812","v":", , , ID , "},{"$f":"'Listă posturi'!I812","v":0},{"$f":"'Listă posturi'!L812","v":"-"}]
[null,808,{"$f":"'Listă posturi'!K813","v":", , , ID , "},{"$f":"'Listă posturi'!I813","v":0},{"$f":"'Listă posturi'!L813","v":"-"}]
[null,809,{"$f":"'Listă posturi'!K814","v":", , , ID , "},{"$f":"'Listă posturi'!I814","v":0},{"$f":"'Listă posturi'!L814","v":"-"}]
[null,810,{"$f":"'Listă posturi'!K815","v":", , , ID , "},{"$f":"'Listă posturi'!I815","v":0},{"$f":"'Listă posturi'!L815","v":"-"}]
[null,811,{"$f":"'Listă posturi'!K816","v":", , , ID , "},{"$f":"'Listă posturi'!I816","v":0},{"$f":"'Listă posturi'!L816","v":"-"}]
[null,812,{"$f":"'Listă posturi'!K817","v":", , , ID , "},{"$f":"'Listă posturi'!I817","v":0},{"$f":"'Listă posturi'!L817","v":"-"}]
[null,813,{"$f":"'Listă posturi'!K818","v":", , , ID , "},{"$f":"'Listă posturi'!I818","v":0},{"$f":"'Listă posturi'!L818","v":"-"}]
[null,814,{"$f":"'Listă posturi'!K819","v":", , , ID , "},{"$f":"'Listă posturi'!I819","v":0},{"$f":"'Listă posturi'!L819","v":"-"}]
[null,815,{"$f":"'Listă posturi'!K820","v":", , , ID , "},{"$f":"'Listă posturi'!I820","v":0},{"$f":"'Listă posturi'!L820","v":"-"}]
[null,816,{"$f":"'Listă posturi'!K821","v":", , , ID , "},{"$f":"'Listă posturi'!I821","v":0},{"$f":"'Listă posturi'!L821","v":"-"}]
[null,817,{"$f":"'Listă posturi'!K822","v":", , , ID , "},{"$f":"'Listă posturi'!I822","v":0},{"$f":"'Listă posturi'!L822","v":"-"}]
[null,818,{"$f":"'Listă posturi'!K823","v":", , , ID , "},{"$f":"'Listă posturi'!I823","v":0},{"$f":"'Listă posturi'!L823","v":"-"}]
[null,819,{"$f":"'Listă posturi'!K824","v":", , , ID , "},{"$f":"'Listă posturi'!I824","v":0},{"$f":"'Listă posturi'!L824","v":"-"}]
[null,820,{"$f":"'Listă posturi'!K825","v":", , , ID , "},{"$f":"'Listă posturi'!I825","v":0},{"$f":"'Listă posturi'!L825","v":"-"}]
[null,821,{"$f":"'Listă posturi'!K826","v":", , , ID , "},{"$f":"'Listă posturi'!I826","v":0},{"$f":"'Listă posturi'!L826","v":"-"}]
[null,822,{"$f":"'Listă posturi'!K827","v":", , , ID , "},{"$f":"'Listă posturi'!I827","v":0},{"$f":"'Listă posturi'!L827","v":"-"}]
[null,823,{"$f":"'Listă posturi'!K828","v":", , , ID , "},{"$f":"'Listă posturi'!I828","v":0},{"$f":"'Listă posturi'!L828","v":"-"}]
[null,824,{"$f":"'Listă posturi'!K829","v":", , , ID , "},{"$f":"'Listă posturi'!I829","v":0},{"$f":"'Listă posturi'!L829","v":"-"}]
[null,825,{"$f":"'Listă posturi'!K830","v":", , , ID , "},{"$f":"'Listă posturi'!I830","v":0},{"$f":"'Listă posturi'!L830","v":"-"}]
[null,826,{"$f":"'Listă posturi'!K831","v":", , , ID , "},{"$f":"'Listă posturi'!I831","v":0},{"$f":"'Listă posturi'!L831","v":"-"}]
[null,827,{"$f":"'Listă posturi'!K832","v":", , , ID , "},{"$f":"'Listă posturi'!I832","v":0},{"$f":"'Listă posturi'!L832","v":"-"}]
[null,828,{"$f":"'Listă posturi'!K833","v":", , , ID , "},{"$f":"'Listă posturi'!I833","v":0},{"$f":"'Listă posturi'!L833","v":"-"}]
[null,829,{"$f":"'Listă posturi'!K834","v":", , , ID , "},{"$f":"'Listă posturi'!I834","v":0},{"$f":"'Listă posturi'!L834","v":"-"}]
[null,830,{"$f":"'Listă posturi'!K835","v":", , , ID , "},{"$f":"'Listă posturi'!I835","v":0},{"$f":"'Listă posturi'!L835","v":"-"}]
[null,831,{"$f":"'Listă posturi'!K836","v":", , , ID , "},{"$f":"'Listă posturi'!I836","v":0},{"$f":"'Listă posturi'!L836","v":"-"}]
[null,832,{"$f":"'Listă posturi'!K837","v":", , , ID , "},{"$f":"'Listă posturi'!I837","v":0},{"$f":"'Listă posturi'!L837","v":"-"}]
[null,833,{"$f":"'Listă posturi'!K838","v":", , , ID , "},{"$f":"'Listă posturi'!I838","v":0},{"$f":"'Listă posturi'!L838","v":"-"}]
[null,834,{"$f":"'Listă posturi'!K839","v":", , , ID , "},{"$f":"'Listă posturi'!I839","v":0},{"$f":"'Listă posturi'!L839","v":"-"}]
[null,835,{"$f":"'Listă posturi'!K840","v":", , , ID , "},{"$f":"'Listă posturi'!I840","v":0},{"$f":"'Listă posturi'!L840","v":"-"}]
[null,836,{"$f":"'Listă posturi'!K841","v":", , , ID , "},{"$f":"'Listă posturi'!I841","v":0},{"$f":"'Listă posturi'!L841","v":"-"}]
[null,837,{"$f":"'Listă posturi'!K842","v":", , , ID , "},{"$f":"'Listă posturi'!I842","v":0},{"$f":"'Listă posturi'!L842","v":"-"}]
[null,838,{"$f":"'Listă posturi'!K843","v":", , , ID , "},{"$f":"'Listă posturi'!I843","v":0},{"$f":"'Listă posturi'!L843","v":"-"}]
[null,839,{"$f":"'Listă posturi'!K844","v":", , , ID , "},{"$f":"'Listă posturi'!I844","v":0},{"$f":"'Listă posturi'!L844","v":"-"}]
[null,840,{"$f":"'Listă posturi'!K845","v":", , , ID , "},{"$f":"'Listă posturi'!I845","v":0},{"$f":"'Listă posturi'!L845","v":"-"}]
[null,841,{"$f":"'Listă posturi'!K846","v":", , , ID , "},{"$f":"'Listă posturi'!I846","v":0},{"$f":"'Listă posturi'!L846","v":"-"}]
[null,842,{"$f":"'Listă posturi'!K847","v":", , , ID , "},{"$f":"'Listă posturi'!I847","v":0},{"$f":"'Listă posturi'!L847","v":"-"}]
[null,843,{"$f":"'Listă posturi'!K848","v":", , , ID , "},{"$f":"'Listă posturi'!I848","v":0},{"$f":"'Listă posturi'!L848","v":"-"}]
[null,844,{"$f":"'Listă posturi'!K849","v":", , , ID , "},{"$f":"'Listă posturi'!I849","v":0},{"$f":"'Listă posturi'!L849","v":"-"}]
[null,845,{"$f":"'Listă posturi'!K850","v":", , , ID , "},{"$f":"'Listă posturi'!I850","v":0},{"$f":"'Listă posturi'!L850","v":"-"}]
[null,846,{"$f":"'Listă posturi'!K851","v":", , , ID , "},{"$f":"'Listă posturi'!I851","v":0},{"$f":"'Listă posturi'!L851","v":"-"}]
[null,847,{"$f":"'Listă posturi'!K852","v":", , , ID , "},{"$f":"'Listă posturi'!I852","v":0},{"$f":"'Listă posturi'!L852","v":"-"}]
[null,848,{"$f":"'Listă posturi'!K853","v":", , , ID , "},{"$f":"'Listă posturi'!I853","v":0},{"$f":"'Listă posturi'!L853","v":"-"}]
[null,849,{"$f":"'Listă posturi'!K854","v":", , , ID , "},{"$f":"'Listă posturi'!I854","v":0},{"$f":"'Listă posturi'!L854","v":"-"}]
[null,850,{"$f":"'Listă posturi'!K855","v":", , , ID , "},{"$f":"'Listă posturi'!I855","v":0},{"$f":"'Listă posturi'!L855","v":"-"}]
[null,851,{"$f":"'Listă posturi'!K856","v":", , , ID , "},{"$f":"'Listă posturi'!I856","v":0},{"$f":"'Listă posturi'!L856","v":"-"}]
[null,852,{"$f":"'Listă posturi'!K857","v":", , , ID , "},{"$f":"'Listă posturi'!I857","v":0},{"$f":"'Listă posturi'!L857","v":"-"}]
[null,853,{"$f":"'Listă posturi'!K858","v":", , , ID , "},{"$f":"'Listă posturi'!I858","v":0},{"$f":"'Listă posturi'!L858","v":"-"}]
[null,854,{"$f":"'Listă posturi'!K859","v":", , , ID , "},{"$f":"'Listă posturi'!I859","v":0},{"$f":"'Listă posturi'!L859","v":"-"}]
[null,855,{"$f":"'Listă posturi'!K860","v":", , , ID , "},{"$f":"'Listă posturi'!I860","v":0},{"$f":"'Listă posturi'!L860","v":"-"}]
[null,856,{"$f":"'Listă posturi'!K861","v":", , , ID , "},{"$f":"'Listă posturi'!I861","v":0},{"$f":"'Listă posturi'!L861","v":"-"}]
[null,857,{"$f":"'Listă posturi'!K862","v":", , , ID , "},{"$f":"'Listă posturi'!I862","v":0},{"$f":"'Listă posturi'!L862","v":"-"}]
[null,858,{"$f":"'Listă posturi'!K863","v":", , , ID , "},{"$f":"'Listă posturi'!I863","v":0},{"$f":"'Listă posturi'!L863","v":"-"}]
[null,859,{"$f":"'Listă posturi'!K864","v":", , , ID , "},{"$f":"'Listă posturi'!I864","v":0},{"$f":"'Listă posturi'!L864","v":"-"}]
[null,860,{"$f":"'Listă posturi'!K865","v":", , , ID , "},{"$f":"'Listă posturi'!I865","v":0},{"$f":"'Listă posturi'!L865","v":"-"}]
[null,861,{"$f":"'Listă posturi'!K866","v":", , , ID , "},{"$f":"'Listă posturi'!I866","v":0},{"$f":"'Listă posturi'!L866","v":"-"}]
[null,862,{"$f":"'Listă posturi'!K867","v":", , , ID , "},{"$f":"'Listă posturi'!I867","v":0},{"$f":"'Listă posturi'!L867","v":"-"}]
[null,863,{"$f":"'Listă posturi'!K868","v":", , , ID , "},{"$f":"'Listă posturi'!I868","v":0},{"$f":"'Listă posturi'!L868","v":"-"}]
[null,864,{"$f":"'Listă posturi'!K869","v":", , , ID , "},{"$f":"'Listă posturi'!I869","v":0},{"$f":"'Listă posturi'!L869","v":"-"}]
[null,865,{"$f":"'Listă posturi'!K870","v":", , , ID , "},{"$f":"'Listă posturi'!I870","v":0},{"$f":"'Listă posturi'!L870","v":"-"}]
[null,866,{"$f":"'Listă posturi'!K871","v":", , , ID , "},{"$f":"'Listă posturi'!I871","v":0},{"$f":"'Listă posturi'!L871","v":"-"}]
[null,867,{"$f":"'Listă posturi'!K872","v":", , , ID , "},{"$f":"'Listă posturi'!I872","v":0},{"$f":"'Listă posturi'!L872","v":"-"}]
[null,868,{"$f":"'Listă posturi'!K873","v":", , , ID , "},{"$f":"'Listă posturi'!I873","v":0},{"$f":"'Listă posturi'!L873","v":"-"}]
[null,869,{"$f":"'Listă posturi'!K874","v":", , , ID , "},{"$f":"'Listă posturi'!I874","v":0},{"$f":"'Listă posturi'!L874","v":"-"}]
[null,870,{"$f":"'Listă posturi'!K875","v":", , , ID , "},{"$f":"'Listă posturi'!I875","v":0},{"$f":"'Listă posturi'!L875","v":"-"}]
[null,871,{"$f":"'Listă posturi'!K876","v":", , , ID , "},{"$f":"'Listă posturi'!I876","v":0},{"$f":"'Listă posturi'!L876","v":"-"}]
[null,872,{"$f":"'Listă posturi'!K877","v":", , , ID , "},{"$f":"'Listă posturi'!I877","v":0},{"$f":"'Listă posturi'!L877","v":"-"}]
[null,873,{"$f":"'Listă posturi'!K878","v":", , , ID , "},{"$f":"'Listă posturi'!I878","v":0},{"$f":"'Listă posturi'!L878","v":"-"}]
[null,874,{"$f":"'Listă posturi'!K879","v":", , , ID , "},{"$f":"'Listă posturi'!I879","v":0},{"$f":"'Listă posturi'!L879","v":"-"}]
[null,875,{"$f":"'Listă posturi'!K880","v":", , , ID , "},{"$f":"'Listă posturi'!I880","v":0},{"$f":"'Listă posturi'!L880","v":"-"}]
[null,876,{"$f":"'Listă posturi'!K881","v":", , , ID , "},{"$f":"'Listă posturi'!I881","v":0},{"$f":"'Listă posturi'!L881","v":"-"}]
[null,877,{"$f":"'Listă posturi'!K882","v":", , , ID , "},{"$f":"'Listă posturi'!I882","v":0},{"$f":"'Listă posturi'!L882","v":"-"}]
[null,878,{"$f":"'Listă posturi'!K883","v":", , , ID , "},{"$f":"'Listă posturi'!I883","v":0},{"$f":"'Listă posturi'!L883","v":"-"}]
[null,879,{"$f":"'Listă posturi'!K884","v":", , , ID , "},{"$f":"'Listă posturi'!I884","v":0},{"$f":"'Listă posturi'!L884","v":"-"}]
[null,880,{"$f":"'Listă posturi'!K885","v":", , , ID , "},{"$f":"'Listă posturi'!I885","v":0},{"$f":"'Listă posturi'!L885","v":"-"}]
[null,881,{"$f":"'Listă posturi'!K886","v":", , , ID , "},{"$f":"'Listă posturi'!I886","v":0},{"$f":"'Listă posturi'!L886","v":"-"}]
[null,882,{"$f":"'Listă posturi'!K887","v":", , , ID , "},{"$f":"'Listă posturi'!I887","v":0},{"$f":"'Listă posturi'!L887","v":"-"}]
[null,883,{"$f":"'Listă posturi'!K888","v":", , , ID , "},{"$f":"'Listă posturi'!I888","v":0},{"$f":"'Listă posturi'!L888","v":"-"}]
[null,884,{"$f":"'Listă posturi'!K889","v":", , , ID , "},{"$f":"'Listă posturi'!I889","v":0},{"$f":"'Listă posturi'!L889","v":"-"}]
[null,885,{"$f":"'Listă posturi'!K890","v":", , , ID , "},{"$f":"'Listă posturi'!I890","v":0},{"$f":"'Listă posturi'!L890","v":"-"}]
[null,886,{"$f":"'Listă posturi'!K891","v":", , , ID , "},{"$f":"'Listă posturi'!I891","v":0},{"$f":"'Listă posturi'!L891","v":"-"}]
[null,887,{"$f":"'Listă posturi'!K892","v":", , , ID , "},{"$f":"'Listă posturi'!I892","v":0},{"$f":"'Listă posturi'!L892","v":"-"}]
[null,888,{"$f":"'Listă posturi'!K893","v":", , , ID , "},{"$f":"'Listă posturi'!I893","v":0},{"$f":"'Listă posturi'!L893","v":"-"}]
[null,889,{"$f":"'Listă posturi'!K894","v":", , , ID , "},{"$f":"'Listă posturi'!I894","v":0},{"$f":"'Listă posturi'!L894","v":"-"}]
[null,890,{"$f":"'Listă posturi'!K895","v":", , , ID , "},{"$f":"'Listă posturi'!I895","v":0},{"$f":"'Listă posturi'!L895","v":"-"}]
[null,891,{"$f":"'Listă posturi'!K896","v":", , , ID , "},{"$f":"'Listă posturi'!I896","v":0},{"$f":"'Listă posturi'!L896","v":"-"}]
[null,892,{"$f":"'Listă posturi'!K897","v":", , , ID , "},{"$f":"'Listă posturi'!I897","v":0},{"$f":"'Listă posturi'!L897","v":"-"}]
[null,893,{"$f":"'Listă posturi'!K898","v":", , , ID , "},{"$f":"'Listă posturi'!I898","v":0},{"$f":"'Listă posturi'!L898","v":"-"}]
[null,894,{"$f":"'Listă posturi'!K899","v":", , , ID , "},{"$f":"'Listă posturi'!I899","v":0},{"$f":"'Listă posturi'!L899","v":"-"}]
[null,895,{"$f":"'Listă posturi'!K900","v":", , , ID , "},{"$f":"'Listă posturi'!I900","v":0},{"$f":"'Listă posturi'!L900","v":"-"}]
[null,896,{"$f":"'Listă posturi'!K901","v":", , , ID , "},{"$f":"'Listă posturi'!I901","v":0},{"$f":"'Listă posturi'!L901","v":"-"}]
[null,897,{"$f":"'Listă posturi'!K902","v":", , , ID , "},{"$f":"'Listă posturi'!I902","v":0},{"$f":"'Listă posturi'!L902","v":"-"}]
[null,898,{"$f":"'Listă posturi'!K903","v":", , , ID , "},{"$f":"'Listă posturi'!I903","v":0},{"$f":"'Listă posturi'!L903","v":"-"}]
[null,899,{"$f":"'Listă posturi'!K904","v":", , , ID , "},{"$f":"'Listă posturi'!I904","v":0},{"$f":"'Listă posturi'!L904","v":"-"}]
[null,900,{"$f":"'Listă posturi'!K905","v":", , , ID , "},{"$f":"'Listă posturi'!I905","v":0},{"$f":"'Listă posturi'!L905","v":"-"}]
[null,901,{"$f":"'Listă posturi'!K906","v":", , , ID , "},{"$f":"'Listă posturi'!I906","v":0},{"$f":"'Listă posturi'!L906","v":"-"}]
[null,902,{"$f":"'Listă posturi'!K907","v":", , , ID , "},{"$f":"'Listă posturi'!I907","v":0},{"$f":"'Listă posturi'!L907","v":"-"}]
[null,903,{"$f":"'Listă posturi'!K908","v":", , , ID , "},{"$f":"'Listă posturi'!I908","v":0},{"$f":"'Listă posturi'!L908","v":"-"}]
[null,904,{"$f":"'Listă posturi'!K909","v":", , , ID , "},{"$f":"'Listă posturi'!I909","v":0},{"$f":"'Listă posturi'!L909","v":"-"}]
[null,905,{"$f":"'Listă posturi'!K910","v":", , , ID , "},{"$f":"'Listă posturi'!I910","v":0},{"$f":"'Listă posturi'!L910","v":"-"}]
[null,906,{"$f":"'Listă posturi'!K911","v":", , , ID , "},{"$f":"'Listă posturi'!I911","v":0},{"$f":"'Listă posturi'!L911","v":"-"}]
[null,907,{"$f":"'Listă posturi'!K912","v":", , , ID , "},{"$f":"'Listă posturi'!I912","v":0},{"$f":"'Listă posturi'!L912","v":"-"}]
[null,908,{"$f":"'Listă posturi'!K913","v":", , , ID , "},{"$f":"'Listă posturi'!I913","v":0},{"$f":"'Listă posturi'!L913","v":"-"}]
[null,909,{"$f":"'Listă posturi'!K914","v":", , , ID , "},{"$f":"'Listă posturi'!I914","v":0},{"$f":"'Listă posturi'!L914","v":"-"}]
[null,910,{"$f":"'Listă posturi'!K915","v":", , , ID , "},{"$f":"'Listă posturi'!I915","v":0},{"$f":"'Listă posturi'!L915","v":"-"}]
[null,911,{"$f":"'Listă posturi'!K916","v":", , , ID , "},{"$f":"'Listă posturi'!I916","v":0},{"$f":"'Listă posturi'!L916","v":"-"}]
[null,912,{"$f":"'Listă posturi'!K917","v":", , , ID , "},{"$f":"'Listă posturi'!I917","v":0},{"$f":"'Listă posturi'!L917","v":"-"}]
[null,913,{"$f":"'Listă posturi'!K918","v":", , , ID , "},{"$f":"'Listă posturi'!I918","v":0},{"$f":"'Listă posturi'!L918","v":"-"}]
[null,914,{"$f":"'Listă posturi'!K919","v":", , , ID , "},{"$f":"'Listă posturi'!I919","v":0},{"$f":"'Listă posturi'!L919","v":"-"}]
[null,915,{"$f":"'Listă posturi'!K920","v":", , , ID , "},{"$f":"'Listă posturi'!I920","v":0},{"$f":"'Listă posturi'!L920","v":"-"}]
[null,916,{"$f":"'Listă posturi'!K921","v":", , , ID , "},{"$f":"'Listă posturi'!I921","v":0},{"$f":"'Listă posturi'!L921","v":"-"}]
[null,917,{"$f":"'Listă posturi'!K922","v":", , , ID , "},{"$f":"'Listă posturi'!I922","v":0},{"$f":"'Listă posturi'!L922","v":"-"}]
[null,918,{"$f":"'Listă posturi'!K923","v":", , , ID , "},{"$f":"'Listă posturi'!I923","v":0},{"$f":"'Listă posturi'!L923","v":"-"}]
[null,919,{"$f":"'Listă posturi'!K924","v":", , , ID , "},{"$f":"'Listă posturi'!I924","v":0},{"$f":"'Listă posturi'!L924","v":"-"}]
[null,920,{"$f":"'Listă posturi'!K925","v":", , , ID , "},{"$f":"'Listă posturi'!I925","v":0},{"$f":"'Listă posturi'!L925","v":"-"}]
[null,921,{"$f":"'Listă posturi'!K926","v":", , , ID , "},{"$f":"'Listă posturi'!I926","v":0},{"$f":"'Listă posturi'!L926","v":"-"}]
[null,922,{"$f":"'Listă posturi'!K927","v":", , , ID , "},{"$f":"'Listă posturi'!I927","v":0},{"$f":"'Listă posturi'!L927","v":"-"}]
[null,923,{"$f":"'Listă posturi'!K928","v":", , , ID , "},{"$f":"'Listă posturi'!I928","v":0},{"$f":"'Listă posturi'!L928","v":"-"}]
[null,924,{"$f":"'Listă posturi'!K929","v":", , , ID , "},{"$f":"'Listă posturi'!I929","v":0},{"$f":"'Listă posturi'!L929","v":"-"}]
[null,925,{"$f":"'Listă posturi'!K930","v":", , , ID , "},{"$f":"'Listă posturi'!I930","v":0},{"$f":"'Listă posturi'!L930","v":"-"}]
[null,926,{"$f":"'Listă posturi'!K931","v":", , , ID , "},{"$f":"'Listă posturi'!I931","v":0},{"$f":"'Listă posturi'!L931","v":"-"}]
[null,927,{"$f":"'Listă posturi'!K932","v":", , , ID , "},{"$f":"'Listă posturi'!I932","v":0},{"$f":"'Listă posturi'!L932","v":"-"}]
[null,928,{"$f":"'Listă posturi'!K933","v":", , , ID , "},{"$f":"'Listă posturi'!I933","v":0},{"$f":"'Listă posturi'!L933","v":"-"}]
[null,929,{"$f":"'Listă posturi'!K934","v":", , , ID , "},{"$f":"'Listă posturi'!I934","v":0},{"$f":"'Listă posturi'!L934","v":"-"}]
[null,930,{"$f":"'Listă posturi'!K935","v":", , , ID , "},{"$f":"'Listă posturi'!I935","v":0},{"$f":"'Listă posturi'!L935","v":"-"}]
[null,931,{"$f":"'Listă posturi'!K936","v":", , , ID , "},{"$f":"'Listă posturi'!I936","v":0},{"$f":"'Listă posturi'!L936","v":"-"}]
[null,932,{"$f":"'Listă posturi'!K937","v":", , , ID , "},{"$f":"'Listă posturi'!I937","v":0},{"$f":"'Listă posturi'!L937","v":"-"}]
[null,933,{"$f":"'Listă posturi'!K938","v":", , , ID , "},{"$f":"'Listă posturi'!I938","v":0},{"$f":"'Listă posturi'!L938","v":"-"}]
[null,934,{"$f":"'Listă posturi'!K939","v":", , , ID , "},{"$f":"'Listă posturi'!I939","v":0},{"$f":"'Listă posturi'!L939","v":"-"}]
[null,935,{"$f":"'Listă posturi'!K940","v":", , , ID , "},{"$f":"'Listă posturi'!I940","v":0},{"$f":"'Listă posturi'!L940","v":"-"}]
[null,936,{"$f":"'Listă posturi'!K941","v":", , , ID , "},{"$f":"'Listă posturi'!I941","v":0},{"$f":"'Listă posturi'!L941","v":"-"}]
[null,937,{"$f":"'Listă posturi'!K942","v":", , , ID , "},{"$f":"'Listă posturi'!I942","v":0},{"$f":"'Listă posturi'!L942","v":"-"}]
[null,938,{"$f":"'Listă posturi'!K943","v":", , , ID , "},{"$f":"'Listă posturi'!I943","v":0},{"$f":"'Listă posturi'!L943","v":"-"}]
[null,939,{"$f":"'Listă posturi'!K944","v":", , , ID , "},{"$f":"'Listă posturi'!I944","v":0},{"$f":"'Listă posturi'!L944","v":"-"}]
[null,940,{"$f":"'Listă posturi'!K945","v":", , , ID , "},{"$f":"'Listă posturi'!I945","v":0},{"$f":"'Listă posturi'!L945","v":"-"}]
[null,941,{"$f":"'Listă posturi'!K946","v":", , , ID , "},{"$f":"'Listă posturi'!I946","v":0},{"$f":"'Listă posturi'!L946","v":"-"}]
[null,942,{"$f":"'Listă posturi'!K947","v":", , , ID , "},{"$f":"'Listă posturi'!I947","v":0},{"$f":"'Listă posturi'!L947","v":"-"}]
[null,943,{"$f":"'Listă posturi'!K948","v":", , , ID , "},{"$f":"'Listă posturi'!I948","v":0},{"$f":"'Listă posturi'!L948","v":"-"}]
[null,944,{"$f":"'Listă posturi'!K949","v":", , , ID , "},{"$f":"'Listă posturi'!I949","v":0},{"$f":"'Listă posturi'!L949","v":"-"}]
[null,945,{"$f":"'Listă posturi'!K950","v":", , , ID , "},{"$f":"'Listă posturi'!I950","v":0},{"$f":"'Listă posturi'!L950","v":"-"}]
[null,946,{"$f":"'Listă posturi'!K951","v":", , , ID , "},{"$f":"'Listă posturi'!I951","v":0},{"$f":"'Listă posturi'!L951","v":"-"}]
[null,947,{"$f":"'Listă posturi'!K952","v":", , , ID , "},{"$f":"'Listă posturi'!I952","v":0},{"$f":"'Listă posturi'!L952","v":"-"}]
[null,948,{"$f":"'Listă posturi'!K953","v":", , , ID , "},{"$f":"'Listă posturi'!I953","v":0},{"$f":"'Listă posturi'!L953","v":"-"}]
[null,949,{"$f":"'Listă posturi'!K954","v":", , , ID , "},{"$f":"'Listă posturi'!I954","v":0},{"$f":"'Listă posturi'!L954","v":"-"}]
[null,950,{"$f":"'Listă posturi'!K955","v":", , , ID , "},{"$f":"'Listă posturi'!I955","v":0},{"$f":"'Listă posturi'!L955","v":"-"}]
[null,951,{"$f":"'Listă posturi'!K956","v":", , , ID , "},{"$f":"'Listă posturi'!I956","v":0},{"$f":"'Listă posturi'!L956","v":"-"}]
[null,952,{"$f":"'Listă posturi'!K957","v":", , , ID , "},{"$f":"'Listă posturi'!I957","v":0},{"$f":"'Listă posturi'!L957","v":"-"}]
[null,953,{"$f":"'Listă posturi'!K958","v":", , , ID , "},{"$f":"'Listă posturi'!I958","v":0},{"$f":"'Listă posturi'!L958","v":"-"}]
[null,954,{"$f":"'Listă posturi'!K959","v":", , , ID , "},{"$f":"'Listă posturi'!I959","v":0},{"$f":"'Listă posturi'!L959","v":"-"}]
[null,955,{"$f":"'Listă posturi'!K960","v":", , , ID , "},{"$f":"'Listă posturi'!I960","v":0},{"$f":"'Listă posturi'!L960","v":"-"}]
[null,956,{"$f":"'Listă posturi'!K961","v":", , , ID , "},{"$f":"'Listă posturi'!I961","v":0},{"$f":"'Listă posturi'!L961","v":"-"}]
[null,957,{"$f":"'Listă posturi'!K962","v":", , , ID , "},{"$f":"'Listă posturi'!I962","v":0},{"$f":"'Listă posturi'!L962","v":"-"}]
[null,958,{"$f":"'Listă posturi'!K963","v":", , , ID , "},{"$f":"'Listă posturi'!I963","v":0},{"$f":"'Listă posturi'!L963","v":"-"}]
[null,959,{"$f":"'Listă posturi'!K964","v":", , , ID , "},{"$f":"'Listă posturi'!I964","v":0},{"$f":"'Listă posturi'!L964","v":"-"}]
[null,960,{"$f":"'Listă posturi'!K965","v":", , , ID , "},{"$f":"'Listă posturi'!I965","v":0},{"$f":"'Listă posturi'!L965","v":"-"}]
[null,961,{"$f":"'Listă posturi'!K966","v":", , , ID , "},{"$f":"'Listă posturi'!I966","v":0},{"$f":"'Listă posturi'!L966","v":"-"}]
[null,962,{"$f":"'Listă posturi'!K967","v":", , , ID , "},{"$f":"'Listă posturi'!I967","v":0},{"$f":"'Listă posturi'!L967","v":"-"}]
[null,963,{"$f":"'Listă posturi'!K968","v":", , , ID , "},{"$f":"'Listă posturi'!I968","v":0},{"$f":"'Listă posturi'!L968","v":"-"}]
[null,964,{"$f":"'Listă posturi'!K969","v":", , , ID , "},{"$f":"'Listă posturi'!I969","v":0},{"$f":"'Listă posturi'!L969","v":"-"}]
[null,965,{"$f":"'Listă posturi'!K970","v":", , , ID , "},{"$f":"'Listă posturi'!I970","v":0},{"$f":"'Listă posturi'!L970","v":"-"}]
[null,966,{"$f":"'Listă posturi'!K971","v":", , , ID , "},{"$f":"'Listă posturi'!I971","v":0},{"$f":"'Listă posturi'!L971","v":"-"}]
[null,967,{"$f":"'Listă posturi'!K972","v":", , , ID , "},{"$f":"'Listă posturi'!I972","v":0},{"$f":"'Listă posturi'!L972","v":"-"}]
[null,968,{"$f":"'Listă posturi'!K973","v":", , , ID , "},{"$f":"'Listă posturi'!I973","v":0},{"$f":"'Listă posturi'!L973","v":"-"}]
[null,969,{"$f":"'Listă posturi'!K974","v":", , , ID , "},{"$f":"'Listă posturi'!I974","v":0},{"$f":"'Listă posturi'!L974","v":"-"}]
[null,970,{"$f":"'Listă posturi'!K975","v":", , , ID , "},{"$f":"'Listă posturi'!I975","v":0},{"$f":"'Listă posturi'!L975","v":"-"}]
[null,971,{"$f":"'Listă posturi'!K976","v":", , , ID , "},{"$f":"'Listă posturi'!I976","v":0},{"$f":"'Listă posturi'!L976","v":"-"}]
[null,972,{"$f":"'Listă posturi'!K977","v":", , , ID , "},{"$f":"'Listă posturi'!I977","v":0},{"$f":"'Listă posturi'!L977","v":"-"}]
[null,973,{"$f":"'Listă posturi'!K978","v":", , , ID , "},{"$f":"'Listă posturi'!I978","v":0},{"$f":"'Listă posturi'!L978","v":"-"}]
[null,974,{"$f":"'Listă posturi'!K979","v":", , , ID , "},{"$f":"'Listă posturi'!I979","v":0},{"$f":"'Listă posturi'!L979","v":"-"}]
[null,975,{"$f":"'Listă posturi'!K980","v":", , , ID , "},{"$f":"'Listă posturi'!I980","v":0},{"$f":"'Listă posturi'!L980","v":"-"}]
[null,976,{"$f":"'Listă posturi'!K981","v":", , , ID , "},{"$f":"'Listă posturi'!I981","v":0},{"$f":"'Listă posturi'!L981","v":"-"}]
[null,977,{"$f":"'Listă posturi'!K982","v":", , , ID , "},{"$f":"'Listă posturi'!I982","v":0},{"$f":"'Listă posturi'!L982","v":"-"}]
[null,978,{"$f":"'Listă posturi'!K983","v":", , , ID , "},{"$f":"'Listă posturi'!I983","v":0},{"$f":"'Listă posturi'!L983","v":"-"}]
[null,979,{"$f":"'Listă posturi'!K984","v":", , , ID , "},{"$f":"'Listă posturi'!I984","v":0},{"$f":"'Listă posturi'!L984","v":"-"}]
[null,980,{"$f":"'Listă posturi'!K985","v":", , , ID , "},{"$f":"'Listă posturi'!I985","v":0},{"$f":"'Listă posturi'!L985","v":"-"}]
[null,981,{"$f":"'Listă posturi'!K986","v":", , , ID , "},{"$f":"'Listă posturi'!I986","v":0},{"$f":"'Listă posturi'!L986","v":"-"}]
[null,982,{"$f":"'Listă posturi'!K987","v":", , , ID , "},{"$f":"'Listă posturi'!I987","v":0},{"$f":"'Listă posturi'!L987","v":"-"}]
[null,983,{"$f":"'Listă posturi'!K988","v":", , , ID , "},{"$f":"'Listă posturi'!I988","v":0},{"$f":"'Listă posturi'!L988","v":"-"}]
[null,984,{"$f":"'Listă posturi'!K989","v":", , , ID , "},{"$f":"'Listă posturi'!I989","v":0},{"$f":"'Listă posturi'!L989","v":"-"}]
[null,985,{"$f":"'Listă posturi'!K990","v":", , , ID , "},{"$f":"'Listă posturi'!I990","v":0},{"$f":"'Listă posturi'!L990","v":"-"}]
[null,986,{"$f":"'Listă posturi'!K991","v":", , , ID , "},{"$f":"'Listă posturi'!I991","v":0},{"$f":"'Listă posturi'!L991","v":"-"}]
[null,987,{"$f":"'Listă posturi'!K992","v":", , , ID , "},{"$f":"'Listă posturi'!I992","v":0},{"$f":"'Listă posturi'!L992","v":"-"}]
[null,988,{"$f":"'Listă posturi'!K993","v":", , , ID , "},{"$f":"'Listă posturi'!I993","v":0},{"$f":"'Listă posturi'!L993","v":"-"}]
[null,989,{"$f":"'Listă posturi'!K994","v":", , , ID , "},{"$f":"'Listă posturi'!I994","v":0},{"$f":"'Listă posturi'!L994","v":"-"}]
[null,990,{"$f":"'Listă posturi'!K995","v":", , , ID , "},{"$f":"'Listă posturi'!I995","v":0},{"$f":"'Listă posturi'!L995","v":"-"}]
[null,991,{"$f":"'Listă posturi'!K996","v":", , , ID , "},{"$f":"'Listă posturi'!I996","v":0},{"$f":"'Listă posturi'!L996","v":"-"}]
[null,992,{"$f":"'Listă posturi'!K997","v":", , , ID , "},{"$f":"'Listă posturi'!I997","v":0},{"$f":"'Listă posturi'!L997","v":"-"}]
[null,993,{"$f":"'Listă posturi'!K998","v":", , , ID , "},{"$f":"'Listă posturi'!I998","v":0},{"$f":"'Listă posturi'!L998","v":"-"}]
[null,994,{"$f":"'Listă posturi'!K999","v":", , , ID , "},{"$f":"'Listă posturi'!I999","v":0},{"$f":"'Listă posturi'!L999","v":"-"}]
[null,995,{"$f":"'Listă posturi'!K1000","v":", , , ID , "},{"$f":"'Listă posturi'!I1000","v":0},{"$f":"'Listă posturi'!L1000","v":"-"}]
[null,996,{"$f":"'Listă posturi'!K1001","v":", , , ID , "},{"$f":"'Listă posturi'!I1001","v":0},{"$f":"'Listă posturi'!L1001","v":"-"}]
[null,997,{"$f":"'Listă posturi'!K1002","v":", , , ID , "},{"$f":"'Listă posturi'!I1002","v":0},{"$f":"'Listă posturi'!L1002","v":"-"}]
[null,998,{"$f":"'Listă posturi'!K1003","v":", , , ID , "},{"$f":"'Listă posturi'!I1003","v":0},{"$f":"'Listă posturi'!L1003","v":"-"}]
[null,999,{"$f":"'Listă posturi'!K1004","v":", , , ID , "},{"$f":"'Listă posturi'!I1004","v":0},{"$f":"'Listă posturi'!L1004","v":"-"}]
[null,1000,{"$f":"'Listă posturi'!K1005","v":", , , ID , "},{"$f":"'Listă posturi'!I1005","v":0},{"$f":"'Listă posturi'!L1005","v":"-"}]
[null,1001,{"$f":"'Listă posturi'!K1006","v":", , , ID , "},{"$f":"'Listă posturi'!I1006","v":0},{"$f":"'Listă posturi'!L1006","v":"-"}]
[null,1002,{"$f":"'Listă posturi'!K1007","v":", , , ID , "},{"$f":"'Listă posturi'!I1007","v":0},{"$f":"'Listă posturi'!L1007","v":"-"}]
[null,1003,{"$f":"'Listă posturi'!K1008","v":", , , ID , "},{"$f":"'Listă posturi'!I1008","v":0},{"$f":"'Listă posturi'!L1008","v":"-"}]
[null,1004,{"$f":"'Listă posturi'!K1009","v":", , , ID , "},{"$f":"'Listă posturi'!I1009","v":0},{"$f":"'Listă posturi'!L1009","v":"-"}]
[null,1005,{"$f":"'Listă posturi'!K1010","v":", , , ID , "},{"$f":"'Listă posturi'!I1010","v":0},{"$f":"'Listă posturi'!L1010","v":"-"}]
[null,1006,{"$f":"'Listă posturi'!K1011","v":", , , ID , "},{"$f":"'Listă posturi'!I1011","v":0},{"$f":"'Listă posturi'!L1011","v":"-"}]
[null,1007,{"$f":"'Listă posturi'!K1012","v":", , , ID , "},{"$f":"'Listă posturi'!I1012","v":0},{"$f":"'Listă posturi'!L1012","v":"-"}]
[null,1008,{"$f":"'Listă posturi'!K1013","v":", , , ID , "},{"$f":"'Listă posturi'!I1013","v":0},{"$f":"'Listă posturi'!L1013","v":"-"}]
[null,1009,{"$f":"'Listă posturi'!K1014","v":", , , ID , "},{"$f":"'Listă posturi'!I1014","v":0},{"$f":"'Listă posturi'!L1014","v":"-"}]
[null,1010,{"$f":"'Listă posturi'!K1015","v":", , , ID , "},{"$f":"'Listă posturi'!I1015","v":0},{"$f":"'Listă posturi'!L1015","v":"-"}]
[null,1011,{"$f":"'Listă posturi'!K1016","v":", , , ID , "},{"$f":"'Listă posturi'!I1016","v":0},{"$f":"'Listă posturi'!L1016","v":"-"}]
[null,1012,{"$f":"'Listă posturi'!K1017","v":", , , ID , "},{"$f":"'Listă posturi'!I1017","v":0},{"$f":"'Listă posturi'!L1017","v":"-"}]
[null,1013,{"$f":"'Listă posturi'!K1018","v":", , , ID , "},{"$f":"'Listă posturi'!I1018","v":0},{"$f":"'Listă posturi'!L1018","v":"-"}]
[null,1014,{"$f":"'Listă posturi'!K1019","v":", , , ID , "},{"$f":"'Listă posturi'!I1019","v":0},{"$f":"'Listă posturi'!L1019","v":"-"}]
[null,1015,{"$f":"'Listă posturi'!K1020","v":", , , ID , "},{"$f":"'Listă posturi'!I1020","v":0},{"$f":"'Listă posturi'!L1020","v":"-"}]
[null,1016,{"$f":"'Listă posturi'!K1021","v":", , , ID , "},{"$f":"'Listă posturi'!I1021","v":0},{"$f":"'Listă posturi'!L1021","v":"-"}]
[null,1017,{"$f":"'Listă posturi'!K1022","v":", , , ID , "},{"$f":"'Listă posturi'!I1022","v":0},{"$f":"'Listă posturi'!L1022","v":"-"}]
[null,1018,{"$f":"'Listă posturi'!K1023","v":", , , ID , "},{"$f":"'Listă posturi'!I1023","v":0},{"$f":"'Listă posturi'!L1023","v":"-"}]
[null,1019,{"$f":"'Listă posturi'!K1024","v":", , , ID , "},{"$f":"'Listă posturi'!I1024","v":0},{"$f":"'Listă posturi'!L1024","v":"-"}]
[null,1020,{"$f":"'Listă posturi'!K1025","v":", , , ID , "},{"$f":"'Listă posturi'!I1025","v":0},{"$f":"'Listă posturi'!L1025","v":"-"}]
[null,1021,{"$f":"'Listă posturi'!K1026","v":", , , ID , "},{"$f":"'Listă posturi'!I1026","v":0},{"$f":"'Listă posturi'!L1026","v":"-"}]
[null,1022,{"$f":"'Listă posturi'!K1027","v":", , , ID , "},{"$f":"'Listă posturi'!I1027","v":0},{"$f":"'Listă posturi'!L1027","v":"-"}]
[null,1023,{"$f":"'Listă posturi'!K1028","v":", , , ID , "},{"$f":"'Listă posturi'!I1028","v":0},{"$f":"'Listă posturi'!L1028","v":"-"}]
[null,1024,{"$f":"'Listă posturi'!K1029","v":", , , ID , "},{"$f":"'Listă posturi'!I1029","v":0},{"$f":"'Listă posturi'!L1029","v":"-"}]
[null,1025,{"$f":"'Listă posturi'!K1030","v":", , , ID , "},{"$f":"'Listă posturi'!I1030","v":0},{"$f":"'Listă posturi'!L1030","v":"-"}]
[null,1026,{"$f":"'Listă posturi'!K1031","v":", , , ID , "},{"$f":"'Listă posturi'!I1031","v":0},{"$f":"'Listă posturi'!L1031","v":"-"}]
[null,1027,{"$f":"'Listă posturi'!K1032","v":", , , ID , "},{"$f":"'Listă posturi'!I1032","v":0},{"$f":"'Listă posturi'!L1032","v":"-"}]
[null,1028,{"$f":"'Listă posturi'!K1033","v":", , , ID , "},{"$f":"'Listă posturi'!I1033","v":0},{"$f":"'Listă posturi'!L1033","v":"-"}]
[null,1029,{"$f":"'Listă posturi'!K1034","v":", , , ID , "},{"$f":"'Listă posturi'!I1034","v":0},{"$f":"'Listă posturi'!L1034","v":"-"}]
[null,1030,{"$f":"'Listă posturi'!K1035","v":", , , ID , "},{"$f":"'Listă posturi'!I1035","v":0},{"$f":"'Listă posturi'!L1035","v":"-"}]
[null,1031,{"$f":"'Listă posturi'!K1036","v":", , , ID , "},{"$f":"'Listă posturi'!I1036","v":0},{"$f":"'Listă posturi'!L1036","v":"-"}]
[null,1032,{"$f":"'Listă posturi'!K1037","v":", , , ID , "},{"$f":"'Listă posturi'!I1037","v":0},{"$f":"'Listă posturi'!L1037","v":"-"}]
[null,1033,{"$f":"'Listă posturi'!K1038","v":", , , ID , "},{"$f":"'Listă posturi'!I1038","v":0},{"$f":"'Listă posturi'!L1038","v":"-"}]
[null,1034,{"$f":"'Listă posturi'!K1039","v":", , , ID , "},{"$f":"'Listă posturi'!I1039","v":0},{"$f":"'Listă posturi'!L1039","v":"-"}]
[null,1035,{"$f":"'Listă posturi'!K1040","v":", , , ID , "},{"$f":"'Listă posturi'!I1040","v":0},{"$f":"'Listă posturi'!L1040","v":"-"}]
[null,1036,{"$f":"'Listă posturi'!K1041","v":", , , ID , "},{"$f":"'Listă posturi'!I1041","v":0},{"$f":"'Listă posturi'!L1041","v":"-"}]
[null,1037,{"$f":"'Listă posturi'!K1042","v":", , , ID , "},{"$f":"'Listă posturi'!I1042","v":0},{"$f":"'Listă posturi'!L1042","v":"-"}]
[null,1038,{"$f":"'Listă posturi'!K1043","v":", , , ID , "},{"$f":"'Listă posturi'!I1043","v":0},{"$f":"'Listă posturi'!L1043","v":"-"}]
[null,1039,{"$f":"'Listă posturi'!K1044","v":", , , ID , "},{"$f":"'Listă posturi'!I1044","v":0},{"$f":"'Listă posturi'!L1044","v":"-"}]
[null,1040,{"$f":"'Listă posturi'!K1045","v":", , , ID , "},{"$f":"'Listă posturi'!I1045","v":0},{"$f":"'Listă posturi'!L1045","v":"-"}]
[null,1041,{"$f":"'Listă posturi'!K1046","v":", , , ID , "},{"$f":"'Listă posturi'!I1046","v":0},{"$f":"'Listă posturi'!L1046","v":"-"}]
[null,1042,{"$f":"'Listă posturi'!K1047","v":", , , ID , "},{"$f":"'Listă posturi'!I1047","v":0},{"$f":"'Listă posturi'!L1047","v":"-"}]
[null,1043,{"$f":"'Listă posturi'!K1048","v":", , , ID , "},{"$f":"'Listă posturi'!I1048","v":0},{"$f":"'Listă posturi'!L1048","v":"-"}]
[null,1044,{"$f":"'Listă posturi'!K1049","v":", , , ID , "},{"$f":"'Listă posturi'!I1049","v":0},{"$f":"'Listă posturi'!L1049","v":"-"}]
[null,1045,{"$f":"'Listă posturi'!K1050","v":", , , ID , "},{"$f":"'Listă posturi'!I1050","v":0},{"$f":"'Listă posturi'!L1050","v":"-"}]
[null,1046,{"$f":"'Listă posturi'!K1051","v":", , , ID , "},{"$f":"'Listă posturi'!I1051","v":0},{"$f":"'Listă posturi'!L1051","v":"-"}]
[null,1047,{"$f":"'Listă posturi'!K1052","v":", , , ID , "},{"$f":"'Listă posturi'!I1052","v":0},{"$f":"'Listă posturi'!L1052","v":"-"}]
[null,1048,{"$f":"'Listă posturi'!K1053","v":", , , ID , "},{"$f":"'Listă posturi'!I1053","v":0},{"$f":"'Listă posturi'!L1053","v":"-"}]
[null,1049,{"$f":"'Listă posturi'!K1054","v":", , , ID , "},{"$f":"'Listă posturi'!I1054","v":0},{"$f":"'Listă posturi'!L1054","v":"-"}]
[null,1050,{"$f":"'Listă posturi'!K1055","v":", , , ID , "},{"$f":"'Listă posturi'!I1055","v":0},{"$f":"'Listă posturi'!L1055","v":"-"}]
[null,1051,{"$f":"'Listă posturi'!K1056","v":", , , ID , "},{"$f":"'Listă posturi'!I1056","v":0},{"$f":"'Listă posturi'!L1056","v":"-"}]
[null,1052,{"$f":"'Listă posturi'!K1057","v":", , , ID , "},{"$f":"'Listă posturi'!I1057","v":0},{"$f":"'Listă posturi'!L1057","v":"-"}]
[null,1053,{"$f":"'Listă posturi'!K1058","v":", , , ID , "},{"$f":"'Listă posturi'!I1058","v":0},{"$f":"'Listă posturi'!L1058","v":"-"}]
[null,1054,{"$f":"'Listă posturi'!K1059","v":", , , ID , "},{"$f":"'Listă posturi'!I1059","v":0},{"$f":"'Listă posturi'!L1059","v":"-"}]
[null,1055,{"$f":"'Listă posturi'!K1060","v":", , , ID , "},{"$f":"'Listă posturi'!I1060","v":0},{"$f":"'Listă posturi'!L1060","v":"-"}]
[null,1056,{"$f":"'Listă posturi'!K1061","v":", , , ID , "},{"$f":"'Listă posturi'!I1061","v":0},{"$f":"'Listă posturi'!L1061","v":"-"}]
[null,1057,{"$f":"'Listă posturi'!K1062","v":", , , ID , "},{"$f":"'Listă posturi'!I1062","v":0},{"$f":"'Listă posturi'!L1062","v":"-"}]
[null,1058,{"$f":"'Listă posturi'!K1063","v":", , , ID , "},{"$f":"'Listă posturi'!I1063","v":0},{"$f":"'Listă posturi'!L1063","v":"-"}]
[null,1059,{"$f":"'Listă posturi'!K1064","v":", , , ID , "},{"$f":"'Listă posturi'!I1064","v":0},{"$f":"'Listă posturi'!L1064","v":"-"}]
[null,1060,{"$f":"'Listă posturi'!K1065","v":", , , ID , "},{"$f":"'Listă posturi'!I1065","v":0},{"$f":"'Listă posturi'!L1065","v":"-"}]
[null,1061,{"$f":"'Listă posturi'!K1066","v":", , , ID , "},{"$f":"'Listă posturi'!I1066","v":0},{"$f":"'Listă posturi'!L1066","v":"-"}]
[null,1062,{"$f":"'Listă posturi'!K1067","v":", , , ID , "},{"$f":"'Listă posturi'!I1067","v":0},{"$f":"'Listă posturi'!L1067","v":"-"}]
[null,1063,{"$f":"'Listă posturi'!K1068","v":", , , ID , "},{"$f":"'Listă posturi'!I1068","v":0},{"$f":"'Listă posturi'!L1068","v":"-"}]
[null,1064,{"$f":"'Listă posturi'!K1069","v":", , , ID , "},{"$f":"'Listă posturi'!I1069","v":0},{"$f":"'Listă posturi'!L1069","v":"-"}]
[null,1065,{"$f":"'Listă posturi'!K1070","v":", , , ID , "},{"$f":"'Listă posturi'!I1070","v":0},{"$f":"'Listă posturi'!L1070","v":"-"}]
[null,1066,{"$f":"'Listă posturi'!K1071","v":", , , ID , "},{"$f":"'Listă posturi'!I1071","v":0},{"$f":"'Listă posturi'!L1071","v":"-"}]
[null,1067,{"$f":"'Listă posturi'!K1072","v":", , , ID , "},{"$f":"'Listă posturi'!I1072","v":0},{"$f":"'Listă posturi'!L1072","v":"-"}]
[null,1068,{"$f":"'Listă posturi'!K1073","v":", , , ID , "},{"$f":"'Listă posturi'!I1073","v":0},{"$f":"'Listă posturi'!L1073","v":"-"}]
[null,1069,{"$f":"'Listă posturi'!K1074","v":", , , ID , "},{"$f":"'Listă posturi'!I1074","v":0},{"$f":"'Listă posturi'!L1074","v":"-"}]
[null,1070,{"$f":"'Listă posturi'!K1075","v":", , , ID , "},{"$f":"'Listă posturi'!I1075","v":0},{"$f":"'Listă posturi'!L1075","v":"-"}]
[null,1071,{"$f":"'Listă posturi'!K1076","v":", , , ID , "},{"$f":"'Listă posturi'!I1076","v":0},{"$f":"'Listă posturi'!L1076","v":"-"}]
[null,1072,{"$f":"'Listă posturi'!K1077","v":", , , ID , "},{"$f":"'Listă posturi'!I1077","v":0},{"$f":"'Listă posturi'!L1077","v":"-"}]
[null,1073,{"$f":"'Listă posturi'!K1078","v":", , , ID , "},{"$f":"'Listă posturi'!I1078","v":0},{"$f":"'Listă posturi'!L1078","v":"-"}]
[null,1074,{"$f":"'Listă posturi'!K1079","v":", , , ID , "},{"$f":"'Listă posturi'!I1079","v":0},{"$f":"'Listă posturi'!L1079","v":"-"}]
[null,1075,{"$f":"'Listă posturi'!K1080","v":", , , ID , "},{"$f":"'Listă posturi'!I1080","v":0},{"$f":"'Listă posturi'!L1080","v":"-"}]
[null,1076,{"$f":"'Listă posturi'!K1081","v":", , , ID , "},{"$f":"'Listă posturi'!I1081","v":0},{"$f":"'Listă posturi'!L1081","v":"-"}]
[null,1077,{"$f":"'Listă posturi'!K1082","v":", , , ID , "},{"$f":"'Listă posturi'!I1082","v":0},{"$f":"'Listă posturi'!L1082","v":"-"}]
[null,1078,{"$f":"'Listă posturi'!K1083","v":", , , ID , "},{"$f":"'Listă posturi'!I1083","v":0},{"$f":"'Listă posturi'!L1083","v":"-"}]
[null,1079,{"$f":"'Listă posturi'!K1084","v":", , , ID , "},{"$f":"'Listă posturi'!I1084","v":0},{"$f":"'Listă posturi'!L1084","v":"-"}]
[null,1080,{"$f":"'Listă posturi'!K1085","v":", , , ID , "},{"$f":"'Listă posturi'!I1085","v":0},{"$f":"'Listă posturi'!L1085","v":"-"}]
[null,1081,{"$f":"'Listă posturi'!K1086","v":", , , ID , "},{"$f":"'Listă posturi'!I1086","v":0},{"$f":"'Listă posturi'!L1086","v":"-"}]
[null,1082,{"$f":"'Listă posturi'!K1087","v":", , , ID , "},{"$f":"'Listă posturi'!I1087","v":0},{"$f":"'Listă posturi'!L1087","v":"-"}]
[null,1083,{"$f":"'Listă posturi'!K1088","v":", , , ID , "},{"$f":"'Listă posturi'!I1088","v":0},{"$f":"'Listă posturi'!L1088","v":"-"}]
[null,1084,{"$f":"'Listă posturi'!K1089","v":", , , ID , "},{"$f":"'Listă posturi'!I1089","v":0},{"$f":"'Listă posturi'!L1089","v":"-"}]
[null,1085,{"$f":"'Listă posturi'!K1090","v":", , , ID , "},{"$f":"'Listă posturi'!I1090","v":0},{"$f":"'Listă posturi'!L1090","v":"-"}]
[null,1086,{"$f":"'Listă posturi'!K1091","v":", , , ID , "},{"$f":"'Listă posturi'!I1091","v":0},{"$f":"'Listă posturi'!L1091","v":"-"}]
[null,1087,{"$f":"'Listă posturi'!K1092","v":", , , ID , "},{"$f":"'Listă posturi'!I1092","v":0},{"$f":"'Listă posturi'!L1092","v":"-"}]
[null,1088,{"$f":"'Listă posturi'!K1093","v":", , , ID , "},{"$f":"'Listă posturi'!I1093","v":0},{"$f":"'Listă posturi'!L1093","v":"-"}]
[null,1089,{"$f":"'Listă posturi'!K1094","v":", , , ID , "},{"$f":"'Listă posturi'!I1094","v":0},{"$f":"'Listă posturi'!L1094","v":"-"}]
[null,1090,{"$f":"'Listă posturi'!K1095","v":", , , ID , "},{"$f":"'Listă posturi'!I1095","v":0},{"$f":"'Listă posturi'!L1095","v":"-"}]
[null,1091,{"$f":"'Listă posturi'!K1096","v":", , , ID , "},{"$f":"'Listă posturi'!I1096","v":0},{"$f":"'Listă posturi'!L1096","v":"-"}]
[null,1092,{"$f":"'Listă posturi'!K1097","v":", , , ID , "},{"$f":"'Listă posturi'!I1097","v":0},{"$f":"'Listă posturi'!L1097","v":"-"}]
[null,1093,{"$f":"'Listă posturi'!K1098","v":", , , ID , "},{"$f":"'Listă posturi'!I1098","v":0},{"$f":"'Listă posturi'!L1098","v":"-"}]
[null,1094,{"$f":"'Listă posturi'!K1099","v":", , , ID , "},{"$f":"'Listă posturi'!I1099","v":0},{"$f":"'Listă posturi'!L1099","v":"-"}]
[null,1095,{"$f":"'Listă posturi'!K1100","v":", , , ID , "},{"$f":"'Listă posturi'!I1100","v":0},{"$f":"'Listă posturi'!L1100","v":"-"}]
[null,1096,{"$f":"'Listă posturi'!K1101","v":", , , ID , "},{"$f":"'Listă posturi'!I1101","v":0},{"$f":"'Listă posturi'!L1101","v":"-"}]
[null,1097,{"$f":"'Listă posturi'!K1102","v":", , , ID , "},{"$f":"'Listă posturi'!I1102","v":0},{"$f":"'Listă posturi'!L1102","v":"-"}]
[null,1098,{"$f":"'Listă posturi'!K1103","v":", , , ID , "},{"$f":"'Listă posturi'!I1103","v":0},{"$f":"'Listă posturi'!L1103","v":"-"}]
[null,1099,{"$f":"'Listă posturi'!K1104","v":", , , ID , "},{"$f":"'Listă posturi'!I1104","v":0},{"$f":"'Listă posturi'!L1104","v":"-"}]
[null,1100,{"$f":"'Listă posturi'!K1105","v":", , , ID , "},{"$f":"'Listă posturi'!I1105","v":0},{"$f":"'Listă posturi'!L1105","v":"-"}]
[null,1101,{"$f":"'Listă posturi'!K1106","v":", , , ID , "},{"$f":"'Listă posturi'!I1106","v":0},{"$f":"'Listă posturi'!L1106","v":"-"}]
[null,1102,{"$f":"'Listă posturi'!K1107","v":", , , ID , "},{"$f":"'Listă posturi'!I1107","v":0},{"$f":"'Listă posturi'!L1107","v":"-"}]
[null,1103,{"$f":"'Listă posturi'!K1108","v":", , , ID , "},{"$f":"'Listă posturi'!I1108","v":0},{"$f":"'Listă posturi'!L1108","v":"-"}]
[null,1104,{"$f":"'Listă posturi'!K1109","v":", , , ID , "},{"$f":"'Listă posturi'!I1109","v":0},{"$f":"'Listă posturi'!L1109","v":"-"}]
[null,1105,{"$f":"'Listă posturi'!K1110","v":", , , ID , "},{"$f":"'Listă posturi'!I1110","v":0},{"$f":"'Listă posturi'!L1110","v":"-"}]
[null,1106,{"$f":"'Listă posturi'!K1111","v":", , , ID , "},{"$f":"'Listă posturi'!I1111","v":0},{"$f":"'Listă posturi'!L1111","v":"-"}]
[null,1107,{"$f":"'Listă posturi'!K1112","v":", , , ID , "},{"$f":"'Listă posturi'!I1112","v":0},{"$f":"'Listă posturi'!L1112","v":"-"}]
[null,1108,{"$f":"'Listă posturi'!K1113","v":", , , ID , "},{"$f":"'Listă posturi'!I1113","v":0},{"$f":"'Listă posturi'!L1113","v":"-"}]
[null,1109,{"$f":"'Listă posturi'!K1114","v":", , , ID , "},{"$f":"'Listă posturi'!I1114","v":0},{"$f":"'Listă posturi'!L1114","v":"-"}]
[null,1110,{"$f":"'Listă posturi'!K1115","v":", , , ID , "},{"$f":"'Listă posturi'!I1115","v":0},{"$f":"'Listă posturi'!L1115","v":"-"}]
[null,1111,{"$f":"'Listă posturi'!K1116","v":", , , ID , "},{"$f":"'Listă posturi'!I1116","v":0},{"$f":"'Listă posturi'!L1116","v":"-"}]
[null,1112,{"$f":"'Listă posturi'!K1117","v":", , , ID , "},{"$f":"'Listă posturi'!I1117","v":0},{"$f":"'Listă posturi'!L1117","v":"-"}]
[null,1113,{"$f":"'Listă posturi'!K1118","v":", , , ID , "},{"$f":"'Listă posturi'!I1118","v":0},{"$f":"'Listă posturi'!L1118","v":"-"}]
[null,1114,{"$f":"'Listă posturi'!K1119","v":", , , ID , "},{"$f":"'Listă posturi'!I1119","v":0},{"$f":"'Listă posturi'!L1119","v":"-"}]
[null,1115,{"$f":"'Listă posturi'!K1120","v":", , , ID , "},{"$f":"'Listă posturi'!I1120","v":0},{"$f":"'Listă posturi'!L1120","v":"-"}]
[null,1116,{"$f":"'Listă posturi'!K1121","v":", , , ID , "},{"$f":"'Listă posturi'!I1121","v":0},{"$f":"'Listă posturi'!L1121","v":"-"}]
[null,1117,{"$f":"'Listă posturi'!K1122","v":", , , ID , "},{"$f":"'Listă posturi'!I1122","v":0},{"$f":"'Listă posturi'!L1122","v":"-"}]
[null,1118,{"$f":"'Listă posturi'!K1123","v":", , , ID , "},{"$f":"'Listă posturi'!I1123","v":0},{"$f":"'Listă posturi'!L1123","v":"-"}]
[null,1119,{"$f":"'Listă posturi'!K1124","v":", , , ID , "},{"$f":"'Listă posturi'!I1124","v":0},{"$f":"'Listă posturi'!L1124","v":"-"}]
[null,1120,{"$f":"'Listă posturi'!K1125","v":", , , ID , "},{"$f":"'Listă posturi'!I1125","v":0},{"$f":"'Listă posturi'!L1125","v":"-"}]
[null,1121,{"$f":"'Listă posturi'!K1126","v":", , , ID , "},{"$f":"'Listă posturi'!I1126","v":0},{"$f":"'Listă posturi'!L1126","v":"-"}]
[null,1122,{"$f":"'Listă posturi'!K1127","v":", , , ID , "},{"$f":"'Listă posturi'!I1127","v":0},{"$f":"'Listă posturi'!L1127","v":"-"}]
[null,1123,{"$f":"'Listă posturi'!K1128","v":", , , ID , "},{"$f":"'Listă posturi'!I1128","v":0},{"$f":"'Listă posturi'!L1128","v":"-"}]
[null,1124,{"$f":"'Listă posturi'!K1129","v":", , , ID , "},{"$f":"'Listă posturi'!I1129","v":0},{"$f":"'Listă posturi'!L1129","v":"-"}]
[null,1125,{"$f":"'Listă posturi'!K1130","v":", , , ID , "},{"$f":"'Listă posturi'!I1130","v":0},{"$f":"'Listă posturi'!L1130","v":"-"}]
[null,1126,{"$f":"'Listă posturi'!K1131","v":", , , ID , "},{"$f":"'Listă posturi'!I1131","v":0},{"$f":"'Listă posturi'!L1131","v":"-"}]
[null,1127,{"$f":"'Listă posturi'!K1132","v":", , , ID , "},{"$f":"'Listă posturi'!I1132","v":0},{"$f":"'Listă posturi'!L1132","v":"-"}]
[null,1128,{"$f":"'Listă posturi'!K1133","v":", , , ID , "},{"$f":"'Listă posturi'!I1133","v":0},{"$f":"'Listă posturi'!L1133","v":"-"}]
[null,1129,{"$f":"'Listă posturi'!K1134","v":", , , ID , "},{"$f":"'Listă posturi'!I1134","v":0},{"$f":"'Listă posturi'!L1134","v":"-"}]
[null,1130,{"$f":"'Listă posturi'!K1135","v":", , , ID , "},{"$f":"'Listă posturi'!I1135","v":0},{"$f":"'Listă posturi'!L1135","v":"-"}]
[null,1131,{"$f":"'Listă posturi'!K1136","v":", , , ID , "},{"$f":"'Listă posturi'!I1136","v":0},{"$f":"'Listă posturi'!L1136","v":"-"}]
[null,1132,{"$f":"'Listă posturi'!K1137","v":", , , ID , "},{"$f":"'Listă posturi'!I1137","v":0},{"$f":"'Listă posturi'!L1137","v":"-"}]
[null,1133,{"$f":"'Listă posturi'!K1138","v":", , , ID , "},{"$f":"'Listă posturi'!I1138","v":0},{"$f":"'Listă posturi'!L1138","v":"-"}]
[null,1134,{"$f":"'Listă posturi'!K1139","v":", , , ID , "},{"$f":"'Listă posturi'!I1139","v":0},{"$f":"'Listă posturi'!L1139","v":"-"}]
[null,1135,{"$f":"'Listă posturi'!K1140","v":", , , ID , "},{"$f":"'Listă posturi'!I1140","v":0},{"$f":"'Listă posturi'!L1140","v":"-"}]
[null,1136,{"$f":"'Listă posturi'!K1141","v":", , , ID , "},{"$f":"'Listă posturi'!I1141","v":0},{"$f":"'Listă posturi'!L1141","v":"-"}]
[null,1137,{"$f":"'Listă posturi'!K1142","v":", , , ID , "},{"$f":"'Listă posturi'!I1142","v":0},{"$f":"'Listă posturi'!L1142","v":"-"}]
[null,1138,{"$f":"'Listă posturi'!K1143","v":", , , ID , "},{"$f":"'Listă posturi'!I1143","v":0},{"$f":"'Listă posturi'!L1143","v":"-"}]
[null,1139,{"$f":"'Listă posturi'!K1144","v":", , , ID , "},{"$f":"'Listă posturi'!I1144","v":0},{"$f":"'Listă posturi'!L1144","v":"-"}]
[null,1140,{"$f":"'Listă posturi'!K1145","v":", , , ID , "},{"$f":"'Listă posturi'!I1145","v":0},{"$f":"'Listă posturi'!L1145","v":"-"}]
[null,1141,{"$f":"'Listă posturi'!K1146","v":", , , ID , "},{"$f":"'Listă posturi'!I1146","v":0},{"$f":"'Listă posturi'!L1146","v":"-"}]
[null,1142,{"$f":"'Listă posturi'!K1147","v":", , , ID , "},{"$f":"'Listă posturi'!I1147","v":0},{"$f":"'Listă posturi'!L1147","v":"-"}]
[null,1143,{"$f":"'Listă posturi'!K1148","v":", , , ID , "},{"$f":"'Listă posturi'!I1148","v":0},{"$f":"'Listă posturi'!L1148","v":"-"}]
[null,1144,{"$f":"'Listă posturi'!K1149","v":", , , ID , "},{"$f":"'Listă posturi'!I1149","v":0},{"$f":"'Listă posturi'!L1149","v":"-"}]
[null,1145,{"$f":"'Listă posturi'!K1150","v":", , , ID , "},{"$f":"'Listă posturi'!I1150","v":0},{"$f":"'Listă posturi'!L1150","v":"-"}]
[null,1146,{"$f":"'Listă posturi'!K1151","v":", , , ID , "},{"$f":"'Listă posturi'!I1151","v":0},{"$f":"'Listă posturi'!L1151","v":"-"}]
[null,1147,{"$f":"'Listă posturi'!K1152","v":", , , ID , "},{"$f":"'Listă posturi'!I1152","v":0},{"$f":"'Listă posturi'!L1152","v":"-"}]
[null,1148,{"$f":"'Listă posturi'!K1153","v":", , , ID , "},{"$f":"'Listă posturi'!I1153","v":0},{"$f":"'Listă posturi'!L1153","v":"-"}]
[null,1149,{"$f":"'Listă posturi'!K1154","v":", , , ID , "},{"$f":"'Listă posturi'!I1154","v":0},{"$f":"'Listă posturi'!L1154","v":"-"}]
[null,1150,{"$f":"'Listă posturi'!K1155","v":", , , ID , "},{"$f":"'Listă posturi'!I1155","v":0},{"$f":"'Listă posturi'!L1155","v":"-"}]
[null,1151,{"$f":"'Listă posturi'!K1156","v":", , , ID , "},{"$f":"'Listă posturi'!I1156","v":0},{"$f":"'Listă posturi'!L1156","v":"-"}]
[null,1152,{"$f":"'Listă posturi'!K1157","v":", , , ID , "},{"$f":"'Listă posturi'!I1157","v":0},{"$f":"'Listă posturi'!L1157","v":"-"}]
[null,1153,{"$f":"'Listă posturi'!K1158","v":", , , ID , "},{"$f":"'Listă posturi'!I1158","v":0},{"$f":"'Listă posturi'!L1158","v":"-"}]
[null,1154,{"$f":"'Listă posturi'!K1159","v":", , , ID , "},{"$f":"'Listă posturi'!I1159","v":0},{"$f":"'Listă posturi'!L1159","v":"-"}]
[null,1155,{"$f":"'Listă posturi'!K1160","v":", , , ID , "},{"$f":"'Listă posturi'!I1160","v":0},{"$f":"'Listă posturi'!L1160","v":"-"}]
[null,1156,{"$f":"'Listă posturi'!K1161","v":", , , ID , "},{"$f":"'Listă posturi'!I1161","v":0},{"$f":"'Listă posturi'!L1161","v":"-"}]
[null,1157,{"$f":"'Listă posturi'!K1162","v":", , , ID , "},{"$f":"'Listă posturi'!I1162","v":0},{"$f":"'Listă posturi'!L1162","v":"-"}]
[null,1158,{"$f":"'Listă posturi'!K1163","v":", , , ID , "},{"$f":"'Listă posturi'!I1163","v":0},{"$f":"'Listă posturi'!L1163","v":"-"}]
[null,1159,{"$f":"'Listă posturi'!K1164","v":", , , ID , "},{"$f":"'Listă posturi'!I1164","v":0},{"$f":"'Listă posturi'!L1164","v":"-"}]
[null,1160,{"$f":"'Listă posturi'!K1165","v":", , , ID , "},{"$f":"'Listă posturi'!I1165","v":0},{"$f":"'Listă posturi'!L1165","v":"-"}]
[null,1161,{"$f":"'Listă posturi'!K1166","v":", , , ID , "},{"$f":"'Listă posturi'!I1166","v":0},{"$f":"'Listă posturi'!L1166","v":"-"}]
[null,1162,{"$f":"'Listă posturi'!K1167","v":", , , ID , "},{"$f":"'Listă posturi'!I1167","v":0},{"$f":"'Listă posturi'!L1167","v":"-"}]
[null,1163,{"$f":"'Listă posturi'!K1168","v":", , , ID , "},{"$f":"'Listă posturi'!I1168","v":0},{"$f":"'Listă posturi'!L1168","v":"-"}]
[null,1164,{"$f":"'Listă posturi'!K1169","v":", , , ID , "},{"$f":"'Listă posturi'!I1169","v":0},{"$f":"'Listă posturi'!L1169","v":"-"}]
[null,1165,{"$f":"'Listă posturi'!K1170","v":", , , ID , "},{"$f":"'Listă posturi'!I1170","v":0},{"$f":"'Listă posturi'!L1170","v":"-"}]
[null,1166,{"$f":"'Listă posturi'!K1171","v":", , , ID , "},{"$f":"'Listă posturi'!I1171","v":0},{"$f":"'Listă posturi'!L1171","v":"-"}]
[null,1167,{"$f":"'Listă posturi'!K1172","v":", , , ID , "},{"$f":"'Listă posturi'!I1172","v":0},{"$f":"'Listă posturi'!L1172","v":"-"}]
[null,1168,{"$f":"'Listă posturi'!K1173","v":", , , ID , "},{"$f":"'Listă posturi'!I1173","v":0},{"$f":"'Listă posturi'!L1173","v":"-"}]
[null,1169,{"$f":"'Listă posturi'!K1174","v":", , , ID , "},{"$f":"'Listă posturi'!I1174","v":0},{"$f":"'Listă posturi'!L1174","v":"-"}]
[null,1170,{"$f":"'Listă posturi'!K1175","v":", , , ID , "},{"$f":"'Listă posturi'!I1175","v":0},{"$f":"'Listă posturi'!L1175","v":"-"}]
[null,1171,{"$f":"'Listă posturi'!K1176","v":", , , ID , "},{"$f":"'Listă posturi'!I1176","v":0},{"$f":"'Listă posturi'!L1176","v":"-"}]
[null,1172,{"$f":"'Listă posturi'!K1177","v":", , , ID , "},{"$f":"'Listă posturi'!I1177","v":0},{"$f":"'Listă posturi'!L1177","v":"-"}]
[null,1173,{"$f":"'Listă posturi'!K1178","v":", , , ID , "},{"$f":"'Listă posturi'!I1178","v":0},{"$f":"'Listă posturi'!L1178","v":"-"}]
[null,1174,{"$f":"'Listă posturi'!K1179","v":", , , ID , "},{"$f":"'Listă posturi'!I1179","v":0},{"$f":"'Listă posturi'!L1179","v":"-"}]
[null,1175,{"$f":"'Listă posturi'!K1180","v":", , , ID , "},{"$f":"'Listă posturi'!I1180","v":0},{"$f":"'Listă posturi'!L1180","v":"-"}]
[null,1176,{"$f":"'Listă posturi'!K1181","v":", , , ID , "},{"$f":"'Listă posturi'!I1181","v":0},{"$f":"'Listă posturi'!L1181","v":"-"}]
[null,1177,{"$f":"'Listă posturi'!K1182","v":", , , ID , "},{"$f":"'Listă posturi'!I1182","v":0},{"$f":"'Listă posturi'!L1182","v":"-"}]
[null,1178,{"$f":"'Listă posturi'!K1183","v":", , , ID , "},{"$f":"'Listă posturi'!I1183","v":0},{"$f":"'Listă posturi'!L1183","v":"-"}]
[null,1179,{"$f":"'Listă posturi'!K1184","v":", , , ID , "},{"$f":"'Listă posturi'!I1184","v":0},{"$f":"'Listă posturi'!L1184","v":"-"}]
[null,1180,{"$f":"'Listă posturi'!K1185","v":", , , ID , "},{"$f":"'Listă posturi'!I1185","v":0},{"$f":"'Listă posturi'!L1185","v":"-"}]
[null,1181,{"$f":"'Listă posturi'!K1186","v":", , , ID , "},{"$f":"'Listă posturi'!I1186","v":0},{"$f":"'Listă posturi'!L1186","v":"-"}]
[null,1182,{"$f":"'Listă posturi'!K1187","v":", , , ID , "},{"$f":"'Listă posturi'!I1187","v":0},{"$f":"'Listă posturi'!L1187","v":"-"}]
[null,1183,{"$f":"'Listă posturi'!K1188","v":", , , ID , "},{"$f":"'Listă posturi'!I1188","v":0},{"$f":"'Listă posturi'!L1188","v":"-"}]
[null,1184,{"$f":"'Listă posturi'!K1189","v":", , , ID , "},{"$f":"'Listă posturi'!I1189","v":0},{"$f":"'Listă posturi'!L1189","v":"-"}]
[null,1185,{"$f":"'Listă posturi'!K1190","v":", , , ID , "},{"$f":"'Listă posturi'!I1190","v":0},{"$f":"'Listă posturi'!L1190","v":"-"}]
[null,1186,{"$f":"'Listă posturi'!K1191","v":", , , ID , "},{"$f":"'Listă posturi'!I1191","v":0},{"$f":"'Listă posturi'!L1191","v":"-"}]
[null,1187,{"$f":"'Listă posturi'!K1192","v":", , , ID , "},{"$f":"'Listă posturi'!I1192","v":0},{"$f":"'Listă posturi'!L1192","v":"-"}]
[null,1188,{"$f":"'Listă posturi'!K1193","v":", , , ID , "},{"$f":"'Listă posturi'!I1193","v":0},{"$f":"'Listă posturi'!L1193","v":"-"}]
[null,1189,{"$f":"'Listă posturi'!K1194","v":", , , ID , "},{"$f":"'Listă posturi'!I1194","v":0},{"$f":"'Listă posturi'!L1194","v":"-"}]
[null,1190,{"$f":"'Listă posturi'!K1195","v":", , , ID , "},{"$f":"'Listă posturi'!I1195","v":0},{"$f":"'Listă posturi'!L1195","v":"-"}]
[null,1191,{"$f":"'Listă posturi'!K1196","v":", , , ID , "},{"$f":"'Listă posturi'!I1196","v":0},{"$f":"'Listă posturi'!L1196","v":"-"}]
[null,1192,{"$f":"'Listă posturi'!K1197","v":", , , ID , "},{"$f":"'Listă posturi'!I1197","v":0},{"$f":"'Listă posturi'!L1197","v":"-"}]
[null,1193,{"$f":"'Listă posturi'!K1198","v":", , , ID , "},{"$f":"'Listă posturi'!I1198","v":0},{"$f":"'Listă posturi'!L1198","v":"-"}]
[null,1194,{"$f":"'Listă posturi'!K1199","v":", , , ID , "},{"$f":"'Listă posturi'!I1199","v":0},{"$f":"'Listă posturi'!L1199","v":"-"}]
[null,1195,{"$f":"'Listă posturi'!K1200","v":", , , ID , "},{"$f":"'Listă posturi'!I1200","v":0},{"$f":"'Listă posturi'!L1200","v":"-"}]
[null,1196,{"$f":"'Listă posturi'!K1201","v":", , , ID , "},{"$f":"'Listă posturi'!I1201","v":0},{"$f":"'Listă posturi'!L1201","v":"-"}]
[null,1197,{"$f":"'Listă posturi'!K1202","v":", , , ID , "},{"$f":"'Listă posturi'!I1202","v":0},{"$f":"'Listă posturi'!L1202","v":"-"}]
[null,1198,{"$f":"'Listă posturi'!K1203","v":", , , ID , "},{"$f":"'Listă posturi'!I1203","v":0},{"$f":"'Listă posturi'!L1203","v":"-"}]
[null,1199,{"$f":"'Listă posturi'!K1204","v":", , , ID , "},{"$f":"'Listă posturi'!I1204","v":0},{"$f":"'Listă posturi'!L1204","v":"-"}]
[null,1200,{"$f":"'Listă posturi'!K1205","v":", , , ID , "},{"$f":"'Listă posturi'!I1205","v":0},{"$f":"'Listă posturi'!L1205","v":"-"}]
[null,1201,{"$f":"'Listă posturi'!K1206","v":", , , ID , "},{"$f":"'Listă posturi'!I1206","v":0},{"$f":"'Listă posturi'!L1206","v":"-"}]
[null,1202,{"$f":"'Listă posturi'!K1207","v":", , , ID , "},{"$f":"'Listă posturi'!I1207","v":0},{"$f":"'Listă posturi'!L1207","v":"-"}]
[null,1203,{"$f":"'Listă posturi'!K1208","v":", , , ID , "},{"$f":"'Listă posturi'!I1208","v":0},{"$f":"'Listă posturi'!L1208","v":"-"}]
[null,1204,{"$f":"'Listă posturi'!K1209","v":", , , ID , "},{"$f":"'Listă posturi'!I1209","v":0},{"$f":"'Listă posturi'!L1209","v":"-"}]
[null,1205,{"$f":"'Listă posturi'!K1210","v":", , , ID , "},{"$f":"'Listă posturi'!I1210","v":0},{"$f":"'Listă posturi'!L1210","v":"-"}]
[null,1206,{"$f":"'Listă posturi'!K1211","v":", , , ID , "},{"$f":"'Listă posturi'!I1211","v":0},{"$f":"'Listă posturi'!L1211","v":"-"}]
[null,1207,{"$f":"'Listă posturi'!K1212","v":", , , ID , "},{"$f":"'Listă posturi'!I1212","v":0},{"$f":"'Listă posturi'!L1212","v":"-"}]
[null,1208,{"$f":"'Listă posturi'!K1213","v":", , , ID , "},{"$f":"'Listă posturi'!I1213","v":0},{"$f":"'Listă posturi'!L1213","v":"-"}]
[null,1209,{"$f":"'Listă posturi'!K1214","v":", , , ID , "},{"$f":"'Listă posturi'!I1214","v":0},{"$f":"'Listă posturi'!L1214","v":"-"}]
[null,1210,{"$f":"'Listă posturi'!K1215","v":", , , ID , "},{"$f":"'Listă posturi'!I1215","v":0},{"$f":"'Listă posturi'!L1215","v":"-"}]
[null,1211,{"$f":"'Listă posturi'!K1216","v":", , , ID , "},{"$f":"'Listă posturi'!I1216","v":0},{"$f":"'Listă posturi'!L1216","v":"-"}]
[null,1212,{"$f":"'Listă posturi'!K1217","v":", , , ID , "},{"$f":"'Listă posturi'!I1217","v":0},{"$f":"'Listă posturi'!L1217","v":"-"}]
[null,1213,{"$f":"'Listă posturi'!K1218","v":", , , ID , "},{"$f":"'Listă posturi'!I1218","v":0},{"$f":"'Listă posturi'!L1218","v":"-"}]
[null,1214,{"$f":"'Listă posturi'!K1219","v":", , , ID , "},{"$f":"'Listă posturi'!I1219","v":0},{"$f":"'Listă posturi'!L1219","v":"-"}]
[null,1215,{"$f":"'Listă posturi'!K1220","v":", , , ID , "},{"$f":"'Listă posturi'!I1220","v":0},{"$f":"'Listă posturi'!L1220","v":"-"}]
[null,1216,{"$f":"'Listă posturi'!K1221","v":", , , ID , "},{"$f":"'Listă posturi'!I1221","v":0},{"$f":"'Listă posturi'!L1221","v":"-"}]
[null,1217,{"$f":"'Listă posturi'!K1222","v":", , , ID , "},{"$f":"'Listă posturi'!I1222","v":0},{"$f":"'Listă posturi'!L1222","v":"-"}]
[null,1218,{"$f":"'Listă posturi'!K1223","v":", , , ID , "},{"$f":"'Listă posturi'!I1223","v":0},{"$f":"'Listă posturi'!L1223","v":"-"}]
[null,1219,{"$f":"'Listă posturi'!K1224","v":", , , ID , "},{"$f":"'Listă posturi'!I1224","v":0},{"$f":"'Listă posturi'!L1224","v":"-"}]
[null,1220,{"$f":"'Listă posturi'!K1225","v":", , , ID , "},{"$f":"'Listă posturi'!I1225","v":0},{"$f":"'Listă posturi'!L1225","v":"-"}]
[null,1221,{"$f":"'Listă posturi'!K1226","v":", , , ID , "},{"$f":"'Listă posturi'!I1226","v":0},{"$f":"'Listă posturi'!L1226","v":"-"}]
[null,1222,{"$f":"'Listă posturi'!K1227","v":", , , ID , "},{"$f":"'Listă posturi'!I1227","v":0},{"$f":"'Listă posturi'!L1227","v":"-"}]
[null,1223,{"$f":"'Listă posturi'!K1228","v":", , , ID , "},{"$f":"'Listă posturi'!I1228","v":0},{"$f":"'Listă posturi'!L1228","v":"-"}]
[null,1224,{"$f":"'Listă posturi'!K1229","v":", , , ID , "},{"$f":"'Listă posturi'!I1229","v":0},{"$f":"'Listă posturi'!L1229","v":"-"}]
[null,1225,{"$f":"'Listă posturi'!K1230","v":", , , ID , "},{"$f":"'Listă posturi'!I1230","v":0},{"$f":"'Listă posturi'!L1230","v":"-"}]
[null,1226,{"$f":"'Listă posturi'!K1231","v":", , , ID , "},{"$f":"'Listă posturi'!I1231","v":0},{"$f":"'Listă posturi'!L1231","v":"-"}]
[null,1227,{"$f":"'Listă posturi'!K1232","v":", , , ID , "},{"$f":"'Listă posturi'!I1232","v":0},{"$f":"'Listă posturi'!L1232","v":"-"}]
[null,1228,{"$f":"'Listă posturi'!K1233","v":", , , ID , "},{"$f":"'Listă posturi'!I1233","v":0},{"$f":"'Listă posturi'!L1233","v":"-"}]
[null,1229,{"$f":"'Listă posturi'!K1234","v":", , , ID , "},{"$f":"'Listă posturi'!I1234","v":0},{"$f":"'Listă posturi'!L1234","v":"-"}]
[null,1230,{"$f":"'Listă posturi'!K1235","v":", , , ID , "},{"$f":"'Listă posturi'!I1235","v":0},{"$f":"'Listă posturi'!L1235","v":"-"}]
[null,1231,{"$f":"'Listă posturi'!K1236","v":", , , ID , "},{"$f":"'Listă posturi'!I1236","v":0},{"$f":"'Listă posturi'!L1236","v":"-"}]
[null,1232,{"$f":"'Listă posturi'!K1237","v":", , , ID , "},{"$f":"'Listă posturi'!I1237","v":0},{"$f":"'Listă posturi'!L1237","v":"-"}]
[null,1233,{"$f":"'Listă posturi'!K1238","v":", , , ID , "},{"$f":"'Listă posturi'!I1238","v":0},{"$f":"'Listă posturi'!L1238","v":"-"}]
[null,1234,{"$f":"'Listă posturi'!K1239","v":", , , ID , "},{"$f":"'Listă posturi'!I1239","v":0},{"$f":"'Listă posturi'!L1239","v":"-"}]
[null,1235,{"$f":"'Listă posturi'!K1240","v":", , , ID , "},{"$f":"'Listă posturi'!I1240","v":0},{"$f":"'Listă posturi'!L1240","v":"-"}]
[null,1236,{"$f":"'Listă posturi'!K1241","v":", , , ID , "},{"$f":"'Listă posturi'!I1241","v":0},{"$f":"'Listă posturi'!L1241","v":"-"}]
[null,1237,{"$f":"'Listă posturi'!K1242","v":", , , ID , "},{"$f":"'Listă posturi'!I1242","v":0},{"$f":"'Listă posturi'!L1242","v":"-"}]
[null,1238,{"$f":"'Listă posturi'!K1243","v":", , , ID , "},{"$f":"'Listă posturi'!I1243","v":0},{"$f":"'Listă posturi'!L1243","v":"-"}]
[null,1239,{"$f":"'Listă posturi'!K1244","v":", , , ID , "},{"$f":"'Listă posturi'!I1244","v":0},{"$f":"'Listă posturi'!L1244","v":"-"}]
[null,1240,{"$f":"'Listă posturi'!K1245","v":", , , ID , "},{"$f":"'Listă posturi'!I1245","v":0},{"$f":"'Listă posturi'!L1245","v":"-"}]
[null,1241,{"$f":"'Listă posturi'!K1246","v":", , , ID , "},{"$f":"'Listă posturi'!I1246","v":0},{"$f":"'Listă posturi'!L1246","v":"-"}]
[null,1242,{"$f":"'Listă posturi'!K1247","v":", , , ID , "},{"$f":"'Listă posturi'!I1247","v":0},{"$f":"'Listă posturi'!L1247","v":"-"}]
[null,1243,{"$f":"'Listă posturi'!K1248","v":", , , ID , "},{"$f":"'Listă posturi'!I1248","v":0},{"$f":"'Listă posturi'!L1248","v":"-"}]
[null,1244,{"$f":"'Listă posturi'!K1249","v":", , , ID , "},{"$f":"'Listă posturi'!I1249","v":0},{"$f":"'Listă posturi'!L1249","v":"-"}]
[null,1245,{"$f":"'Listă posturi'!K1250","v":", , , ID , "},{"$f":"'Listă posturi'!I1250","v":0},{"$f":"'Listă posturi'!L1250","v":"-"}]
[null,1246,{"$f":"'Listă posturi'!K1251","v":", , , ID , "},{"$f":"'Listă posturi'!I1251","v":0},{"$f":"'Listă posturi'!L1251","v":"-"}]
[null,1247,{"$f":"'Listă posturi'!K1252","v":", , , ID , "},{"$f":"'Listă posturi'!I1252","v":0},{"$f":"'Listă posturi'!L1252","v":"-"}]
[null,1248,{"$f":"'Listă posturi'!K1253","v":", , , ID , "},{"$f":"'Listă posturi'!I1253","v":0},{"$f":"'Listă posturi'!L1253","v":"-"}]
[null,1249,{"$f":"'Listă posturi'!K1254","v":", , , ID , "},{"$f":"'Listă posturi'!I1254","v":0},{"$f":"'Listă posturi'!L1254","v":"-"}]
[null,1250,{"$f":"'Listă posturi'!K1255","v":", , , ID , "},{"$f":"'Listă posturi'!I1255","v":0},{"$f":"'Listă posturi'!L1255","v":"-"}]
[null,1251,{"$f":"'Listă posturi'!K1256","v":", , , ID , "},{"$f":"'Listă posturi'!I1256","v":0},{"$f":"'Listă posturi'!L1256","v":"-"}]
[null,1252,{"$f":"'Listă posturi'!K1257","v":", , , ID , "},{"$f":"'Listă posturi'!I1257","v":0},{"$f":"'Listă posturi'!L1257","v":"-"}]
[null,1253,{"$f":"'Listă posturi'!K1258","v":", , , ID , "},{"$f":"'Listă posturi'!I1258","v":0},{"$f":"'Listă posturi'!L1258","v":"-"}]
[null,1254,{"$f":"'Listă posturi'!K1259","v":", , , ID , "},{"$f":"'Listă posturi'!I1259","v":0},{"$f":"'Listă posturi'!L1259","v":"-"}]
[null,1255,{"$f":"'Listă posturi'!K1260","v":", , , ID , "},{"$f":"'Listă posturi'!I1260","v":0},{"$f":"'Listă posturi'!L1260","v":"-"}]
[null,1256,{"$f":"'Listă posturi'!K1261","v":", , , ID , "},{"$f":"'Listă posturi'!I1261","v":0},{"$f":"'Listă posturi'!L1261","v":"-"}]
[null,1257,{"$f":"'Listă posturi'!K1262","v":", , , ID , "},{"$f":"'Listă posturi'!I1262","v":0},{"$f":"'Listă posturi'!L1262","v":"-"}]
[null,1258,{"$f":"'Listă posturi'!K1263","v":", , , ID , "},{"$f":"'Listă posturi'!I1263","v":0},{"$f":"'Listă posturi'!L1263","v":"-"}]
[null,1259,{"$f":"'Listă posturi'!K1264","v":", , , ID , "},{"$f":"'Listă posturi'!I1264","v":0},{"$f":"'Listă posturi'!L1264","v":"-"}]
[null,1260,{"$f":"'Listă posturi'!K1265","v":", , , ID , "},{"$f":"'Listă posturi'!I1265","v":0},{"$f":"'Listă posturi'!L1265","v":"-"}]
[null,1261,{"$f":"'Listă posturi'!K1266","v":", , , ID , "},{"$f":"'Listă posturi'!I1266","v":0},{"$f":"'Listă posturi'!L1266","v":"-"}]
[null,1262,{"$f":"'Listă posturi'!K1267","v":", , , ID , "},{"$f":"'Listă posturi'!I1267","v":0},{"$f":"'Listă posturi'!L1267","v":"-"}]
[null,1263,{"$f":"'Listă posturi'!K1268","v":", , , ID , "},{"$f":"'Listă posturi'!I1268","v":0},{"$f":"'Listă posturi'!L1268","v":"-"}]
[null,1264,{"$f":"'Listă posturi'!K1269","v":", , , ID , "},{"$f":"'Listă posturi'!I1269","v":0},{"$f":"'Listă posturi'!L1269","v":"-"}]
[null,1265,{"$f":"'Listă posturi'!K1270","v":", , , ID , "},{"$f":"'Listă posturi'!I1270","v":0},{"$f":"'Listă posturi'!L1270","v":"-"}]
[null,1266,{"$f":"'Listă posturi'!K1271","v":", , , ID , "},{"$f":"'Listă posturi'!I1271","v":0},{"$f":"'Listă posturi'!L1271","v":"-"}]
[null,1267,{"$f":"'Listă posturi'!K1272","v":", , , ID , "},{"$f":"'Listă posturi'!I1272","v":0},{"$f":"'Listă posturi'!L1272","v":"-"}]
[null,1268,{"$f":"'Listă posturi'!K1273","v":", , , ID , "},{"$f":"'Listă posturi'!I1273","v":0},{"$f":"'Listă posturi'!L1273","v":"-"}]
[null,1269,{"$f":"'Listă posturi'!K1274","v":", , , ID , "},{"$f":"'Listă posturi'!I1274","v":0},{"$f":"'Listă posturi'!L1274","v":"-"}]
[null,1270,{"$f":"'Listă posturi'!K1275","v":", , , ID , "},{"$f":"'Listă posturi'!I1275","v":0},{"$f":"'Listă posturi'!L1275","v":"-"}]
[null,1271,{"$f":"'Listă posturi'!K1276","v":", , , ID , "},{"$f":"'Listă posturi'!I1276","v":0},{"$f":"'Listă posturi'!L1276","v":"-"}]
[null,1272,{"$f":"'Listă posturi'!K1277","v":", , , ID , "},{"$f":"'Listă posturi'!I1277","v":0},{"$f":"'Listă posturi'!L1277","v":"-"}]
[null,1273,{"$f":"'Listă posturi'!K1278","v":", , , ID , "},{"$f":"'Listă posturi'!I1278","v":0},{"$f":"'Listă posturi'!L1278","v":"-"}]
[null,1274,{"$f":"'Listă posturi'!K1279","v":", , , ID , "},{"$f":"'Listă posturi'!I1279","v":0},{"$f":"'Listă posturi'!L1279","v":"-"}]
[null,1275,{"$f":"'Listă posturi'!K1280","v":", , , ID , "},{"$f":"'Listă posturi'!I1280","v":0},{"$f":"'Listă posturi'!L1280","v":"-"}]
[null,1276,{"$f":"'Listă posturi'!K1281","v":", , , ID , "},{"$f":"'Listă posturi'!I1281","v":0},{"$f":"'Listă posturi'!L1281","v":"-"}]
[null,1277,{"$f":"'Listă posturi'!K1282","v":", , , ID , "},{"$f":"'Listă posturi'!I1282","v":0},{"$f":"'Listă posturi'!L1282","v":"-"}]
[null,1278,{"$f":"'Listă posturi'!K1283","v":", , , ID , "},{"$f":"'Listă posturi'!I1283","v":0},{"$f":"'Listă posturi'!L1283","v":"-"}]
[null,1279,{"$f":"'Listă posturi'!K1284","v":", , , ID , "},{"$f":"'Listă posturi'!I1284","v":0},{"$f":"'Listă posturi'!L1284","v":"-"}]
[null,1280,{"$f":"'Listă posturi'!K1285","v":", , , ID , "},{"$f":"'Listă posturi'!I1285","v":0},{"$f":"'Listă posturi'!L1285","v":"-"}]
[null,1281,{"$f":"'Listă posturi'!K1286","v":", , , ID , "},{"$f":"'Listă posturi'!I1286","v":0},{"$f":"'Listă posturi'!L1286","v":"-"}]
[null,1282,{"$f":"'Listă posturi'!K1287","v":", , , ID , "},{"$f":"'Listă posturi'!I1287","v":0},{"$f":"'Listă posturi'!L1287","v":"-"}]
[null,1283,{"$f":"'Listă posturi'!K1288","v":", , , ID , "},{"$f":"'Listă posturi'!I1288","v":0},{"$f":"'Listă posturi'!L1288","v":"-"}]
[null,1284,{"$f":"'Listă posturi'!K1289","v":", , , ID , "},{"$f":"'Listă posturi'!I1289","v":0},{"$f":"'Listă posturi'!L1289","v":"-"}]
[null,1285,{"$f":"'Listă posturi'!K1290","v":", , , ID , "},{"$f":"'Listă posturi'!I1290","v":0},{"$f":"'Listă posturi'!L1290","v":"-"}]
[null,1286,{"$f":"'Listă posturi'!K1291","v":", , , ID , "},{"$f":"'Listă posturi'!I1291","v":0},{"$f":"'Listă posturi'!L1291","v":"-"}]
[null,1287,{"$f":"'Listă posturi'!K1292","v":", , , ID , "},{"$f":"'Listă posturi'!I1292","v":0},{"$f":"'Listă posturi'!L1292","v":"-"}]
[null,1288,{"$f":"'Listă posturi'!K1293","v":", , , ID , "},{"$f":"'Listă posturi'!I1293","v":0},{"$f":"'Listă posturi'!L1293","v":"-"}]
[null,1289,{"$f":"'Listă posturi'!K1294","v":", , , ID , "},{"$f":"'Listă posturi'!I1294","v":0},{"$f":"'Listă posturi'!L1294","v":"-"}]
[null,1290,{"$f":"'Listă posturi'!K1295","v":", , , ID , "},{"$f":"'Listă posturi'!I1295","v":0},{"$f":"'Listă posturi'!L1295","v":"-"}]
[null,1291,{"$f":"'Listă posturi'!K1296","v":", , , ID , "},{"$f":"'Listă posturi'!I1296","v":0},{"$f":"'Listă posturi'!L1296","v":"-"}]
[null,1292,{"$f":"'Listă posturi'!K1297","v":", , , ID , "},{"$f":"'Listă posturi'!I1297","v":0},{"$f":"'Listă posturi'!L1297","v":"-"}]
[null,1293,{"$f":"'Listă posturi'!K1298","v":", , , ID , "},{"$f":"'Listă posturi'!I1298","v":0},{"$f":"'Listă posturi'!L1298","v":"-"}]
[null,1294,{"$f":"'Listă posturi'!K1299","v":", , , ID , "},{"$f":"'Listă posturi'!I1299","v":0},{"$f":"'Listă posturi'!L1299","v":"-"}]
[null,1295,{"$f":"'Listă posturi'!K1300","v":", , , ID , "},{"$f":"'Listă posturi'!I1300","v":0},{"$f":"'Listă posturi'!L1300","v":"-"}]
[null,1296,{"$f":"'Listă posturi'!K1301","v":", , , ID , "},{"$f":"'Listă posturi'!I1301","v":0},{"$f":"'Listă posturi'!L1301","v":"-"}]
[null,1297,{"$f":"'Listă posturi'!K1302","v":", , , ID , "},{"$f":"'Listă posturi'!I1302","v":0},{"$f":"'Listă posturi'!L1302","v":"-"}]
[null,1298,{"$f":"'Listă posturi'!K1303","v":", , , ID , "},{"$f":"'Listă posturi'!I1303","v":0},{"$f":"'Listă posturi'!L1303","v":"-"}]
[null,1299,{"$f":"'Listă posturi'!K1304","v":", , , ID , "},{"$f":"'Listă posturi'!I1304","v":0},{"$f":"'Listă posturi'!L1304","v":"-"}]
[null,1300,{"$f":"'Listă posturi'!K1305","v":", , , ID , "},{"$f":"'Listă posturi'!I1305","v":0},{"$f":"'Listă posturi'!L1305","v":"-"}]
[null,1301,{"$f":"'Listă posturi'!K1306","v":", , , ID , "},{"$f":"'Listă posturi'!I1306","v":0},{"$f":"'Listă posturi'!L1306","v":"-"}]
[null,1302,{"$f":"'Listă posturi'!K1307","v":", , , ID , "},{"$f":"'Listă posturi'!I1307","v":0},{"$f":"'Listă posturi'!L1307","v":"-"}]
[null,1303,{"$f":"'Listă posturi'!K1308","v":", , , ID , "},{"$f":"'Listă posturi'!I1308","v":0},{"$f":"'Listă posturi'!L1308","v":"-"}]
[null,1304,{"$f":"'Listă posturi'!K1309","v":", , , ID , "},{"$f":"'Listă posturi'!I1309","v":0},{"$f":"'Listă posturi'!L1309","v":"-"}]
[null,1305,{"$f":"'Listă posturi'!K1310","v":", , , ID , "},{"$f":"'Listă posturi'!I1310","v":0},{"$f":"'Listă posturi'!L1310","v":"-"}]
[null,1306,{"$f":"'Listă posturi'!K1311","v":", , , ID , "},{"$f":"'Listă posturi'!I1311","v":0},{"$f":"'Listă posturi'!L1311","v":"-"}]
[null,1307,{"$f":"'Listă posturi'!K1312","v":", , , ID , "},{"$f":"'Listă posturi'!I1312","v":0},{"$f":"'Listă posturi'!L1312","v":"-"}]
[null,1308,{"$f":"'Listă posturi'!K1313","v":", , , ID , "},{"$f":"'Listă posturi'!I1313","v":0},{"$f":"'Listă posturi'!L1313","v":"-"}]
[null,1309,{"$f":"'Listă posturi'!K1314","v":", , , ID , "},{"$f":"'Listă posturi'!I1314","v":0},{"$f":"'Listă posturi'!L1314","v":"-"}]
[null,1310,{"$f":"'Listă posturi'!K1315","v":", , , ID , "},{"$f":"'Listă posturi'!I1315","v":0},{"$f":"'Listă posturi'!L1315","v":"-"}]
[null,1311,{"$f":"'Listă posturi'!K1316","v":", , , ID , "},{"$f":"'Listă posturi'!I1316","v":0},{"$f":"'Listă posturi'!L1316","v":"-"}]
[null,1312,{"$f":"'Listă posturi'!K1317","v":", , , ID , "},{"$f":"'Listă posturi'!I1317","v":0},{"$f":"'Listă posturi'!L1317","v":"-"}]
[null,1313,{"$f":"'Listă posturi'!K1318","v":", , , ID , "},{"$f":"'Listă posturi'!I1318","v":0},{"$f":"'Listă posturi'!L1318","v":"-"}]
[null,1314,{"$f":"'Listă posturi'!K1319","v":", , , ID , "},{"$f":"'Listă posturi'!I1319","v":0},{"$f":"'Listă posturi'!L1319","v":"-"}]
[null,1315,{"$f":"'Listă posturi'!K1320","v":", , , ID , "},{"$f":"'Listă posturi'!I1320","v":0},{"$f":"'Listă posturi'!L1320","v":"-"}]
[null,1316,{"$f":"'Listă posturi'!K1321","v":", , , ID , "},{"$f":"'Listă posturi'!I1321","v":0},{"$f":"'Listă posturi'!L1321","v":"-"}]
[null,1317,{"$f":"'Listă posturi'!K1322","v":", , , ID , "},{"$f":"'Listă posturi'!I1322","v":0},{"$f":"'Listă posturi'!L1322","v":"-"}]
[null,1318,{"$f":"'Listă posturi'!K1323","v":", , , ID , "},{"$f":"'Listă posturi'!I1323","v":0},{"$f":"'Listă posturi'!L1323","v":"-"}]
[null,1319,{"$f":"'Listă posturi'!K1324","v":", , , ID , "},{"$f":"'Listă posturi'!I1324","v":0},{"$f":"'Listă posturi'!L1324","v":"-"}]
[null,1320,{"$f":"'Listă posturi'!K1325","v":", , , ID , "},{"$f":"'Listă posturi'!I1325","v":0},{"$f":"'Listă posturi'!L1325","v":"-"}]
[null,1321,{"$f":"'Listă posturi'!K1326","v":", , , ID , "},{"$f":"'Listă posturi'!I1326","v":0},{"$f":"'Listă posturi'!L1326","v":"-"}]
[null,1322,{"$f":"'Listă posturi'!K1327","v":", , , ID , "},{"$f":"'Listă posturi'!I1327","v":0},{"$f":"'Listă posturi'!L1327","v":"-"}]
[null,1323,{"$f":"'Listă posturi'!K1328","v":", , , ID , "},{"$f":"'Listă posturi'!I1328","v":0},{"$f":"'Listă posturi'!L1328","v":"-"}]
[null,1324,{"$f":"'Listă posturi'!K1329","v":", , , ID , "},{"$f":"'Listă posturi'!I1329","v":0},{"$f":"'Listă posturi'!L1329","v":"-"}]
[null,1325,{"$f":"'Listă posturi'!K1330","v":", , , ID , "},{"$f":"'Listă posturi'!I1330","v":0},{"$f":"'Listă posturi'!L1330","v":"-"}]
[null,1326,{"$f":"'Listă posturi'!K1331","v":", , , ID , "},{"$f":"'Listă posturi'!I1331","v":0},{"$f":"'Listă posturi'!L1331","v":"-"}]
[null,1327,{"$f":"'Listă posturi'!K1332","v":", , , ID , "},{"$f":"'Listă posturi'!I1332","v":0},{"$f":"'Listă posturi'!L1332","v":"-"}]
[null,1328,{"$f":"'Listă posturi'!K1333","v":", , , ID , "},{"$f":"'Listă posturi'!I1333","v":0},{"$f":"'Listă posturi'!L1333","v":"-"}]
[null,1329,{"$f":"'Listă posturi'!K1334","v":", , , ID , "},{"$f":"'Listă posturi'!I1334","v":0},{"$f":"'Listă posturi'!L1334","v":"-"}]
[null,1330,{"$f":"'Listă posturi'!K1335","v":", , , ID , "},{"$f":"'Listă posturi'!I1335","v":0},{"$f":"'Listă posturi'!L1335","v":"-"}]
[null,1331,{"$f":"'Listă posturi'!K1336","v":", , , ID , "},{"$f":"'Listă posturi'!I1336","v":0},{"$f":"'Listă posturi'!L1336","v":"-"}]
[null,1332,{"$f":"'Listă posturi'!K1337","v":", , , ID , "},{"$f":"'Listă posturi'!I1337","v":0},{"$f":"'Listă posturi'!L1337","v":"-"}]
[null,1333,{"$f":"'Listă posturi'!K1338","v":", , , ID , "},{"$f":"'Listă posturi'!I1338","v":0},{"$f":"'Listă posturi'!L1338","v":"-"}]
[null,1334,{"$f":"'Listă posturi'!K1339","v":", , , ID , "},{"$f":"'Listă posturi'!I1339","v":0},{"$f":"'Listă posturi'!L1339","v":"-"}]
[null,1335,{"$f":"'Listă posturi'!K1340","v":", , , ID , "},{"$f":"'Listă posturi'!I1340","v":0},{"$f":"'Listă posturi'!L1340","v":"-"}]
[null,1336,{"$f":"'Listă posturi'!K1341","v":", , , ID , "},{"$f":"'Listă posturi'!I1341","v":0},{"$f":"'Listă posturi'!L1341","v":"-"}]
[null,1337,{"$f":"'Listă posturi'!K1342","v":", , , ID , "},{"$f":"'Listă posturi'!I1342","v":0},{"$f":"'Listă posturi'!L1342","v":"-"}]
[null,1338,{"$f":"'Listă posturi'!K1343","v":", , , ID , "},{"$f":"'Listă posturi'!I1343","v":0},{"$f":"'Listă posturi'!L1343","v":"-"}]
[null,1339,{"$f":"'Listă posturi'!K1344","v":", , , ID , "},{"$f":"'Listă posturi'!I1344","v":0},{"$f":"'Listă posturi'!L1344","v":"-"}]
[null,1340,{"$f":"'Listă posturi'!K1345","v":", , , ID , "},{"$f":"'Listă posturi'!I1345","v":0},{"$f":"'Listă posturi'!L1345","v":"-"}]
[null,1341,{"$f":"'Listă posturi'!K1346","v":", , , ID , "},{"$f":"'Listă posturi'!I1346","v":0},{"$f":"'Listă posturi'!L1346","v":"-"}]
[null,1342,{"$f":"'Listă posturi'!K1347","v":", , , ID , "},{"$f":"'Listă posturi'!I1347","v":0},{"$f":"'Listă posturi'!L1347","v":"-"}]
[null,1343,{"$f":"'Listă posturi'!K1348","v":", , , ID , "},{"$f":"'Listă posturi'!I1348","v":0},{"$f":"'Listă posturi'!L1348","v":"-"}]
[null,1344,{"$f":"'Listă posturi'!K1349","v":", , , ID , "},{"$f":"'Listă posturi'!I1349","v":0},{"$f":"'Listă posturi'!L1349","v":"-"}]
[null,1345,{"$f":"'Listă posturi'!K1350","v":", , , ID , "},{"$f":"'Listă posturi'!I1350","v":0},{"$f":"'Listă posturi'!L1350","v":"-"}]
[null,1346,{"$f":"'Listă posturi'!K1351","v":", , , ID , "},{"$f":"'Listă posturi'!I1351","v":0},{"$f":"'Listă posturi'!L1351","v":"-"}]
[null,1347,{"$f":"'Listă posturi'!K1352","v":", , , ID , "},{"$f":"'Listă posturi'!I1352","v":0},{"$f":"'Listă posturi'!L1352","v":"-"}]
[null,1348,{"$f":"'Listă posturi'!K1353","v":", , , ID , "},{"$f":"'Listă posturi'!I1353","v":0},{"$f":"'Listă posturi'!L1353","v":"-"}]
[null,1349,{"$f":"'Listă posturi'!K1354","v":", , , ID , "},{"$f":"'Listă posturi'!I1354","v":0},{"$f":"'Listă posturi'!L1354","v":"-"}]
[null,1350,{"$f":"'Listă posturi'!K1355","v":", , , ID , "},{"$f":"'Listă posturi'!I1355","v":0},{"$f":"'Listă posturi'!L1355","v":"-"}]
[null,1351,{"$f":"'Listă posturi'!K1356","v":", , , ID , "},{"$f":"'Listă posturi'!I1356","v":0},{"$f":"'Listă posturi'!L1356","v":"-"}]
[null,1352,{"$f":"'Listă posturi'!K1357","v":", , , ID , "},{"$f":"'Listă posturi'!I1357","v":0},{"$f":"'Listă posturi'!L1357","v":"-"}]
[null,1353,{"$f":"'Listă posturi'!K1358","v":", , , ID , "},{"$f":"'Listă posturi'!I1358","v":0},{"$f":"'Listă posturi'!L1358","v":"-"}]
[null,1354,{"$f":"'Listă posturi'!K1359","v":", , , ID , "},{"$f":"'Listă posturi'!I1359","v":0},{"$f":"'Listă posturi'!L1359","v":"-"}]
[null,1355,{"$f":"'Listă posturi'!K1360","v":", , , ID , "},{"$f":"'Listă posturi'!I1360","v":0},{"$f":"'Listă posturi'!L1360","v":"-"}]
[null,1356,{"$f":"'Listă posturi'!K1361","v":", , , ID , "},{"$f":"'Listă posturi'!I1361","v":0},{"$f":"'Listă posturi'!L1361","v":"-"}]
[null,1357,{"$f":"'Listă posturi'!K1362","v":", , , ID , "},{"$f":"'Listă posturi'!I1362","v":0},{"$f":"'Listă posturi'!L1362","v":"-"}]
[null,1358,{"$f":"'Listă posturi'!K1363","v":", , , ID , "},{"$f":"'Listă posturi'!I1363","v":0},{"$f":"'Listă posturi'!L1363","v":"-"}]
[null,1359,{"$f":"'Listă posturi'!K1364","v":", , , ID , "},{"$f":"'Listă posturi'!I1364","v":0},{"$f":"'Listă posturi'!L1364","v":"-"}]
[null,1360,{"$f":"'Listă posturi'!K1365","v":", , , ID , "},{"$f":"'Listă posturi'!I1365","v":0},{"$f":"'Listă posturi'!L1365","v":"-"}]
[null,1361,{"$f":"'Listă posturi'!K1366","v":", , , ID , "},{"$f":"'Listă posturi'!I1366","v":0},{"$f":"'Listă posturi'!L1366","v":"-"}]
[null,1362,{"$f":"'Listă posturi'!K1367","v":", , , ID , "},{"$f":"'Listă posturi'!I1367","v":0},{"$f":"'Listă posturi'!L1367","v":"-"}]
[null,1363,{"$f":"'Listă posturi'!K1368","v":", , , ID , "},{"$f":"'Listă posturi'!I1368","v":0},{"$f":"'Listă posturi'!L1368","v":"-"}]
[null,1364,{"$f":"'Listă posturi'!K1369","v":", , , ID , "},{"$f":"'Listă posturi'!I1369","v":0},{"$f":"'Listă posturi'!L1369","v":"-"}]
[null,1365,{"$f":"'Listă posturi'!K1370","v":", , , ID , "},{"$f":"'Listă posturi'!I1370","v":0},{"$f":"'Listă posturi'!L1370","v":"-"}]
[null,1366,{"$f":"'Listă posturi'!K1371","v":", , , ID , "},{"$f":"'Listă posturi'!I1371","v":0},{"$f":"'Listă posturi'!L1371","v":"-"}]
[null,1367,{"$f":"'Listă posturi'!K1372","v":", , , ID , "},{"$f":"'Listă posturi'!I1372","v":0},{"$f":"'Listă posturi'!L1372","v":"-"}]
[null,1368,{"$f":"'Listă posturi'!K1373","v":", , , ID , "},{"$f":"'Listă posturi'!I1373","v":0},{"$f":"'Listă posturi'!L1373","v":"-"}]
[null,1369,{"$f":"'Listă posturi'!K1374","v":", , , ID , "},{"$f":"'Listă posturi'!I1374","v":0},{"$f":"'Listă posturi'!L1374","v":"-"}]
[null,1370,{"$f":"'Listă posturi'!K1375","v":", , , ID , "},{"$f":"'Listă posturi'!I1375","v":0},{"$f":"'Listă posturi'!L1375","v":"-"}]
[null,1371,{"$f":"'Listă posturi'!K1376","v":", , , ID , "},{"$f":"'Listă posturi'!I1376","v":0},{"$f":"'Listă posturi'!L1376","v":"-"}]
[null,1372,{"$f":"'Listă posturi'!K1377","v":", , , ID , "},{"$f":"'Listă posturi'!I1377","v":0},{"$f":"'Listă posturi'!L1377","v":"-"}]
[null,1373,{"$f":"'Listă posturi'!K1378","v":", , , ID , "},{"$f":"'Listă posturi'!I1378","v":0},{"$f":"'Listă posturi'!L1378","v":"-"}]
[null,1374,{"$f":"'Listă posturi'!K1379","v":", , , ID , "},{"$f":"'Listă posturi'!I1379","v":0},{"$f":"'Listă posturi'!L1379","v":"-"}]
[null,1375,{"$f":"'Listă posturi'!K1380","v":", , , ID , "},{"$f":"'Listă posturi'!I1380","v":0},{"$f":"'Listă posturi'!L1380","v":"-"}]
[null,1376,{"$f":"'Listă posturi'!K1381","v":", , , ID , "},{"$f":"'Listă posturi'!I1381","v":0},{"$f":"'Listă posturi'!L1381","v":"-"}]
[null,1377,{"$f":"'Listă posturi'!K1382","v":", , , ID , "},{"$f":"'Listă posturi'!I1382","v":0},{"$f":"'Listă posturi'!L1382","v":"-"}]
[null,1378,{"$f":"'Listă posturi'!K1383","v":", , , ID , "},{"$f":"'Listă posturi'!I1383","v":0},{"$f":"'Listă posturi'!L1383","v":"-"}]
[null,1379,{"$f":"'Listă posturi'!K1384","v":", , , ID , "},{"$f":"'Listă posturi'!I1384","v":0},{"$f":"'Listă posturi'!L1384","v":"-"}]
[null,1380,{"$f":"'Listă posturi'!K1385","v":", , , ID , "},{"$f":"'Listă posturi'!I1385","v":0},{"$f":"'Listă posturi'!L1385","v":"-"}]
[null,1381,{"$f":"'Listă posturi'!K1386","v":", , , ID , "},{"$f":"'Listă posturi'!I1386","v":0},{"$f":"'Listă posturi'!L1386","v":"-"}]
[null,1382,{"$f":"'Listă posturi'!K1387","v":", , , ID , "},{"$f":"'Listă posturi'!I1387","v":0},{"$f":"'Listă posturi'!L1387","v":"-"}]
[null,1383,{"$f":"'Listă posturi'!K1388","v":", , , ID , "},{"$f":"'Listă posturi'!I1388","v":0},{"$f":"'Listă posturi'!L1388","v":"-"}]
[null,1384,{"$f":"'Listă posturi'!K1389","v":", , , ID , "},{"$f":"'Listă posturi'!I1389","v":0},{"$f":"'Listă posturi'!L1389","v":"-"}]
[null,1385,{"$f":"'Listă posturi'!K1390","v":", , , ID , "},{"$f":"'Listă posturi'!I1390","v":0},{"$f":"'Listă posturi'!L1390","v":"-"}]
[null,1386,{"$f":"'Listă posturi'!K1391","v":", , , ID , "},{"$f":"'Listă posturi'!I1391","v":0},{"$f":"'Listă posturi'!L1391","v":"-"}]
[null,1387,{"$f":"'Listă posturi'!K1392","v":", , , ID , "},{"$f":"'Listă posturi'!I1392","v":0},{"$f":"'Listă posturi'!L1392","v":"-"}]
[null,1388,{"$f":"'Listă posturi'!K1393","v":", , , ID , "},{"$f":"'Listă posturi'!I1393","v":0},{"$f":"'Listă posturi'!L1393","v":"-"}]
[null,1389,{"$f":"'Listă posturi'!K1394","v":", , , ID , "},{"$f":"'Listă posturi'!I1394","v":0},{"$f":"'Listă posturi'!L1394","v":"-"}]
[null,1390,{"$f":"'Listă posturi'!K1395","v":", , , ID , "},{"$f":"'Listă posturi'!I1395","v":0},{"$f":"'Listă posturi'!L1395","v":"-"}]
[null,1391,{"$f":"'Listă posturi'!K1396","v":", , , ID , "},{"$f":"'Listă posturi'!I1396","v":0},{"$f":"'Listă posturi'!L1396","v":"-"}]
[null,1392,{"$f":"'Listă posturi'!K1397","v":", , , ID , "},{"$f":"'Listă posturi'!I1397","v":0},{"$f":"'Listă posturi'!L1397","v":"-"}]
[null,1393,{"$f":"'Listă posturi'!K1398","v":", , , ID , "},{"$f":"'Listă posturi'!I1398","v":0},{"$f":"'Listă posturi'!L1398","v":"-"}]
[null,1394,{"$f":"'Listă posturi'!K1399","v":", , , ID , "},{"$f":"'Listă posturi'!I1399","v":0},{"$f":"'Listă posturi'!L1399","v":"-"}]
[null,1395,{"$f":"'Listă posturi'!K1400","v":", , , ID , "},{"$f":"'Listă posturi'!I1400","v":0},{"$f":"'Listă posturi'!L1400","v":"-"}]
[null,1396,{"$f":"'Listă posturi'!K1401","v":", , , ID , "},{"$f":"'Listă posturi'!I1401","v":0},{"$f":"'Listă posturi'!L1401","v":"-"}]
[null,1397,{"$f":"'Listă posturi'!K1402","v":", , , ID , "},{"$f":"'Listă posturi'!I1402","v":0},{"$f":"'Listă posturi'!L1402","v":"-"}]
[null,1398,{"$f":"'Listă posturi'!K1403","v":", , , ID , "},{"$f":"'Listă posturi'!I1403","v":0},{"$f":"'Listă posturi'!L1403","v":"-"}]
[null,1399,{"$f":"'Listă posturi'!K1404","v":", , , ID , "},{"$f":"'Listă posturi'!I1404","v":0},{"$f":"'Listă posturi'!L1404","v":"-"}]
[null,1400,{"$f":"'Listă posturi'!K1405","v":", , , ID , "},{"$f":"'Listă posturi'!I1405","v":0},{"$f":"'Listă posturi'!L1405","v":"-"}]
[null,1401,{"$f":"'Listă posturi'!K1406","v":", , , ID , "},{"$f":"'Listă posturi'!I1406","v":0},{"$f":"'Listă posturi'!L1406","v":"-"}]
[null,1402,{"$f":"'Listă posturi'!K1407","v":", , , ID , "},{"$f":"'Listă posturi'!I1407","v":0},{"$f":"'Listă posturi'!L1407","v":"-"}]
[null,1403,{"$f":"'Listă posturi'!K1408","v":", , , ID , "},{"$f":"'Listă posturi'!I1408","v":0},{"$f":"'Listă posturi'!L1408","v":"-"}]
[null,1404,{"$f":"'Listă posturi'!K1409","v":", , , ID , "},{"$f":"'Listă posturi'!I1409","v":0},{"$f":"'Listă posturi'!L1409","v":"-"}]
[null,1405,{"$f":"'Listă posturi'!K1410","v":", , , ID , "},{"$f":"'Listă posturi'!I1410","v":0},{"$f":"'Listă posturi'!L1410","v":"-"}]
[null,1406,{"$f":"'Listă posturi'!K1411","v":", , , ID , "},{"$f":"'Listă posturi'!I1411","v":0},{"$f":"'Listă posturi'!L1411","v":"-"}]
[null,1407,{"$f":"'Listă posturi'!K1412","v":", , , ID , "},{"$f":"'Listă posturi'!I1412","v":0},{"$f":"'Listă posturi'!L1412","v":"-"}]
[null,1408,{"$f":"'Listă posturi'!K1413","v":", , , ID , "},{"$f":"'Listă posturi'!I1413","v":0},{"$f":"'Listă posturi'!L1413","v":"-"}]
[null,1409,{"$f":"'Listă posturi'!K1414","v":", , , ID , "},{"$f":"'Listă posturi'!I1414","v":0},{"$f":"'Listă posturi'!L1414","v":"-"}]
[null,1410,{"$f":"'Listă posturi'!K1415","v":", , , ID , "},{"$f":"'Listă posturi'!I1415","v":0},{"$f":"'Listă posturi'!L1415","v":"-"}]
[null,1411,{"$f":"'Listă posturi'!K1416","v":", , , ID , "},{"$f":"'Listă posturi'!I1416","v":0},{"$f":"'Listă posturi'!L1416","v":"-"}]
[null,1412,{"$f":"'Listă posturi'!K1417","v":", , , ID , "},{"$f":"'Listă posturi'!I1417","v":0},{"$f":"'Listă posturi'!L1417","v":"-"}]
[null,1413,{"$f":"'Listă posturi'!K1418","v":", , , ID , "},{"$f":"'Listă posturi'!I1418","v":0},{"$f":"'Listă posturi'!L1418","v":"-"}]
[null,1414,{"$f":"'Listă posturi'!K1419","v":", , , ID , "},{"$f":"'Listă posturi'!I1419","v":0},{"$f":"'Listă posturi'!L1419","v":"-"}]
[null,1415,{"$f":"'Listă posturi'!K1420","v":", , , ID , "},{"$f":"'Listă posturi'!I1420","v":0},{"$f":"'Listă posturi'!L1420","v":"-"}]
[null,1416,{"$f":"'Listă posturi'!K1421","v":", , , ID , "},{"$f":"'Listă posturi'!I1421","v":0},{"$f":"'Listă posturi'!L1421","v":"-"}]
[null,1417,{"$f":"'Listă posturi'!K1422","v":", , , ID , "},{"$f":"'Listă posturi'!I1422","v":0},{"$f":"'Listă posturi'!L1422","v":"-"}]
[null,1418,{"$f":"'Listă posturi'!K1423","v":", , , ID , "},{"$f":"'Listă posturi'!I1423","v":0},{"$f":"'Listă posturi'!L1423","v":"-"}]
[null,1419,{"$f":"'Listă posturi'!K1424","v":", , , ID , "},{"$f":"'Listă posturi'!I1424","v":0},{"$f":"'Listă posturi'!L1424","v":"-"}]
[null,1420,{"$f":"'Listă posturi'!K1425","v":", , , ID , "},{"$f":"'Listă posturi'!I1425","v":0},{"$f":"'Listă posturi'!L1425","v":"-"}]
[null,1421,{"$f":"'Listă posturi'!K1426","v":", , , ID , "},{"$f":"'Listă posturi'!I1426","v":0},{"$f":"'Listă posturi'!L1426","v":"-"}]
[null,1422,{"$f":"'Listă posturi'!K1427","v":", , , ID , "},{"$f":"'Listă posturi'!I1427","v":0},{"$f":"'Listă posturi'!L1427","v":"-"}]
[null,1423,{"$f":"'Listă posturi'!K1428","v":", , , ID , "},{"$f":"'Listă posturi'!I1428","v":0},{"$f":"'Listă posturi'!L1428","v":"-"}]
[null,1424,{"$f":"'Listă posturi'!K1429","v":", , , ID , "},{"$f":"'Listă posturi'!I1429","v":0},{"$f":"'Listă posturi'!L1429","v":"-"}]
[null,1425,{"$f":"'Listă posturi'!K1430","v":", , , ID , "},{"$f":"'Listă posturi'!I1430","v":0},{"$f":"'Listă posturi'!L1430","v":"-"}]
[null,1426,{"$f":"'Listă posturi'!K1431","v":", , , ID , "},{"$f":"'Listă posturi'!I1431","v":0},{"$f":"'Listă posturi'!L1431","v":"-"}]
[null,1427,{"$f":"'Listă posturi'!K1432","v":", , , ID , "},{"$f":"'Listă posturi'!I1432","v":0},{"$f":"'Listă posturi'!L1432","v":"-"}]
[null,1428,{"$f":"'Listă posturi'!K1433","v":", , , ID , "},{"$f":"'Listă posturi'!I1433","v":0},{"$f":"'Listă posturi'!L1433","v":"-"}]
[null,1429,{"$f":"'Listă posturi'!K1434","v":", , , ID , "},{"$f":"'Listă posturi'!I1434","v":0},{"$f":"'Listă posturi'!L1434","v":"-"}]
[null,1430,{"$f":"'Listă posturi'!K1435","v":", , , ID , "},{"$f":"'Listă posturi'!I1435","v":0},{"$f":"'Listă posturi'!L1435","v":"-"}]
[null,1431,{"$f":"'Listă posturi'!K1436","v":", , , ID , "},{"$f":"'Listă posturi'!I1436","v":0},{"$f":"'Listă posturi'!L1436","v":"-"}]
[null,1432,{"$f":"'Listă posturi'!K1437","v":", , , ID , "},{"$f":"'Listă posturi'!I1437","v":0},{"$f":"'Listă posturi'!L1437","v":"-"}]
[null,1433,{"$f":"'Listă posturi'!K1438","v":", , , ID , "},{"$f":"'Listă posturi'!I1438","v":0},{"$f":"'Listă posturi'!L1438","v":"-"}]
[null,1434,{"$f":"'Listă posturi'!K1439","v":", , , ID , "},{"$f":"'Listă posturi'!I1439","v":0},{"$f":"'Listă posturi'!L1439","v":"-"}]
[null,1435,{"$f":"'Listă posturi'!K1440","v":", , , ID , "},{"$f":"'Listă posturi'!I1440","v":0},{"$f":"'Listă posturi'!L1440","v":"-"}]
[null,1436,{"$f":"'Listă posturi'!K1441","v":", , , ID , "},{"$f":"'Listă posturi'!I1441","v":0},{"$f":"'Listă posturi'!L1441","v":"-"}]
[null,1437,{"$f":"'Listă posturi'!K1442","v":", , , ID , "},{"$f":"'Listă posturi'!I1442","v":0},{"$f":"'Listă posturi'!L1442","v":"-"}]
[null,1438,{"$f":"'Listă posturi'!K1443","v":", , , ID , "},{"$f":"'Listă posturi'!I1443","v":0},{"$f":"'Listă posturi'!L1443","v":"-"}]
[null,1439,{"$f":"'Listă posturi'!K1444","v":", , , ID , "},{"$f":"'Listă posturi'!I1444","v":0},{"$f":"'Listă posturi'!L1444","v":"-"}]
[null,1440,{"$f":"'Listă posturi'!K1445","v":", , , ID , "},{"$f":"'Listă posturi'!I1445","v":0},{"$f":"'Listă posturi'!L1445","v":"-"}]
[null,1441,{"$f":"'Listă posturi'!K1446","v":", , , ID , "},{"$f":"'Listă posturi'!I1446","v":0},{"$f":"'Listă posturi'!L1446","v":"-"}]
[null,1442,{"$f":"'Listă posturi'!K1447","v":", , , ID , "},{"$f":"'Listă posturi'!I1447","v":0},{"$f":"'Listă posturi'!L1447","v":"-"}]
[null,1443,{"$f":"'Listă posturi'!K1448","v":", , , ID , "},{"$f":"'Listă posturi'!I1448","v":0},{"$f":"'Listă posturi'!L1448","v":"-"}]
[null,1444,{"$f":"'Listă posturi'!K1449","v":", , , ID , "},{"$f":"'Listă posturi'!I1449","v":0},{"$f":"'Listă posturi'!L1449","v":"-"}]
[null,1445,{"$f":"'Listă posturi'!K1450","v":", , , ID , "},{"$f":"'Listă posturi'!I1450","v":0},{"$f":"'Listă posturi'!L1450","v":"-"}]
[null,1446,{"$f":"'Listă posturi'!K1451","v":", , , ID , "},{"$f":"'Listă posturi'!I1451","v":0},{"$f":"'Listă posturi'!L1451","v":"-"}]
[null,1447,{"$f":"'Listă posturi'!K1452","v":", , , ID , "},{"$f":"'Listă posturi'!I1452","v":0},{"$f":"'Listă posturi'!L1452","v":"-"}]
[null,1448,{"$f":"'Listă posturi'!K1453","v":", , , ID , "},{"$f":"'Listă posturi'!I1453","v":0},{"$f":"'Listă posturi'!L1453","v":"-"}]
[null,1449,{"$f":"'Listă posturi'!K1454","v":", , , ID , "},{"$f":"'Listă posturi'!I1454","v":0},{"$f":"'Listă posturi'!L1454","v":"-"}]
[null,1450,{"$f":"'Listă posturi'!K1455","v":", , , ID , "},{"$f":"'Listă posturi'!I1455","v":0},{"$f":"'Listă posturi'!L1455","v":"-"}]
[null,1451,{"$f":"'Listă posturi'!K1456","v":", , , ID , "},{"$f":"'Listă posturi'!I1456","v":0},{"$f":"'Listă posturi'!L1456","v":"-"}]
[null,1452,{"$f":"'Listă posturi'!K1457","v":", , , ID , "},{"$f":"'Listă posturi'!I1457","v":0},{"$f":"'Listă posturi'!L1457","v":"-"}]
[null,1453,{"$f":"'Listă posturi'!K1458","v":", , , ID , "},{"$f":"'Listă posturi'!I1458","v":0},{"$f":"'Listă posturi'!L1458","v":"-"}]
[null,1454,{"$f":"'Listă posturi'!K1459","v":", , , ID , "},{"$f":"'Listă posturi'!I1459","v":0},{"$f":"'Listă posturi'!L1459","v":"-"}]
[null,1455,{"$f":"'Listă posturi'!K1460","v":", , , ID , "},{"$f":"'Listă posturi'!I1460","v":0},{"$f":"'Listă posturi'!L1460","v":"-"}]
[null,1456,{"$f":"'Listă posturi'!K1461","v":", , , ID , "},{"$f":"'Listă posturi'!I1461","v":0},{"$f":"'Listă posturi'!L1461","v":"-"}]
[null,1457,{"$f":"'Listă posturi'!K1462","v":", , , ID , "},{"$f":"'Listă posturi'!I1462","v":0},{"$f":"'Listă posturi'!L1462","v":"-"}]
[null,1458,{"$f":"'Listă posturi'!K1463","v":", , , ID , "},{"$f":"'Listă posturi'!I1463","v":0},{"$f":"'Listă posturi'!L1463","v":"-"}]
[null,1459,{"$f":"'Listă posturi'!K1464","v":", , , ID , "},{"$f":"'Listă posturi'!I1464","v":0},{"$f":"'Listă posturi'!L1464","v":"-"}]
[null,1460,{"$f":"'Listă posturi'!K1465","v":", , , ID , "},{"$f":"'Listă posturi'!I1465","v":0},{"$f":"'Listă posturi'!L1465","v":"-"}]
[null,1461,{"$f":"'Listă posturi'!K1466","v":", , , ID , "},{"$f":"'Listă posturi'!I1466","v":0},{"$f":"'Listă posturi'!L1466","v":"-"}]
[null,1462,{"$f":"'Listă posturi'!K1467","v":", , , ID , "},{"$f":"'Listă posturi'!I1467","v":0},{"$f":"'Listă posturi'!L1467","v":"-"}]
[null,1463,{"$f":"'Listă posturi'!K1468","v":", , , ID , "},{"$f":"'Listă posturi'!I1468","v":0},{"$f":"'Listă posturi'!L1468","v":"-"}]
[null,1464,{"$f":"'Listă posturi'!K1469","v":", , , ID , "},{"$f":"'Listă posturi'!I1469","v":0},{"$f":"'Listă posturi'!L1469","v":"-"}]
[null,1465,{"$f":"'Listă posturi'!K1470","v":", , , ID , "},{"$f":"'Listă posturi'!I1470","v":0},{"$f":"'Listă posturi'!L1470","v":"-"}]
[null,1466,{"$f":"'Listă posturi'!K1471","v":", , , ID , "},{"$f":"'Listă posturi'!I1471","v":0},{"$f":"'Listă posturi'!L1471","v":"-"}]
[null,1467,{"$f":"'Listă posturi'!K1472","v":", , , ID , "},{"$f":"'Listă posturi'!I1472","v":0},{"$f":"'Listă posturi'!L1472","v":"-"}]
[null,1468,{"$f":"'Listă posturi'!K1473","v":", , , ID , "},{"$f":"'Listă posturi'!I1473","v":0},{"$f":"'Listă posturi'!L1473","v":"-"}]
[null,1469,{"$f":"'Listă posturi'!K1474","v":", , , ID , "},{"$f":"'Listă posturi'!I1474","v":0},{"$f":"'Listă posturi'!L1474","v":"-"}]
[null,1470,{"$f":"'Listă posturi'!K1475","v":", , , ID , "},{"$f":"'Listă posturi'!I1475","v":0},{"$f":"'Listă posturi'!L1475","v":"-"}]
[null,1471,{"$f":"'Listă posturi'!K1476","v":", , , ID , "},{"$f":"'Listă posturi'!I1476","v":0},{"$f":"'Listă posturi'!L1476","v":"-"}]
[null,1472,{"$f":"'Listă posturi'!K1477","v":", , , ID , "},{"$f":"'Listă posturi'!I1477","v":0},{"$f":"'Listă posturi'!L1477","v":"-"}]
[null,1473,{"$f":"'Listă posturi'!K1478","v":", , , ID , "},{"$f":"'Listă posturi'!I1478","v":0},{"$f":"'Listă posturi'!L1478","v":"-"}]
[null,1474,{"$f":"'Listă posturi'!K1479","v":", , , ID , "},{"$f":"'Listă posturi'!I1479","v":0},{"$f":"'Listă posturi'!L1479","v":"-"}]
[null,1475,{"$f":"'Listă posturi'!K1480","v":", , , ID , "},{"$f":"'Listă posturi'!I1480","v":0},{"$f":"'Listă posturi'!L1480","v":"-"}]
[null,1476,{"$f":"'Listă posturi'!K1481","v":", , , ID , "},{"$f":"'Listă posturi'!I1481","v":0},{"$f":"'Listă posturi'!L1481","v":"-"}]
[null,1477,{"$f":"'Listă posturi'!K1482","v":", , , ID , "},{"$f":"'Listă posturi'!I1482","v":0},{"$f":"'Listă posturi'!L1482","v":"-"}]
[null,1478,{"$f":"'Listă posturi'!K1483","v":", , , ID , "},{"$f":"'Listă posturi'!I1483","v":0},{"$f":"'Listă posturi'!L1483","v":"-"}]
[null,1479,{"$f":"'Listă posturi'!K1484","v":", , , ID , "},{"$f":"'Listă posturi'!I1484","v":0},{"$f":"'Listă posturi'!L1484","v":"-"}]
[null,1480,{"$f":"'Listă posturi'!K1485","v":", , , ID , "},{"$f":"'Listă posturi'!I1485","v":0},{"$f":"'Listă posturi'!L1485","v":"-"}]
[null,1481,{"$f":"'Listă posturi'!K1486","v":", , , ID , "},{"$f":"'Listă posturi'!I1486","v":0},{"$f":"'Listă posturi'!L1486","v":"-"}]
[null,1482,{"$f":"'Listă posturi'!K1487","v":", , , ID , "},{"$f":"'Listă posturi'!I1487","v":0},{"$f":"'Listă posturi'!L1487","v":"-"}]
[null,1483,{"$f":"'Listă posturi'!K1488","v":", , , ID , "},{"$f":"'Listă posturi'!I1488","v":0},{"$f":"'Listă posturi'!L1488","v":"-"}]
[null,1484,{"$f":"'Listă posturi'!K1489","v":", , , ID , "},{"$f":"'Listă posturi'!I1489","v":0},{"$f":"'Listă posturi'!L1489","v":"-"}]
[null,1485,{"$f":"'Listă posturi'!K1490","v":", , , ID , "},{"$f":"'Listă posturi'!I1490","v":0},{"$f":"'Listă posturi'!L1490","v":"-"}]
[null,1486,{"$f":"'Listă posturi'!K1491","v":", , , ID , "},{"$f":"'Listă posturi'!I1491","v":0},{"$f":"'Listă posturi'!L1491","v":"-"}]
[null,1487,{"$f":"'Listă posturi'!K1492","v":", , , ID , "},{"$f":"'Listă posturi'!I1492","v":0},{"$f":"'Listă posturi'!L1492","v":"-"}]
[null,1488,{"$f":"'Listă posturi'!K1493","v":", , , ID , "},{"$f":"'Listă posturi'!I1493","v":0},{"$f":"'Listă posturi'!L1493","v":"-"}]
[null,1489,{"$f":"'Listă posturi'!K1494","v":", , , ID , "},{"$f":"'Listă posturi'!I1494","v":0},{"$f":"'Listă posturi'!L1494","v":"-"}]
[null,1490,{"$f":"'Listă posturi'!K1495","v":", , , ID , "},{"$f":"'Listă posturi'!I1495","v":0},{"$f":"'Listă posturi'!L1495","v":"-"}]
[null,1491,{"$f":"'Listă posturi'!K1496","v":", , , ID , "},{"$f":"'Listă posturi'!I1496","v":0},{"$f":"'Listă posturi'!L1496","v":"-"}]
[null,1492,{"$f":"'Listă posturi'!K1497","v":", , , ID , "},{"$f":"'Listă posturi'!I1497","v":0},{"$f":"'Listă posturi'!L1497","v":"-"}]
[null,1493,{"$f":"'Listă posturi'!K1498","v":", , , ID , "},{"$f":"'Listă posturi'!I1498","v":0},{"$f":"'Listă posturi'!L1498","v":"-"}]
[null,1494,{"$f":"'Listă posturi'!K1499","v":", , , ID , "},{"$f":"'Listă posturi'!I1499","v":0},{"$f":"'Listă posturi'!L1499","v":"-"}]
[null,1495,{"$f":"'Listă posturi'!K1500","v":", , , ID , "},{"$f":"'Listă posturi'!I1500","v":0},{"$f":"'Listă posturi'!L1500","v":"-"}]
[null,1496,{"$f":"'Listă posturi'!K1501","v":", , , ID , "},{"$f":"'Listă posturi'!I1501","v":0},{"$f":"'Listă posturi'!L1501","v":"-"}]
[null,1497,{"$f":"'Listă posturi'!K1502","v":", , , ID , "},{"$f":"'Listă posturi'!I1502","v":0},{"$f":"'Listă posturi'!L1502","v":"-"}]
[null,1498,{"$f":"'Listă posturi'!K1503","v":", , , ID , "},{"$f":"'Listă posturi'!I1503","v":0},{"$f":"'Listă posturi'!L1503","v":"-"}]
[null,1499,{"$f":"'Listă posturi'!K1504","v":", , , ID , "},{"$f":"'Listă posturi'!I1504","v":0},{"$f":"'Listă posturi'!L1504","v":"-"}]
[null,1500,{"$f":"'Listă posturi'!K1505","v":", , , ID , "},{"$f":"'Listă posturi'!I1505","v":0},{"$f":"'Listă posturi'!L1505","v":"-"}]
[null,1501,{"$f":"'Listă posturi'!K1506","v":", , , ID , "},{"$f":"'Listă posturi'!I1506","v":0},{"$f":"'Listă posturi'!L1506","v":"-"}]
[null,1502,{"$f":"'Listă posturi'!K1507","v":", , , ID , "},{"$f":"'Listă posturi'!I1507","v":0},{"$f":"'Listă posturi'!L1507","v":"-"}]
[null,1503,{"$f":"'Listă posturi'!K1508","v":", , , ID , "},{"$f":"'Listă posturi'!I1508","v":0},{"$f":"'Listă posturi'!L1508","v":"-"}]
[null,1504,{"$f":"'Listă posturi'!K1509","v":", , , ID , "},{"$f":"'Listă posturi'!I1509","v":0},{"$f":"'Listă posturi'!L1509","v":"-"}]
[null,1505,{"$f":"'Listă posturi'!K1510","v":", , , ID , "},{"$f":"'Listă posturi'!I1510","v":0},{"$f":"'Listă posturi'!L1510","v":"-"}]
[null,1506,{"$f":"'Listă posturi'!K1511","v":", , , ID , "},{"$f":"'Listă posturi'!I1511","v":0},{"$f":"'Listă posturi'!L1511","v":"-"}]
[null,1507,{"$f":"'Listă posturi'!K1512","v":", , , ID , "},{"$f":"'Listă posturi'!I1512","v":0},{"$f":"'Listă posturi'!L1512","v":"-"}]
[null,1508,{"$f":"'Listă posturi'!K1513","v":", , , ID , "},{"$f":"'Listă posturi'!I1513","v":0},{"$f":"'Listă posturi'!L1513","v":"-"}]
[null,1509,{"$f":"'Listă posturi'!K1514","v":", , , ID , "},{"$f":"'Listă posturi'!I1514","v":0},{"$f":"'Listă posturi'!L1514","v":"-"}]
[null,1510,{"$f":"'Listă posturi'!K1515","v":", , , ID , "},{"$f":"'Listă posturi'!I1515","v":0},{"$f":"'Listă posturi'!L1515","v":"-"}]
[null,1511,{"$f":"'Listă posturi'!K1516","v":", , , ID , "},{"$f":"'Listă posturi'!I1516","v":0},{"$f":"'Listă posturi'!L1516","v":"-"}]
[null,1512,{"$f":"'Listă posturi'!K1517","v":", , , ID , "},{"$f":"'Listă posturi'!I1517","v":0},{"$f":"'Listă posturi'!L1517","v":"-"}]
[null,1513,{"$f":"'Listă posturi'!K1518","v":", , , ID , "},{"$f":"'Listă posturi'!I1518","v":0},{"$f":"'Listă posturi'!L1518","v":"-"}]
[null,1514,{"$f":"'Listă posturi'!K1519","v":", , , ID , "},{"$f":"'Listă posturi'!I1519","v":0},{"$f":"'Listă posturi'!L1519","v":"-"}]
[null,1515,{"$f":"'Listă posturi'!K1520","v":", , , ID , "},{"$f":"'Listă posturi'!I1520","v":0},{"$f":"'Listă posturi'!L1520","v":"-"}]
[null,1516,{"$f":"'Listă posturi'!K1521","v":", , , ID , "},{"$f":"'Listă posturi'!I1521","v":0},{"$f":"'Listă posturi'!L1521","v":"-"}]
[null,1517,{"$f":"'Listă posturi'!K1522","v":", , , ID , "},{"$f":"'Listă posturi'!I1522","v":0},{"$f":"'Listă posturi'!L1522","v":"-"}]
[null,1518,{"$f":"'Listă posturi'!K1523","v":", , , ID , "},{"$f":"'Listă posturi'!I1523","v":0},{"$f":"'Listă posturi'!L1523","v":"-"}]
[null,1519,{"$f":"'Listă posturi'!K1524","v":", , , ID , "},{"$f":"'Listă posturi'!I1524","v":0},{"$f":"'Listă posturi'!L1524","v":"-"}]
[null,1520,{"$f":"'Listă posturi'!K1525","v":", , , ID , "},{"$f":"'Listă posturi'!I1525","v":0},{"$f":"'Listă posturi'!L1525","v":"-"}]
[null,1521,{"$f":"'Listă posturi'!K1526","v":", , , ID , "},{"$f":"'Listă posturi'!I1526","v":0},{"$f":"'Listă posturi'!L1526","v":"-"}]
[null,1522,{"$f":"'Listă posturi'!K1527","v":", , , ID , "},{"$f":"'Listă posturi'!I1527","v":0},{"$f":"'Listă posturi'!L1527","v":"-"}]
[null,1523,{"$f":"'Listă posturi'!K1528","v":", , , ID , "},{"$f":"'Listă posturi'!I1528","v":0},{"$f":"'Listă posturi'!L1528","v":"-"}]
[null,1524,{"$f":"'Listă posturi'!K1529","v":", , , ID , "},{"$f":"'Listă posturi'!I1529","v":0},{"$f":"'Listă posturi'!L1529","v":"-"}]
[null,1525,{"$f":"'Listă posturi'!K1530","v":", , , ID , "},{"$f":"'Listă posturi'!I1530","v":0},{"$f":"'Listă posturi'!L1530","v":"-"}]
[null,1526,{"$f":"'Listă posturi'!K1531","v":", , , ID , "},{"$f":"'Listă posturi'!I1531","v":0},{"$f":"'Listă posturi'!L1531","v":"-"}]
[null,1527,{"$f":"'Listă posturi'!K1532","v":", , , ID , "},{"$f":"'Listă posturi'!I1532","v":0},{"$f":"'Listă posturi'!L1532","v":"-"}]
[null,1528,{"$f":"'Listă posturi'!K1533","v":", , , ID , "},{"$f":"'Listă posturi'!I1533","v":0},{"$f":"'Listă posturi'!L1533","v":"-"}]
[null,1529,{"$f":"'Listă posturi'!K1534","v":", , , ID , "},{"$f":"'Listă posturi'!I1534","v":0},{"$f":"'Listă posturi'!L1534","v":"-"}]
[null,1530,{"$f":"'Listă posturi'!K1535","v":", , , ID , "},{"$f":"'Listă posturi'!I1535","v":0},{"$f":"'Listă posturi'!L1535","v":"-"}]
[null,1531,{"$f":"'Listă posturi'!K1536","v":", , , ID , "},{"$f":"'Listă posturi'!I1536","v":0},{"$f":"'Listă posturi'!L1536","v":"-"}]
[null,1532,{"$f":"'Listă posturi'!K1537","v":", , , ID , "},{"$f":"'Listă posturi'!I1537","v":0},{"$f":"'Listă posturi'!L1537","v":"-"}]
[null,1533,{"$f":"'Listă posturi'!K1538","v":", , , ID , "},{"$f":"'Listă posturi'!I1538","v":0},{"$f":"'Listă posturi'!L1538","v":"-"}]
[null,1534,{"$f":"'Listă posturi'!K1539","v":", , , ID , "},{"$f":"'Listă posturi'!I1539","v":0},{"$f":"'Listă posturi'!L1539","v":"-"}]
[null,1535,{"$f":"'Listă posturi'!K1540","v":", , , ID , "},{"$f":"'Listă posturi'!I1540","v":0},{"$f":"'Listă posturi'!L1540","v":"-"}]
[null,1536,{"$f":"'Listă posturi'!K1541","v":", , , ID , "},{"$f":"'Listă posturi'!I1541","v":0},{"$f":"'Listă posturi'!L1541","v":"-"}]
[null,1537,{"$f":"'Listă posturi'!K1542","v":", , , ID , "},{"$f":"'Listă posturi'!I1542","v":0},{"$f":"'Listă posturi'!L1542","v":"-"}]
[null,1538,{"$f":"'Listă posturi'!K1543","v":", , , ID , "},{"$f":"'Listă posturi'!I1543","v":0},{"$f":"'Listă posturi'!L1543","v":"-"}]
[null,1539,{"$f":"'Listă posturi'!K1544","v":", , , ID , "},{"$f":"'Listă posturi'!I1544","v":0},{"$f":"'Listă posturi'!L1544","v":"-"}]
[null,1540,{"$f":"'Listă posturi'!K1545","v":", , , ID , "},{"$f":"'Listă posturi'!I1545","v":0},{"$f":"'Listă posturi'!L1545","v":"-"}]
[null,1541,{"$f":"'Listă posturi'!K1546","v":", , , ID , "},{"$f":"'Listă posturi'!I1546","v":0},{"$f":"'Listă posturi'!L1546","v":"-"}]
[null,1542,{"$f":"'Listă posturi'!K1547","v":", , , ID , "},{"$f":"'Listă posturi'!I1547","v":0},{"$f":"'Listă posturi'!L1547","v":"-"}]
[null,1543,{"$f":"'Listă posturi'!K1548","v":", , , ID , "},{"$f":"'Listă posturi'!I1548","v":0},{"$f":"'Listă posturi'!L1548","v":"-"}]
[null,1544,{"$f":"'Listă posturi'!K1549","v":", , , ID , "},{"$f":"'Listă posturi'!I1549","v":0},{"$f":"'Listă posturi'!L1549","v":"-"}]
[null,1545,{"$f":"'Listă posturi'!K1550","v":", , , ID , "},{"$f":"'Listă posturi'!I1550","v":0},{"$f":"'Listă posturi'!L1550","v":"-"}]
[null,1546,{"$f":"'Listă posturi'!K1551","v":", , , ID , "},{"$f":"'Listă posturi'!I1551","v":0},{"$f":"'Listă posturi'!L1551","v":"-"}]
[null,1547,{"$f":"'Listă posturi'!K1552","v":", , , ID , "},{"$f":"'Listă posturi'!I1552","v":0},{"$f":"'Listă posturi'!L1552","v":"-"}]
[null,1548,{"$f":"'Listă posturi'!K1553","v":", , , ID , "},{"$f":"'Listă posturi'!I1553","v":0},{"$f":"'Listă posturi'!L1553","v":"-"}]
[null,1549,{"$f":"'Listă posturi'!K1554","v":", , , ID , "},{"$f":"'Listă posturi'!I1554","v":0},{"$f":"'Listă posturi'!L1554","v":"-"}]
[null,1550,{"$f":"'Listă posturi'!K1555","v":", , , ID , "},{"$f":"'Listă posturi'!I1555","v":0},{"$f":"'Listă posturi'!L1555","v":"-"}]
[null,1551,{"$f":"'Listă posturi'!K1556","v":", , , ID , "},{"$f":"'Listă posturi'!I1556","v":0},{"$f":"'Listă posturi'!L1556","v":"-"}]
[null,1552,{"$f":"'Listă posturi'!K1557","v":", , , ID , "},{"$f":"'Listă posturi'!I1557","v":0},{"$f":"'Listă posturi'!L1557","v":"-"}]
[null,1553,{"$f":"'Listă posturi'!K1558","v":", , , ID , "},{"$f":"'Listă posturi'!I1558","v":0},{"$f":"'Listă posturi'!L1558","v":"-"}]
[null,1554,{"$f":"'Listă posturi'!K1559","v":", , , ID , "},{"$f":"'Listă posturi'!I1559","v":0},{"$f":"'Listă posturi'!L1559","v":"-"}]
[null,1555,{"$f":"'Listă posturi'!K1560","v":", , , ID , "},{"$f":"'Listă posturi'!I1560","v":0},{"$f":"'Listă posturi'!L1560","v":"-"}]
[null,1556,{"$f":"'Listă posturi'!K1561","v":", , , ID , "},{"$f":"'Listă posturi'!I1561","v":0},{"$f":"'Listă posturi'!L1561","v":"-"}]
[null,1557,{"$f":"'Listă posturi'!K1562","v":", , , ID , "},{"$f":"'Listă posturi'!I1562","v":0},{"$f":"'Listă posturi'!L1562","v":"-"}]
[null,1558,{"$f":"'Listă posturi'!K1563","v":", , , ID , "},{"$f":"'Listă posturi'!I1563","v":0},{"$f":"'Listă posturi'!L1563","v":"-"}]
[null,1559,{"$f":"'Listă posturi'!K1564","v":", , , ID , "},{"$f":"'Listă posturi'!I1564","v":0},{"$f":"'Listă posturi'!L1564","v":"-"}]
[null,1560,{"$f":"'Listă posturi'!K1565","v":", , , ID , "},{"$f":"'Listă posturi'!I1565","v":0},{"$f":"'Listă posturi'!L1565","v":"-"}]
[null,1561,{"$f":"'Listă posturi'!K1566","v":", , , ID , "},{"$f":"'Listă posturi'!I1566","v":0},{"$f":"'Listă posturi'!L1566","v":"-"}]
[null,1562,{"$f":"'Listă posturi'!K1567","v":", , , ID , "},{"$f":"'Listă posturi'!I1567","v":0},{"$f":"'Listă posturi'!L1567","v":"-"}]
[null,1563,{"$f":"'Listă posturi'!K1568","v":", , , ID , "},{"$f":"'Listă posturi'!I1568","v":0},{"$f":"'Listă posturi'!L1568","v":"-"}]
[null,1564,{"$f":"'Listă posturi'!K1569","v":", , , ID , "},{"$f":"'Listă posturi'!I1569","v":0},{"$f":"'Listă posturi'!L1569","v":"-"}]
[null,1565,{"$f":"'Listă posturi'!K1570","v":", , , ID , "},{"$f":"'Listă posturi'!I1570","v":0},{"$f":"'Listă posturi'!L1570","v":"-"}]
[null,1566,{"$f":"'Listă posturi'!K1571","v":", , , ID , "},{"$f":"'Listă posturi'!I1571","v":0},{"$f":"'Listă posturi'!L1571","v":"-"}]
[null,1567,{"$f":"'Listă posturi'!K1572","v":", , , ID , "},{"$f":"'Listă posturi'!I1572","v":0},{"$f":"'Listă posturi'!L1572","v":"-"}]
[null,1568,{"$f":"'Listă posturi'!K1573","v":", , , ID , "},{"$f":"'Listă posturi'!I1573","v":0},{"$f":"'Listă posturi'!L1573","v":"-"}]
[null,1569,{"$f":"'Listă posturi'!K1574","v":", , , ID , "},{"$f":"'Listă posturi'!I1574","v":0},{"$f":"'Listă posturi'!L1574","v":"-"}]
[null,1570,{"$f":"'Listă posturi'!K1575","v":", , , ID , "},{"$f":"'Listă posturi'!I1575","v":0},{"$f":"'Listă posturi'!L1575","v":"-"}]
[null,1571,{"$f":"'Listă posturi'!K1576","v":", , , ID , "},{"$f":"'Listă posturi'!I1576","v":0},{"$f":"'Listă posturi'!L1576","v":"-"}]
[null,1572,{"$f":"'Listă posturi'!K1577","v":", , , ID , "},{"$f":"'Listă posturi'!I1577","v":0},{"$f":"'Listă posturi'!L1577","v":"-"}]
[null,1573,{"$f":"'Listă posturi'!K1578","v":", , , ID , "},{"$f":"'Listă posturi'!I1578","v":0},{"$f":"'Listă posturi'!L1578","v":"-"}]
[null,1574,{"$f":"'Listă posturi'!K1579","v":", , , ID , "},{"$f":"'Listă posturi'!I1579","v":0},{"$f":"'Listă posturi'!L1579","v":"-"}]
[null,1575,{"$f":"'Listă posturi'!K1580","v":", , , ID , "},{"$f":"'Listă posturi'!I1580","v":0},{"$f":"'Listă posturi'!L1580","v":"-"}]
[null,1576,{"$f":"'Listă posturi'!K1581","v":", , , ID , "},{"$f":"'Listă posturi'!I1581","v":0},{"$f":"'Listă posturi'!L1581","v":"-"}]
[null,1577,{"$f":"'Listă posturi'!K1582","v":", , , ID , "},{"$f":"'Listă posturi'!I1582","v":0},{"$f":"'Listă posturi'!L1582","v":"-"}]
[null,1578,{"$f":"'Listă posturi'!K1583","v":", , , ID , "},{"$f":"'Listă posturi'!I1583","v":0},{"$f":"'Listă posturi'!L1583","v":"-"}]
[null,1579,{"$f":"'Listă posturi'!K1584","v":", , , ID , "},{"$f":"'Listă posturi'!I1584","v":0},{"$f":"'Listă posturi'!L1584","v":"-"}]
[null,1580,{"$f":"'Listă posturi'!K1585","v":", , , ID , "},{"$f":"'Listă posturi'!I1585","v":0},{"$f":"'Listă posturi'!L1585","v":"-"}]
[null,1581,{"$f":"'Listă posturi'!K1586","v":", , , ID , "},{"$f":"'Listă posturi'!I1586","v":0},{"$f":"'Listă posturi'!L1586","v":"-"}]
[null,1582,{"$f":"'Listă posturi'!K1587","v":", , , ID , "},{"$f":"'Listă posturi'!I1587","v":0},{"$f":"'Listă posturi'!L1587","v":"-"}]
[null,1583,{"$f":"'Listă posturi'!K1588","v":", , , ID , "},{"$f":"'Listă posturi'!I1588","v":0},{"$f":"'Listă posturi'!L1588","v":"-"}]
[null,1584,{"$f":"'Listă posturi'!K1589","v":", , , ID , "},{"$f":"'Listă posturi'!I1589","v":0},{"$f":"'Listă posturi'!L1589","v":"-"}]
[null,1585,{"$f":"'Listă posturi'!K1590","v":", , , ID , "},{"$f":"'Listă posturi'!I1590","v":0},{"$f":"'Listă posturi'!L1590","v":"-"}]
[null,1586,{"$f":"'Listă posturi'!K1591","v":", , , ID , "},{"$f":"'Listă posturi'!I1591","v":0},{"$f":"'Listă posturi'!L1591","v":"-"}]
[null,1587,{"$f":"'Listă posturi'!K1592","v":", , , ID , "},{"$f":"'Listă posturi'!I1592","v":0},{"$f":"'Listă posturi'!L1592","v":"-"}]
[null,1588,{"$f":"'Listă posturi'!K1593","v":", , , ID , "},{"$f":"'Listă posturi'!I1593","v":0},{"$f":"'Listă posturi'!L1593","v":"-"}]
[null,1589,{"$f":"'Listă posturi'!K1594","v":", , , ID , "},{"$f":"'Listă posturi'!I1594","v":0},{"$f":"'Listă posturi'!L1594","v":"-"}]
[null,1590,{"$f":"'Listă posturi'!K1595","v":", , , ID , "},{"$f":"'Listă posturi'!I1595","v":0},{"$f":"'Listă posturi'!L1595","v":"-"}]
[null,1591,{"$f":"'Listă posturi'!K1596","v":", , , ID , "},{"$f":"'Listă posturi'!I1596","v":0},{"$f":"'Listă posturi'!L1596","v":"-"}]
[null,1592,{"$f":"'Listă posturi'!K1597","v":", , , ID , "},{"$f":"'Listă posturi'!I1597","v":0},{"$f":"'Listă posturi'!L1597","v":"-"}]
[null,1593,{"$f":"'Listă posturi'!K1598","v":", , , ID , "},{"$f":"'Listă posturi'!I1598","v":0},{"$f":"'Listă posturi'!L1598","v":"-"}]
[null,1594,{"$f":"'Listă posturi'!K1599","v":", , , ID , "},{"$f":"'Listă posturi'!I1599","v":0},{"$f":"'Listă posturi'!L1599","v":"-"}]
[null,1595,{"$f":"'Listă posturi'!K1600","v":", , , ID , "},{"$f":"'Listă posturi'!I1600","v":0},{"$f":"'Listă posturi'!L1600","v":"-"}]
[null,1596,{"$f":"'Listă posturi'!K1601","v":", , , ID , "},{"$f":"'Listă posturi'!I1601","v":0},{"$f":"'Listă posturi'!L1601","v":"-"}]
[null,1597,{"$f":"'Listă posturi'!K1602","v":", , , ID , "},{"$f":"'Listă posturi'!I1602","v":0},{"$f":"'Listă posturi'!L1602","v":"-"}]
[null,1598,{"$f":"'Listă posturi'!K1603","v":", , , ID , "},{"$f":"'Listă posturi'!I1603","v":0},{"$f":"'Listă posturi'!L1603","v":"-"}]
[null,1599,{"$f":"'Listă posturi'!K1604","v":", , , ID , "},{"$f":"'Listă posturi'!I1604","v":0},{"$f":"'Listă posturi'!L1604","v":"-"}]
[null,1600,{"$f":"'Listă posturi'!K1605","v":", , , ID , "},{"$f":"'Listă posturi'!I1605","v":0},{"$f":"'Listă posturi'!L1605","v":"-"}]
[null,1601,{"$f":"'Listă posturi'!K1606","v":", , , ID , "},{"$f":"'Listă posturi'!I1606","v":0},{"$f":"'Listă posturi'!L1606","v":"-"}]
[null,1602,{"$f":"'Listă posturi'!K1607","v":", , , ID , "},{"$f":"'Listă posturi'!I1607","v":0},{"$f":"'Listă posturi'!L1607","v":"-"}]
[null,1603,{"$f":"'Listă posturi'!K1608","v":", , , ID , "},{"$f":"'Listă posturi'!I1608","v":0},{"$f":"'Listă posturi'!L1608","v":"-"}]
[null,1604,{"$f":"'Listă posturi'!K1609","v":", , , ID , "},{"$f":"'Listă posturi'!I1609","v":0},{"$f":"'Listă posturi'!L1609","v":"-"}]
[null,1605,{"$f":"'Listă posturi'!K1610","v":", , , ID , "},{"$f":"'Listă posturi'!I1610","v":0},{"$f":"'Listă posturi'!L1610","v":"-"}]
[null,1606,{"$f":"'Listă posturi'!K1611","v":", , , ID , "},{"$f":"'Listă posturi'!I1611","v":0},{"$f":"'Listă posturi'!L1611","v":"-"}]
[null,1607,{"$f":"'Listă posturi'!K1612","v":", , , ID , "},{"$f":"'Listă posturi'!I1612","v":0},{"$f":"'Listă posturi'!L1612","v":"-"}]
[null,1608,{"$f":"'Listă posturi'!K1613","v":", , , ID , "},{"$f":"'Listă posturi'!I1613","v":0},{"$f":"'Listă posturi'!L1613","v":"-"}]
[null,1609,{"$f":"'Listă posturi'!K1614","v":", , , ID , "},{"$f":"'Listă posturi'!I1614","v":0},{"$f":"'Listă posturi'!L1614","v":"-"}]
[null,1610,{"$f":"'Listă posturi'!K1615","v":", , , ID , "},{"$f":"'Listă posturi'!I1615","v":0},{"$f":"'Listă posturi'!L1615","v":"-"}]
[null,1611,{"$f":"'Listă posturi'!K1616","v":", , , ID , "},{"$f":"'Listă posturi'!I1616","v":0},{"$f":"'Listă posturi'!L1616","v":"-"}]
[null,1612,{"$f":"'Listă posturi'!K1617","v":", , , ID , "},{"$f":"'Listă posturi'!I1617","v":0},{"$f":"'Listă posturi'!L1617","v":"-"}]
[null,1613,{"$f":"'Listă posturi'!K1618","v":", , , ID , "},{"$f":"'Listă posturi'!I1618","v":0},{"$f":"'Listă posturi'!L1618","v":"-"}]
[null,1614,{"$f":"'Listă posturi'!K1619","v":", , , ID , "},{"$f":"'Listă posturi'!I1619","v":0},{"$f":"'Listă posturi'!L1619","v":"-"}]
[null,1615,{"$f":"'Listă posturi'!K1620","v":", , , ID , "},{"$f":"'Listă posturi'!I1620","v":0},{"$f":"'Listă posturi'!L1620","v":"-"}]
[null,1616,{"$f":"'Listă posturi'!K1621","v":", , , ID , "},{"$f":"'Listă posturi'!I1621","v":0},{"$f":"'Listă posturi'!L1621","v":"-"}]
[null,1617,{"$f":"'Listă posturi'!K1622","v":", , , ID , "},{"$f":"'Listă posturi'!I1622","v":0},{"$f":"'Listă posturi'!L1622","v":"-"}]
[null,1618,{"$f":"'Listă posturi'!K1623","v":", , , ID , "},{"$f":"'Listă posturi'!I1623","v":0},{"$f":"'Listă posturi'!L1623","v":"-"}]
[null,1619,{"$f":"'Listă posturi'!K1624","v":", , , ID , "},{"$f":"'Listă posturi'!I1624","v":0},{"$f":"'Listă posturi'!L1624","v":"-"}]
[null,1620,{"$f":"'Listă posturi'!K1625","v":", , , ID , "},{"$f":"'Listă posturi'!I1625","v":0},{"$f":"'Listă posturi'!L1625","v":"-"}]
[null,1621,{"$f":"'Listă posturi'!K1626","v":", , , ID , "},{"$f":"'Listă posturi'!I1626","v":0},{"$f":"'Listă posturi'!L1626","v":"-"}]
[null,1622,{"$f":"'Listă posturi'!K1627","v":", , , ID , "},{"$f":"'Listă posturi'!I1627","v":0},{"$f":"'Listă posturi'!L1627","v":"-"}]
[null,1623,{"$f":"'Listă posturi'!K1628","v":", , , ID , "},{"$f":"'Listă posturi'!I1628","v":0},{"$f":"'Listă posturi'!L1628","v":"-"}]
[null,1624,{"$f":"'Listă posturi'!K1629","v":", , , ID , "},{"$f":"'Listă posturi'!I1629","v":0},{"$f":"'Listă posturi'!L1629","v":"-"}]
[null,1625,{"$f":"'Listă posturi'!K1630","v":", , , ID , "},{"$f":"'Listă posturi'!I1630","v":0},{"$f":"'Listă posturi'!L1630","v":"-"}]
[null,1626,{"$f":"'Listă posturi'!K1631","v":", , , ID , "},{"$f":"'Listă posturi'!I1631","v":0},{"$f":"'Listă posturi'!L1631","v":"-"}]
[null,1627,{"$f":"'Listă posturi'!K1632","v":", , , ID , "},{"$f":"'Listă posturi'!I1632","v":0},{"$f":"'Listă posturi'!L1632","v":"-"}]
[null,1628,{"$f":"'Listă posturi'!K1633","v":", , , ID , "},{"$f":"'Listă posturi'!I1633","v":0},{"$f":"'Listă posturi'!L1633","v":"-"}]
[null,1629,{"$f":"'Listă posturi'!K1634","v":", , , ID , "},{"$f":"'Listă posturi'!I1634","v":0},{"$f":"'Listă posturi'!L1634","v":"-"}]
[null,1630,{"$f":"'Listă posturi'!K1635","v":", , , ID , "},{"$f":"'Listă posturi'!I1635","v":0},{"$f":"'Listă posturi'!L1635","v":"-"}]
[null,1631,{"$f":"'Listă posturi'!K1636","v":", , , ID , "},{"$f":"'Listă posturi'!I1636","v":0},{"$f":"'Listă posturi'!L1636","v":"-"}]
[null,1632,{"$f":"'Listă posturi'!K1637","v":", , , ID , "},{"$f":"'Listă posturi'!I1637","v":0},{"$f":"'Listă posturi'!L1637","v":"-"}]
[null,1633,{"$f":"'Listă posturi'!K1638","v":", , , ID , "},{"$f":"'Listă posturi'!I1638","v":0},{"$f":"'Listă posturi'!L1638","v":"-"}]
[null,1634,{"$f":"'Listă posturi'!K1639","v":", , , ID , "},{"$f":"'Listă posturi'!I1639","v":0},{"$f":"'Listă posturi'!L1639","v":"-"}]
[null,1635,{"$f":"'Listă posturi'!K1640","v":", , , ID , "},{"$f":"'Listă posturi'!I1640","v":0},{"$f":"'Listă posturi'!L1640","v":"-"}]
[null,1636,{"$f":"'Listă posturi'!K1641","v":", , , ID , "},{"$f":"'Listă posturi'!I1641","v":0},{"$f":"'Listă posturi'!L1641","v":"-"}]
[null,1637,{"$f":"'Listă posturi'!K1642","v":", , , ID , "},{"$f":"'Listă posturi'!I1642","v":0},{"$f":"'Listă posturi'!L1642","v":"-"}]
[null,1638,{"$f":"'Listă posturi'!K1643","v":", , , ID , "},{"$f":"'Listă posturi'!I1643","v":0},{"$f":"'Listă posturi'!L1643","v":"-"}]
[null,1639,{"$f":"'Listă posturi'!K1644","v":", , , ID , "},{"$f":"'Listă posturi'!I1644","v":0},{"$f":"'Listă posturi'!L1644","v":"-"}]
[null,1640,{"$f":"'Listă posturi'!K1645","v":", , , ID , "},{"$f":"'Listă posturi'!I1645","v":0},{"$f":"'Listă posturi'!L1645","v":"-"}]
[null,1641,{"$f":"'Listă posturi'!K1646","v":", , , ID , "},{"$f":"'Listă posturi'!I1646","v":0},{"$f":"'Listă posturi'!L1646","v":"-"}]
[null,1642,{"$f":"'Listă posturi'!K1647","v":", , , ID , "},{"$f":"'Listă posturi'!I1647","v":0},{"$f":"'Listă posturi'!L1647","v":"-"}]
[null,1643,{"$f":"'Listă posturi'!K1648","v":", , , ID , "},{"$f":"'Listă posturi'!I1648","v":0},{"$f":"'Listă posturi'!L1648","v":"-"}]
[null,1644,{"$f":"'Listă posturi'!K1649","v":", , , ID , "},{"$f":"'Listă posturi'!I1649","v":0},{"$f":"'Listă posturi'!L1649","v":"-"}]
[null,1645,{"$f":"'Listă posturi'!K1650","v":", , , ID , "},{"$f":"'Listă posturi'!I1650","v":0},{"$f":"'Listă posturi'!L1650","v":"-"}]
[null,1646,{"$f":"'Listă posturi'!K1651","v":", , , ID , "},{"$f":"'Listă posturi'!I1651","v":0},{"$f":"'Listă posturi'!L1651","v":"-"}]
[null,1647,{"$f":"'Listă posturi'!K1652","v":", , , ID , "},{"$f":"'Listă posturi'!I1652","v":0},{"$f":"'Listă posturi'!L1652","v":"-"}]
[null,1648,{"$f":"'Listă posturi'!K1653","v":", , , ID , "},{"$f":"'Listă posturi'!I1653","v":0},{"$f":"'Listă posturi'!L1653","v":"-"}]
[null,1649,{"$f":"'Listă posturi'!K1654","v":", , , ID , "},{"$f":"'Listă posturi'!I1654","v":0},{"$f":"'Listă posturi'!L1654","v":"-"}]
[null,1650,{"$f":"'Listă posturi'!K1655","v":", , , ID , "},{"$f":"'Listă posturi'!I1655","v":0},{"$f":"'Listă posturi'!L1655","v":"-"}]
[null,1651,{"$f":"'Listă posturi'!K1656","v":", , , ID , "},{"$f":"'Listă posturi'!I1656","v":0},{"$f":"'Listă posturi'!L1656","v":"-"}]
[null,1652,{"$f":"'Listă posturi'!K1657","v":", , , ID , "},{"$f":"'Listă posturi'!I1657","v":0},{"$f":"'Listă posturi'!L1657","v":"-"}]
[null,1653,{"$f":"'Listă posturi'!K1658","v":", , , ID , "},{"$f":"'Listă posturi'!I1658","v":0},{"$f":"'Listă posturi'!L1658","v":"-"}]
[null,1654,{"$f":"'Listă posturi'!K1659","v":", , , ID , "},{"$f":"'Listă posturi'!I1659","v":0},{"$f":"'Listă posturi'!L1659","v":"-"}]
[null,1655,{"$f":"'Listă posturi'!K1660","v":", , , ID , "},{"$f":"'Listă posturi'!I1660","v":0},{"$f":"'Listă posturi'!L1660","v":"-"}]
[null,1656,{"$f":"'Listă posturi'!K1661","v":", , , ID , "},{"$f":"'Listă posturi'!I1661","v":0},{"$f":"'Listă posturi'!L1661","v":"-"}]
[null,1657,{"$f":"'Listă posturi'!K1662","v":", , , ID , "},{"$f":"'Listă posturi'!I1662","v":0},{"$f":"'Listă posturi'!L1662","v":"-"}]
[null,1658,{"$f":"'Listă posturi'!K1663","v":", , , ID , "},{"$f":"'Listă posturi'!I1663","v":0},{"$f":"'Listă posturi'!L1663","v":"-"}]
[null,1659,{"$f":"'Listă posturi'!K1664","v":", , , ID , "},{"$f":"'Listă posturi'!I1664","v":0},{"$f":"'Listă posturi'!L1664","v":"-"}]
[null,1660,{"$f":"'Listă posturi'!K1665","v":", , , ID , "},{"$f":"'Listă posturi'!I1665","v":0},{"$f":"'Listă posturi'!L1665","v":"-"}]
[null,1661,{"$f":"'Listă posturi'!K1666","v":", , , ID , "},{"$f":"'Listă posturi'!I1666","v":0},{"$f":"'Listă posturi'!L1666","v":"-"}]
[null,1662,{"$f":"'Listă posturi'!K1667","v":", , , ID , "},{"$f":"'Listă posturi'!I1667","v":0},{"$f":"'Listă posturi'!L1667","v":"-"}]
[null,1663,{"$f":"'Listă posturi'!K1668","v":", , , ID , "},{"$f":"'Listă posturi'!I1668","v":0},{"$f":"'Listă posturi'!L1668","v":"-"}]
[null,1664,{"$f":"'Listă posturi'!K1669","v":", , , ID , "},{"$f":"'Listă posturi'!I1669","v":0},{"$f":"'Listă posturi'!L1669","v":"-"}]
[null,1665,{"$f":"'Listă posturi'!K1670","v":", , , ID , "},{"$f":"'Listă posturi'!I1670","v":0},{"$f":"'Listă posturi'!L1670","v":"-"}]
[null,1666,{"$f":"'Listă posturi'!K1671","v":", , , ID , "},{"$f":"'Listă posturi'!I1671","v":0},{"$f":"'Listă posturi'!L1671","v":"-"}]
[null,1667,{"$f":"'Listă posturi'!K1672","v":", , , ID , "},{"$f":"'Listă posturi'!I1672","v":0},{"$f":"'Listă posturi'!L1672","v":"-"}]
[null,1668,{"$f":"'Listă posturi'!K1673","v":", , , ID , "},{"$f":"'Listă posturi'!I1673","v":0},{"$f":"'Listă posturi'!L1673","v":"-"}]
[null,1669,{"$f":"'Listă posturi'!K1674","v":", , , ID , "},{"$f":"'Listă posturi'!I1674","v":0},{"$f":"'Listă posturi'!L1674","v":"-"}]
[null,1670,{"$f":"'Listă posturi'!K1675","v":", , , ID , "},{"$f":"'Listă posturi'!I1675","v":0},{"$f":"'Listă posturi'!L1675","v":"-"}]
[null,1671,{"$f":"'Listă posturi'!K1676","v":", , , ID , "},{"$f":"'Listă posturi'!I1676","v":0},{"$f":"'Listă posturi'!L1676","v":"-"}]
[null,1672,{"$f":"'Listă posturi'!K1677","v":", , , ID , "},{"$f":"'Listă posturi'!I1677","v":0},{"$f":"'Listă posturi'!L1677","v":"-"}]
[null,1673,{"$f":"'Listă posturi'!K1678","v":", , , ID , "},{"$f":"'Listă posturi'!I1678","v":0},{"$f":"'Listă posturi'!L1678","v":"-"}]
[null,1674,{"$f":"'Listă posturi'!K1679","v":", , , ID , "},{"$f":"'Listă posturi'!I1679","v":0},{"$f":"'Listă posturi'!L1679","v":"-"}]
[null,1675,{"$f":"'Listă posturi'!K1680","v":", , , ID , "},{"$f":"'Listă posturi'!I1680","v":0},{"$f":"'Listă posturi'!L1680","v":"-"}]
[null,1676,{"$f":"'Listă posturi'!K1681","v":", , , ID , "},{"$f":"'Listă posturi'!I1681","v":0},{"$f":"'Listă posturi'!L1681","v":"-"}]
[null,1677,{"$f":"'Listă posturi'!K1682","v":", , , ID , "},{"$f":"'Listă posturi'!I1682","v":0},{"$f":"'Listă posturi'!L1682","v":"-"}]
[null,1678,{"$f":"'Listă posturi'!K1683","v":", , , ID , "},{"$f":"'Listă posturi'!I1683","v":0},{"$f":"'Listă posturi'!L1683","v":"-"}]
[null,1679,{"$f":"'Listă posturi'!K1684","v":", , , ID , "},{"$f":"'Listă posturi'!I1684","v":0},{"$f":"'Listă posturi'!L1684","v":"-"}]
[null,1680,{"$f":"'Listă posturi'!K1685","v":", , , ID , "},{"$f":"'Listă posturi'!I1685","v":0},{"$f":"'Listă posturi'!L1685","v":"-"}]
[null,1681,{"$f":"'Listă posturi'!K1686","v":", , , ID , "},{"$f":"'Listă posturi'!I1686","v":0},{"$f":"'Listă posturi'!L1686","v":"-"}]
[null,1682,{"$f":"'Listă posturi'!K1687","v":", , , ID , "},{"$f":"'Listă posturi'!I1687","v":0},{"$f":"'Listă posturi'!L1687","v":"-"}]
[null,1683,{"$f":"'Listă posturi'!K1688","v":", , , ID , "},{"$f":"'Listă posturi'!I1688","v":0},{"$f":"'Listă posturi'!L1688","v":"-"}]
[null,1684,{"$f":"'Listă posturi'!K1689","v":", , , ID , "},{"$f":"'Listă posturi'!I1689","v":0},{"$f":"'Listă posturi'!L1689","v":"-"}]
[null,1685,{"$f":"'Listă posturi'!K1690","v":", , , ID , "},{"$f":"'Listă posturi'!I1690","v":0},{"$f":"'Listă posturi'!L1690","v":"-"}]
[null,1686,{"$f":"'Listă posturi'!K1691","v":", , , ID , "},{"$f":"'Listă posturi'!I1691","v":0},{"$f":"'Listă posturi'!L1691","v":"-"}]
[null,1687,{"$f":"'Listă posturi'!K1692","v":", , , ID , "},{"$f":"'Listă posturi'!I1692","v":0},{"$f":"'Listă posturi'!L1692","v":"-"}]
[null,1688,{"$f":"'Listă posturi'!K1693","v":", , , ID , "},{"$f":"'Listă posturi'!I1693","v":0},{"$f":"'Listă posturi'!L1693","v":"-"}]
[null,1689,{"$f":"'Listă posturi'!K1694","v":", , , ID , "},{"$f":"'Listă posturi'!I1694","v":0},{"$f":"'Listă posturi'!L1694","v":"-"}]
[null,1690,{"$f":"'Listă posturi'!K1695","v":", , , ID , "},{"$f":"'Listă posturi'!I1695","v":0},{"$f":"'Listă posturi'!L1695","v":"-"}]
[null,1691,{"$f":"'Listă posturi'!K1696","v":", , , ID , "},{"$f":"'Listă posturi'!I1696","v":0},{"$f":"'Listă posturi'!L1696","v":"-"}]
[null,1692,{"$f":"'Listă posturi'!K1697","v":", , , ID , "},{"$f":"'Listă posturi'!I1697","v":0},{"$f":"'Listă posturi'!L1697","v":"-"}]
[null,1693,{"$f":"'Listă posturi'!K1698","v":", , , ID , "},{"$f":"'Listă posturi'!I1698","v":0},{"$f":"'Listă posturi'!L1698","v":"-"}]
[null,1694,{"$f":"'Listă posturi'!K1699","v":", , , ID , "},{"$f":"'Listă posturi'!I1699","v":0},{"$f":"'Listă posturi'!L1699","v":"-"}]
[null,1695,{"$f":"'Listă posturi'!K1700","v":", , , ID , "},{"$f":"'Listă posturi'!I1700","v":0},{"$f":"'Listă posturi'!L1700","v":"-"}]
[null,1696,{"$f":"'Listă posturi'!K1701","v":", , , ID , "},{"$f":"'Listă posturi'!I1701","v":0},{"$f":"'Listă posturi'!L1701","v":"-"}]
[null,1697,{"$f":"'Listă posturi'!K1702","v":", , , ID , "},{"$f":"'Listă posturi'!I1702","v":0},{"$f":"'Listă posturi'!L1702","v":"-"}]
[null,1698,{"$f":"'Listă posturi'!K1703","v":", , , ID , "},{"$f":"'Listă posturi'!I1703","v":0},{"$f":"'Listă posturi'!L1703","v":"-"}]
[null,1699,{"$f":"'Listă posturi'!K1704","v":", , , ID , "},{"$f":"'Listă posturi'!I1704","v":0},{"$f":"'Listă posturi'!L1704","v":"-"}]
[null,1700,{"$f":"'Listă posturi'!K1705","v":", , , ID , "},{"$f":"'Listă posturi'!I1705","v":0},{"$f":"'Listă posturi'!L1705","v":"-"}]
[null,1701,{"$f":"'Listă posturi'!K1706","v":", , , ID , "},{"$f":"'Listă posturi'!I1706","v":0},{"$f":"'Listă posturi'!L1706","v":"-"}]
[null,1702,{"$f":"'Listă posturi'!K1707","v":", , , ID , "},{"$f":"'Listă posturi'!I1707","v":0},{"$f":"'Listă posturi'!L1707","v":"-"}]
[null,1703,{"$f":"'Listă posturi'!K1708","v":", , , ID , "},{"$f":"'Listă posturi'!I1708","v":0},{"$f":"'Listă posturi'!L1708","v":"-"}]
[null,1704,{"$f":"'Listă posturi'!K1709","v":", , , ID , "},{"$f":"'Listă posturi'!I1709","v":0},{"$f":"'Listă posturi'!L1709","v":"-"}]
[null,1705,{"$f":"'Listă posturi'!K1710","v":", , , ID , "},{"$f":"'Listă posturi'!I1710","v":0},{"$f":"'Listă posturi'!L1710","v":"-"}]
[null,1706,{"$f":"'Listă posturi'!K1711","v":", , , ID , "},{"$f":"'Listă posturi'!I1711","v":0},{"$f":"'Listă posturi'!L1711","v":"-"}]
[null,1707,{"$f":"'Listă posturi'!K1712","v":", , , ID , "},{"$f":"'Listă posturi'!I1712","v":0},{"$f":"'Listă posturi'!L1712","v":"-"}]
[null,1708,{"$f":"'Listă posturi'!K1713","v":", , , ID , "},{"$f":"'Listă posturi'!I1713","v":0},{"$f":"'Listă posturi'!L1713","v":"-"}]
[null,1709,{"$f":"'Listă posturi'!K1714","v":", , , ID , "},{"$f":"'Listă posturi'!I1714","v":0},{"$f":"'Listă posturi'!L1714","v":"-"}]
[null,1710,{"$f":"'Listă posturi'!K1715","v":", , , ID , "},{"$f":"'Listă posturi'!I1715","v":0},{"$f":"'Listă posturi'!L1715","v":"-"}]
[null,1711,{"$f":"'Listă posturi'!K1716","v":", , , ID , "},{"$f":"'Listă posturi'!I1716","v":0},{"$f":"'Listă posturi'!L1716","v":"-"}]
[null,1712,{"$f":"'Listă posturi'!K1717","v":", , , ID , "},{"$f":"'Listă posturi'!I1717","v":0},{"$f":"'Listă posturi'!L1717","v":"-"}]
[null,1713,{"$f":"'Listă posturi'!K1718","v":", , , ID , "},{"$f":"'Listă posturi'!I1718","v":0},{"$f":"'Listă posturi'!L1718","v":"-"}]
[null,1714,{"$f":"'Listă posturi'!K1719","v":", , , ID , "},{"$f":"'Listă posturi'!I1719","v":0},{"$f":"'Listă posturi'!L1719","v":"-"}]
[null,1715,{"$f":"'Listă posturi'!K1720","v":", , , ID , "},{"$f":"'Listă posturi'!I1720","v":0},{"$f":"'Listă posturi'!L1720","v":"-"}]
[null,1716,{"$f":"'Listă posturi'!K1721","v":", , , ID , "},{"$f":"'Listă posturi'!I1721","v":0},{"$f":"'Listă posturi'!L1721","v":"-"}]
[null,1717,{"$f":"'Listă posturi'!K1722","v":", , , ID , "},{"$f":"'Listă posturi'!I1722","v":0},{"$f":"'Listă posturi'!L1722","v":"-"}]
[null,1718,{"$f":"'Listă posturi'!K1723","v":", , , ID , "},{"$f":"'Listă posturi'!I1723","v":0},{"$f":"'Listă posturi'!L1723","v":"-"}]
[null,1719,{"$f":"'Listă posturi'!K1724","v":", , , ID , "},{"$f":"'Listă posturi'!I1724","v":0},{"$f":"'Listă posturi'!L1724","v":"-"}]
[null,1720,{"$f":"'Listă posturi'!K1725","v":", , , ID , "},{"$f":"'Listă posturi'!I1725","v":0},{"$f":"'Listă posturi'!L1725","v":"-"}]
[null,1721,{"$f":"'Listă posturi'!K1726","v":", , , ID , "},{"$f":"'Listă posturi'!I1726","v":0},{"$f":"'Listă posturi'!L1726","v":"-"}]
[null,1722,{"$f":"'Listă posturi'!K1727","v":", , , ID , "},{"$f":"'Listă posturi'!I1727","v":0},{"$f":"'Listă posturi'!L1727","v":"-"}]
[null,1723,{"$f":"'Listă posturi'!K1728","v":", , , ID , "},{"$f":"'Listă posturi'!I1728","v":0},{"$f":"'Listă posturi'!L1728","v":"-"}]
[null,1724,{"$f":"'Listă posturi'!K1729","v":", , , ID , "},{"$f":"'Listă posturi'!I1729","v":0},{"$f":"'Listă posturi'!L1729","v":"-"}]
[null,1725,{"$f":"'Listă posturi'!K1730","v":", , , ID , "},{"$f":"'Listă posturi'!I1730","v":0},{"$f":"'Listă posturi'!L1730","v":"-"}]
[null,1726,{"$f":"'Listă posturi'!K1731","v":", , , ID , "},{"$f":"'Listă posturi'!I1731","v":0},{"$f":"'Listă posturi'!L1731","v":"-"}]
[null,1727,{"$f":"'Listă posturi'!K1732","v":", , , ID , "},{"$f":"'Listă posturi'!I1732","v":0},{"$f":"'Listă posturi'!L1732","v":"-"}]
[null,1728,{"$f":"'Listă posturi'!K1733","v":", , , ID , "},{"$f":"'Listă posturi'!I1733","v":0},{"$f":"'Listă posturi'!L1733","v":"-"}]
[null,1729,{"$f":"'Listă posturi'!K1734","v":", , , ID , "},{"$f":"'Listă posturi'!I1734","v":0},{"$f":"'Listă posturi'!L1734","v":"-"}]
[null,1730,{"$f":"'Listă posturi'!K1735","v":", , , ID , "},{"$f":"'Listă posturi'!I1735","v":0},{"$f":"'Listă posturi'!L1735","v":"-"}]
[null,1731,{"$f":"'Listă posturi'!K1736","v":", , , ID , "},{"$f":"'Listă posturi'!I1736","v":0},{"$f":"'Listă posturi'!L1736","v":"-"}]
[null,1732,{"$f":"'Listă posturi'!K1737","v":", , , ID , "},{"$f":"'Listă posturi'!I1737","v":0},{"$f":"'Listă posturi'!L1737","v":"-"}]
[null,1733,{"$f":"'Listă posturi'!K1738","v":", , , ID , "},{"$f":"'Listă posturi'!I1738","v":0},{"$f":"'Listă posturi'!L1738","v":"-"}]
[null,1734,{"$f":"'Listă posturi'!K1739","v":", , , ID , "},{"$f":"'Listă posturi'!I1739","v":0},{"$f":"'Listă posturi'!L1739","v":"-"}]
[null,1735,{"$f":"'Listă posturi'!K1740","v":", , , ID , "},{"$f":"'Listă posturi'!I1740","v":0},{"$f":"'Listă posturi'!L1740","v":"-"}]
[null,1736,{"$f":"'Listă posturi'!K1741","v":", , , ID , "},{"$f":"'Listă posturi'!I1741","v":0},{"$f":"'Listă posturi'!L1741","v":"-"}]
[null,1737,{"$f":"'Listă posturi'!K1742","v":", , , ID , "},{"$f":"'Listă posturi'!I1742","v":0},{"$f":"'Listă posturi'!L1742","v":"-"}]
[null,1738,{"$f":"'Listă posturi'!K1743","v":", , , ID , "},{"$f":"'Listă posturi'!I1743","v":0},{"$f":"'Listă posturi'!L1743","v":"-"}]
[null,1739,{"$f":"'Listă posturi'!K1744","v":", , , ID , "},{"$f":"'Listă posturi'!I1744","v":0},{"$f":"'Listă posturi'!L1744","v":"-"}]
[null,1740,{"$f":"'Listă posturi'!K1745","v":", , , ID , "},{"$f":"'Listă posturi'!I1745","v":0},{"$f":"'Listă posturi'!L1745","v":"-"}]
[null,1741,{"$f":"'Listă posturi'!K1746","v":", , , ID , "},{"$f":"'Listă posturi'!I1746","v":0},{"$f":"'Listă posturi'!L1746","v":"-"}]
[null,1742,{"$f":"'Listă posturi'!K1747","v":", , , ID , "},{"$f":"'Listă posturi'!I1747","v":0},{"$f":"'Listă posturi'!L1747","v":"-"}]
[null,1743,{"$f":"'Listă posturi'!K1748","v":", , , ID , "},{"$f":"'Listă posturi'!I1748","v":0},{"$f":"'Listă posturi'!L1748","v":"-"}]
[null,1744,{"$f":"'Listă posturi'!K1749","v":", , , ID , "},{"$f":"'Listă posturi'!I1749","v":0},{"$f":"'Listă posturi'!L1749","v":"-"}]
[null,1745,{"$f":"'Listă posturi'!K1750","v":", , , ID , "},{"$f":"'Listă posturi'!I1750","v":0},{"$f":"'Listă posturi'!L1750","v":"-"}]
[null,1746,{"$f":"'Listă posturi'!K1751","v":", , , ID , "},{"$f":"'Listă posturi'!I1751","v":0},{"$f":"'Listă posturi'!L1751","v":"-"}]
[null,1747,{"$f":"'Listă posturi'!K1752","v":", , , ID , "},{"$f":"'Listă posturi'!I1752","v":0},{"$f":"'Listă posturi'!L1752","v":"-"}]
[null,1748,{"$f":"'Listă posturi'!K1753","v":", , , ID , "},{"$f":"'Listă posturi'!I1753","v":0},{"$f":"'Listă posturi'!L1753","v":"-"}]
[null,1749,{"$f":"'Listă posturi'!K1754","v":", , , ID , "},{"$f":"'Listă posturi'!I1754","v":0},{"$f":"'Listă posturi'!L1754","v":"-"}]
[null,1750,{"$f":"'Listă posturi'!K1755","v":", , , ID , "},{"$f":"'Listă posturi'!I1755","v":0},{"$f":"'Listă posturi'!L1755","v":"-"}]
[null,1751,{"$f":"'Listă posturi'!K1756","v":", , , ID , "},{"$f":"'Listă posturi'!I1756","v":0},{"$f":"'Listă posturi'!L1756","v":"-"}]
[null,1752,{"$f":"'Listă posturi'!K1757","v":", , , ID , "},{"$f":"'Listă posturi'!I1757","v":0},{"$f":"'Listă posturi'!L1757","v":"-"}]
[null,1753,{"$f":"'Listă posturi'!K1758","v":", , , ID , "},{"$f":"'Listă posturi'!I1758","v":0},{"$f":"'Listă posturi'!L1758","v":"-"}]
[null,1754,{"$f":"'Listă posturi'!K1759","v":", , , ID , "},{"$f":"'Listă posturi'!I1759","v":0},{"$f":"'Listă posturi'!L1759","v":"-"}]
[null,1755,{"$f":"'Listă posturi'!K1760","v":", , , ID , "},{"$f":"'Listă posturi'!I1760","v":0},{"$f":"'Listă posturi'!L1760","v":"-"}]
[null,1756,{"$f":"'Listă posturi'!K1761","v":", , , ID , "},{"$f":"'Listă posturi'!I1761","v":0},{"$f":"'Listă posturi'!L1761","v":"-"}]
[null,1757,{"$f":"'Listă posturi'!K1762","v":", , , ID , "},{"$f":"'Listă posturi'!I1762","v":0},{"$f":"'Listă posturi'!L1762","v":"-"}]
[null,1758,{"$f":"'Listă posturi'!K1763","v":", , , ID , "},{"$f":"'Listă posturi'!I1763","v":0},{"$f":"'Listă posturi'!L1763","v":"-"}]
[null,1759,{"$f":"'Listă posturi'!K1764","v":", , , ID , "},{"$f":"'Listă posturi'!I1764","v":0},{"$f":"'Listă posturi'!L1764","v":"-"}]
[null,1760,{"$f":"'Listă posturi'!K1765","v":", , , ID , "},{"$f":"'Listă posturi'!I1765","v":0},{"$f":"'Listă posturi'!L1765","v":"-"}]
[null,1761,{"$f":"'Listă posturi'!K1766","v":", , , ID , "},{"$f":"'Listă posturi'!I1766","v":0},{"$f":"'Listă posturi'!L1766","v":"-"}]
[null,1762,{"$f":"'Listă posturi'!K1767","v":", , , ID , "},{"$f":"'Listă posturi'!I1767","v":0},{"$f":"'Listă posturi'!L1767","v":"-"}]
[null,1763,{"$f":"'Listă posturi'!K1768","v":", , , ID , "},{"$f":"'Listă posturi'!I1768","v":0},{"$f":"'Listă posturi'!L1768","v":"-"}]
[null,1764,{"$f":"'Listă posturi'!K1769","v":", , , ID , "},{"$f":"'Listă posturi'!I1769","v":0},{"$f":"'Listă posturi'!L1769","v":"-"}]
[null,1765,{"$f":"'Listă posturi'!K1770","v":", , , ID , "},{"$f":"'Listă posturi'!I1770","v":0},{"$f":"'Listă posturi'!L1770","v":"-"}]
[null,1766,{"$f":"'Listă posturi'!K1771","v":", , , ID , "},{"$f":"'Listă posturi'!I1771","v":0},{"$f":"'Listă posturi'!L1771","v":"-"}]
[null,1767,{"$f":"'Listă posturi'!K1772","v":", , , ID , "},{"$f":"'Listă posturi'!I1772","v":0},{"$f":"'Listă posturi'!L1772","v":"-"}]
[null,1768,{"$f":"'Listă posturi'!K1773","v":", , , ID , "},{"$f":"'Listă posturi'!I1773","v":0},{"$f":"'Listă posturi'!L1773","v":"-"}]
[null,1769,{"$f":"'Listă posturi'!K1774","v":", , , ID , "},{"$f":"'Listă posturi'!I1774","v":0},{"$f":"'Listă posturi'!L1774","v":"-"}]
[null,1770,{"$f":"'Listă posturi'!K1775","v":", , , ID , "},{"$f":"'Listă posturi'!I1775","v":0},{"$f":"'Listă posturi'!L1775","v":"-"}]
[null,1771,{"$f":"'Listă posturi'!K1776","v":", , , ID , "},{"$f":"'Listă posturi'!I1776","v":0},{"$f":"'Listă posturi'!L1776","v":"-"}]
[null,1772,{"$f":"'Listă posturi'!K1777","v":", , , ID , "},{"$f":"'Listă posturi'!I1777","v":0},{"$f":"'Listă posturi'!L1777","v":"-"}]
[null,1773,{"$f":"'Listă posturi'!K1778","v":", , , ID , "},{"$f":"'Listă posturi'!I1778","v":0},{"$f":"'Listă posturi'!L1778","v":"-"}]
[null,1774,{"$f":"'Listă posturi'!K1779","v":", , , ID , "},{"$f":"'Listă posturi'!I1779","v":0},{"$f":"'Listă posturi'!L1779","v":"-"}]
[null,1775,{"$f":"'Listă posturi'!K1780","v":", , , ID , "},{"$f":"'Listă posturi'!I1780","v":0},{"$f":"'Listă posturi'!L1780","v":"-"}]
[null,1776,{"$f":"'Listă posturi'!K1781","v":", , , ID , "},{"$f":"'Listă posturi'!I1781","v":0},{"$f":"'Listă posturi'!L1781","v":"-"}]
[null,1777,{"$f":"'Listă posturi'!K1782","v":", , , ID , "},{"$f":"'Listă posturi'!I1782","v":0},{"$f":"'Listă posturi'!L1782","v":"-"}]
[null,1778,{"$f":"'Listă posturi'!K1783","v":", , , ID , "},{"$f":"'Listă posturi'!I1783","v":0},{"$f":"'Listă posturi'!L1783","v":"-"}]
[null,1779,{"$f":"'Listă posturi'!K1784","v":", , , ID , "},{"$f":"'Listă posturi'!I1784","v":0},{"$f":"'Listă posturi'!L1784","v":"-"}]
[null,1780,{"$f":"'Listă posturi'!K1785","v":", , , ID , "},{"$f":"'Listă posturi'!I1785","v":0},{"$f":"'Listă posturi'!L1785","v":"-"}]
[null,1781,{"$f":"'Listă posturi'!K1786","v":", , , ID , "},{"$f":"'Listă posturi'!I1786","v":0},{"$f":"'Listă posturi'!L1786","v":"-"}]
[null,1782,{"$f":"'Listă posturi'!K1787","v":", , , ID , "},{"$f":"'Listă posturi'!I1787","v":0},{"$f":"'Listă posturi'!L1787","v":"-"}]
[null,1783,{"$f":"'Listă posturi'!K1788","v":", , , ID , "},{"$f":"'Listă posturi'!I1788","v":0},{"$f":"'Listă posturi'!L1788","v":"-"}]
[null,1784,{"$f":"'Listă posturi'!K1789","v":", , , ID , "},{"$f":"'Listă posturi'!I1789","v":0},{"$f":"'Listă posturi'!L1789","v":"-"}]
[null,1785,{"$f":"'Listă posturi'!K1790","v":", , , ID , "},{"$f":"'Listă posturi'!I1790","v":0},{"$f":"'Listă posturi'!L1790","v":"-"}]
[null,1786,{"$f":"'Listă posturi'!K1791","v":", , , ID , "},{"$f":"'Listă posturi'!I1791","v":0},{"$f":"'Listă posturi'!L1791","v":"-"}]
[null,1787,{"$f":"'Listă posturi'!K1792","v":", , , ID , "},{"$f":"'Listă posturi'!I1792","v":0},{"$f":"'Listă posturi'!L1792","v":"-"}]
[null,1788,{"$f":"'Listă posturi'!K1793","v":", , , ID , "},{"$f":"'Listă posturi'!I1793","v":0},{"$f":"'Listă posturi'!L1793","v":"-"}]
[null,1789,{"$f":"'Listă posturi'!K1794","v":", , , ID , "},{"$f":"'Listă posturi'!I1794","v":0},{"$f":"'Listă posturi'!L1794","v":"-"}]
[null,1790,{"$f":"'Listă posturi'!K1795","v":", , , ID , "},{"$f":"'Listă posturi'!I1795","v":0},{"$f":"'Listă posturi'!L1795","v":"-"}]
[null,1791,{"$f":"'Listă posturi'!K1796","v":", , , ID , "},{"$f":"'Listă posturi'!I1796","v":0},{"$f":"'Listă posturi'!L1796","v":"-"}]
[null,1792,{"$f":"'Listă posturi'!K1797","v":", , , ID , "},{"$f":"'Listă posturi'!I1797","v":0},{"$f":"'Listă posturi'!L1797","v":"-"}]
[null,1793,{"$f":"'Listă posturi'!K1798","v":", , , ID , "},{"$f":"'Listă posturi'!I1798","v":0},{"$f":"'Listă posturi'!L1798","v":"-"}]
[null,1794,{"$f":"'Listă posturi'!K1799","v":", , , ID , "},{"$f":"'Listă posturi'!I1799","v":0},{"$f":"'Listă posturi'!L1799","v":"-"}]
[null,1795,{"$f":"'Listă posturi'!K1800","v":", , , ID , "},{"$f":"'Listă posturi'!I1800","v":0},{"$f":"'Listă posturi'!L1800","v":"-"}]
[null,1796,{"$f":"'Listă posturi'!K1801","v":", , , ID , "},{"$f":"'Listă posturi'!I1801","v":0},{"$f":"'Listă posturi'!L1801","v":"-"}]
[null,1797,{"$f":"'Listă posturi'!K1802","v":", , , ID , "},{"$f":"'Listă posturi'!I1802","v":0},{"$f":"'Listă posturi'!L1802","v":"-"}]
[null,1798,{"$f":"'Listă posturi'!K1803","v":", , , ID , "},{"$f":"'Listă posturi'!I1803","v":0},{"$f":"'Listă posturi'!L1803","v":"-"}]
[null,1799,{"$f":"'Listă posturi'!K1804","v":", , , ID , "},{"$f":"'Listă posturi'!I1804","v":0},{"$f":"'Listă posturi'!L1804","v":"-"}]
[null,1800,{"$f":"'Listă posturi'!K1805","v":", , , ID , "},{"$f":"'Listă posturi'!I1805","v":0},{"$f":"'Listă posturi'!L1805","v":"-"}]
[null,1801,{"$f":"'Listă posturi'!K1806","v":", , , ID , "},{"$f":"'Listă posturi'!I1806","v":0},{"$f":"'Listă posturi'!L1806","v":"-"}]
[null,1802,{"$f":"'Listă posturi'!K1807","v":", , , ID , "},{"$f":"'Listă posturi'!I1807","v":0},{"$f":"'Listă posturi'!L1807","v":"-"}]
[null,1803,{"$f":"'Listă posturi'!K1808","v":", , , ID , "},{"$f":"'Listă posturi'!I1808","v":0},{"$f":"'Listă posturi'!L1808","v":"-"}]
[null,1804,{"$f":"'Listă posturi'!K1809","v":", , , ID , "},{"$f":"'Listă posturi'!I1809","v":0},{"$f":"'Listă posturi'!L1809","v":"-"}]
[null,1805,{"$f":"'Listă posturi'!K1810","v":", , , ID , "},{"$f":"'Listă posturi'!I1810","v":0},{"$f":"'Listă posturi'!L1810","v":"-"}]
[null,1806,{"$f":"'Listă posturi'!K1811","v":", , , ID , "},{"$f":"'Listă posturi'!I1811","v":0},{"$f":"'Listă posturi'!L1811","v":"-"}]
[null,1807,{"$f":"'Listă posturi'!K1812","v":", , , ID , "},{"$f":"'Listă posturi'!I1812","v":0},{"$f":"'Listă posturi'!L1812","v":"-"}]
[null,1808,{"$f":"'Listă posturi'!K1813","v":", , , ID , "},{"$f":"'Listă posturi'!I1813","v":0},{"$f":"'Listă posturi'!L1813","v":"-"}]
[null,1809,{"$f":"'Listă posturi'!K1814","v":", , , ID , "},{"$f":"'Listă posturi'!I1814","v":0},{"$f":"'Listă posturi'!L1814","v":"-"}]
[null,1810,{"$f":"'Listă posturi'!K1815","v":", , , ID , "},{"$f":"'Listă posturi'!I1815","v":0},{"$f":"'Listă posturi'!L1815","v":"-"}]
[null,1811,{"$f":"'Listă posturi'!K1816","v":", , , ID , "},{"$f":"'Listă posturi'!I1816","v":0},{"$f":"'Listă posturi'!L1816","v":"-"}]
[null,1812,{"$f":"'Listă posturi'!K1817","v":", , , ID , "},{"$f":"'Listă posturi'!I1817","v":0},{"$f":"'Listă posturi'!L1817","v":"-"}]
[null,1813,{"$f":"'Listă posturi'!K1818","v":", , , ID , "},{"$f":"'Listă posturi'!I1818","v":0},{"$f":"'Listă posturi'!L1818","v":"-"}]
[null,1814,{"$f":"'Listă posturi'!K1819","v":", , , ID , "},{"$f":"'Listă posturi'!I1819","v":0},{"$f":"'Listă posturi'!L1819","v":"-"}]
[null,1815,{"$f":"'Listă posturi'!K1820","v":", , , ID , "},{"$f":"'Listă posturi'!I1820","v":0},{"$f":"'Listă posturi'!L1820","v":"-"}]
[null,1816,{"$f":"'Listă posturi'!K1821","v":", , , ID , "},{"$f":"'Listă posturi'!I1821","v":0},{"$f":"'Listă posturi'!L1821","v":"-"}]
[null,1817,{"$f":"'Listă posturi'!K1822","v":", , , ID , "},{"$f":"'Listă posturi'!I1822","v":0},{"$f":"'Listă posturi'!L1822","v":"-"}]
[null,1818,{"$f":"'Listă posturi'!K1823","v":", , , ID , "},{"$f":"'Listă posturi'!I1823","v":0},{"$f":"'Listă posturi'!L1823","v":"-"}]
[null,1819,{"$f":"'Listă posturi'!K1824","v":", , , ID , "},{"$f":"'Listă posturi'!I1824","v":0},{"$f":"'Listă posturi'!L1824","v":"-"}]
[null,1820,{"$f":"'Listă posturi'!K1825","v":", , , ID , "},{"$f":"'Listă posturi'!I1825","v":0},{"$f":"'Listă posturi'!L1825","v":"-"}]
[null,1821,{"$f":"'Listă posturi'!K1826","v":", , , ID , "},{"$f":"'Listă posturi'!I1826","v":0},{"$f":"'Listă posturi'!L1826","v":"-"}]
[null,1822,{"$f":"'Listă posturi'!K1827","v":", , , ID , "},{"$f":"'Listă posturi'!I1827","v":0},{"$f":"'Listă posturi'!L1827","v":"-"}]
[null,1823,{"$f":"'Listă posturi'!K1828","v":", , , ID , "},{"$f":"'Listă posturi'!I1828","v":0},{"$f":"'Listă posturi'!L1828","v":"-"}]
[null,1824,{"$f":"'Listă posturi'!K1829","v":", , , ID , "},{"$f":"'Listă posturi'!I1829","v":0},{"$f":"'Listă posturi'!L1829","v":"-"}]
[null,1825,{"$f":"'Listă posturi'!K1830","v":", , , ID , "},{"$f":"'Listă posturi'!I1830","v":0},{"$f":"'Listă posturi'!L1830","v":"-"}]
[null,1826,{"$f":"'Listă posturi'!K1831","v":", , , ID , "},{"$f":"'Listă posturi'!I1831","v":0},{"$f":"'Listă posturi'!L1831","v":"-"}]
[null,1827,{"$f":"'Listă posturi'!K1832","v":", , , ID , "},{"$f":"'Listă posturi'!I1832","v":0},{"$f":"'Listă posturi'!L1832","v":"-"}]
[null,1828,{"$f":"'Listă posturi'!K1833","v":", , , ID , "},{"$f":"'Listă posturi'!I1833","v":0},{"$f":"'Listă posturi'!L1833","v":"-"}]
[null,1829,{"$f":"'Listă posturi'!K1834","v":", , , ID , "},{"$f":"'Listă posturi'!I1834","v":0},{"$f":"'Listă posturi'!L1834","v":"-"}]
[null,1830,{"$f":"'Listă posturi'!K1835","v":", , , ID , "},{"$f":"'Listă posturi'!I1835","v":0},{"$f":"'Listă posturi'!L1835","v":"-"}]
[null,1831,{"$f":"'Listă posturi'!K1836","v":", , , ID , "},{"$f":"'Listă posturi'!I1836","v":0},{"$f":"'Listă posturi'!L1836","v":"-"}]
[null,1832,{"$f":"'Listă posturi'!K1837","v":", , , ID , "},{"$f":"'Listă posturi'!I1837","v":0},{"$f":"'Listă posturi'!L1837","v":"-"}]
[null,1833,{"$f":"'Listă posturi'!K1838","v":", , , ID , "},{"$f":"'Listă posturi'!I1838","v":0},{"$f":"'Listă posturi'!L1838","v":"-"}]
[null,1834,{"$f":"'Listă posturi'!K1839","v":", , , ID , "},{"$f":"'Listă posturi'!I1839","v":0},{"$f":"'Listă posturi'!L1839","v":"-"}]
[null,1835,{"$f":"'Listă posturi'!K1840","v":", , , ID , "},{"$f":"'Listă posturi'!I1840","v":0},{"$f":"'Listă posturi'!L1840","v":"-"}]
[null,1836,{"$f":"'Listă posturi'!K1841","v":", , , ID , "},{"$f":"'Listă posturi'!I1841","v":0},{"$f":"'Listă posturi'!L1841","v":"-"}]
[null,1837,{"$f":"'Listă posturi'!K1842","v":", , , ID , "},{"$f":"'Listă posturi'!I1842","v":0},{"$f":"'Listă posturi'!L1842","v":"-"}]
[null,1838,{"$f":"'Listă posturi'!K1843","v":", , , ID , "},{"$f":"'Listă posturi'!I1843","v":0},{"$f":"'Listă posturi'!L1843","v":"-"}]
[null,1839,{"$f":"'Listă posturi'!K1844","v":", , , ID , "},{"$f":"'Listă posturi'!I1844","v":0},{"$f":"'Listă posturi'!L1844","v":"-"}]
[null,1840,{"$f":"'Listă posturi'!K1845","v":", , , ID , "},{"$f":"'Listă posturi'!I1845","v":0},{"$f":"'Listă posturi'!L1845","v":"-"}]
[null,1841,{"$f":"'Listă posturi'!K1846","v":", , , ID , "},{"$f":"'Listă posturi'!I1846","v":0},{"$f":"'Listă posturi'!L1846","v":"-"}]
[null,1842,{"$f":"'Listă posturi'!K1847","v":", , , ID , "},{"$f":"'Listă posturi'!I1847","v":0},{"$f":"'Listă posturi'!L1847","v":"-"}]
[null,1843,{"$f":"'Listă posturi'!K1848","v":", , , ID , "},{"$f":"'Listă posturi'!I1848","v":0},{"$f":"'Listă posturi'!L1848","v":"-"}]
[null,1844,{"$f":"'Listă posturi'!K1849","v":", , , ID , "},{"$f":"'Listă posturi'!I1849","v":0},{"$f":"'Listă posturi'!L1849","v":"-"}]
[null,1845,{"$f":"'Listă posturi'!K1850","v":", , , ID , "},{"$f":"'Listă posturi'!I1850","v":0},{"$f":"'Listă posturi'!L1850","v":"-"}]
[null,1846,{"$f":"'Listă posturi'!K1851","v":", , , ID , "},{"$f":"'Listă posturi'!I1851","v":0},{"$f":"'Listă posturi'!L1851","v":"-"}]
[null,1847,{"$f":"'Listă posturi'!K1852","v":", , , ID , "},{"$f":"'Listă posturi'!I1852","v":0},{"$f":"'Listă posturi'!L1852","v":"-"}]
[null,1848,{"$f":"'Listă posturi'!K1853","v":", , , ID , "},{"$f":"'Listă posturi'!I1853","v":0},{"$f":"'Listă posturi'!L1853","v":"-"}]
[null,1849,{"$f":"'Listă posturi'!K1854","v":", , , ID , "},{"$f":"'Listă posturi'!I1854","v":0},{"$f":"'Listă posturi'!L1854","v":"-"}]
[null,1850,{"$f":"'Listă posturi'!K1855","v":", , , ID , "},{"$f":"'Listă posturi'!I1855","v":0},{"$f":"'Listă posturi'!L1855","v":"-"}]
[null,1851,{"$f":"'Listă posturi'!K1856","v":", , , ID , "},{"$f":"'Listă posturi'!I1856","v":0},{"$f":"'Listă posturi'!L1856","v":"-"}]
[null,1852,{"$f":"'Listă posturi'!K1857","v":", , , ID , "},{"$f":"'Listă posturi'!I1857","v":0},{"$f":"'Listă posturi'!L1857","v":"-"}]
[null,1853,{"$f":"'Listă posturi'!K1858","v":", , , ID , "},{"$f":"'Listă posturi'!I1858","v":0},{"$f":"'Listă posturi'!L1858","v":"-"}]
[null,1854,{"$f":"'Listă posturi'!K1859","v":", , , ID , "},{"$f":"'Listă posturi'!I1859","v":0},{"$f":"'Listă posturi'!L1859","v":"-"}]
[null,1855,{"$f":"'Listă posturi'!K1860","v":", , , ID , "},{"$f":"'Listă posturi'!I1860","v":0},{"$f":"'Listă posturi'!L1860","v":"-"}]
[null,1856,{"$f":"'Listă posturi'!K1861","v":", , , ID , "},{"$f":"'Listă posturi'!I1861","v":0},{"$f":"'Listă posturi'!L1861","v":"-"}]
[null,1857,{"$f":"'Listă posturi'!K1862","v":", , , ID , "},{"$f":"'Listă posturi'!I1862","v":0},{"$f":"'Listă posturi'!L1862","v":"-"}]
[null,1858,{"$f":"'Listă posturi'!K1863","v":", , , ID , "},{"$f":"'Listă posturi'!I1863","v":0},{"$f":"'Listă posturi'!L1863","v":"-"}]
[null,1859,{"$f":"'Listă posturi'!K1864","v":", , , ID , "},{"$f":"'Listă posturi'!I1864","v":0},{"$f":"'Listă posturi'!L1864","v":"-"}]
[null,1860,{"$f":"'Listă posturi'!K1865","v":", , , ID , "},{"$f":"'Listă posturi'!I1865","v":0},{"$f":"'Listă posturi'!L1865","v":"-"}]
[null,1861,{"$f":"'Listă posturi'!K1866","v":", , , ID , "},{"$f":"'Listă posturi'!I1866","v":0},{"$f":"'Listă posturi'!L1866","v":"-"}]
[null,1862,{"$f":"'Listă posturi'!K1867","v":", , , ID , "},{"$f":"'Listă posturi'!I1867","v":0},{"$f":"'Listă posturi'!L1867","v":"-"}]
[null,1863,{"$f":"'Listă posturi'!K1868","v":", , , ID , "},{"$f":"'Listă posturi'!I1868","v":0},{"$f":"'Listă posturi'!L1868","v":"-"}]
[null,1864,{"$f":"'Listă posturi'!K1869","v":", , , ID , "},{"$f":"'Listă posturi'!I1869","v":0},{"$f":"'Listă posturi'!L1869","v":"-"}]
[null,1865,{"$f":"'Listă posturi'!K1870","v":", , , ID , "},{"$f":"'Listă posturi'!I1870","v":0},{"$f":"'Listă posturi'!L1870","v":"-"}]
[null,1866,{"$f":"'Listă posturi'!K1871","v":", , , ID , "},{"$f":"'Listă posturi'!I1871","v":0},{"$f":"'Listă posturi'!L1871","v":"-"}]
[null,1867,{"$f":"'Listă posturi'!K1872","v":", , , ID , "},{"$f":"'Listă posturi'!I1872","v":0},{"$f":"'Listă posturi'!L1872","v":"-"}]
[null,1868,{"$f":"'Listă posturi'!K1873","v":", , , ID , "},{"$f":"'Listă posturi'!I1873","v":0},{"$f":"'Listă posturi'!L1873","v":"-"}]
[null,1869,{"$f":"'Listă posturi'!K1874","v":", , , ID , "},{"$f":"'Listă posturi'!I1874","v":0},{"$f":"'Listă posturi'!L1874","v":"-"}]
[null,1870,{"$f":"'Listă posturi'!K1875","v":", , , ID , "},{"$f":"'Listă posturi'!I1875","v":0},{"$f":"'Listă posturi'!L1875","v":"-"}]
[null,1871,{"$f":"'Listă posturi'!K1876","v":", , , ID , "},{"$f":"'Listă posturi'!I1876","v":0},{"$f":"'Listă posturi'!L1876","v":"-"}]
[null,1872,{"$f":"'Listă posturi'!K1877","v":", , , ID , "},{"$f":"'Listă posturi'!I1877","v":0},{"$f":"'Listă posturi'!L1877","v":"-"}]
[null,1873,{"$f":"'Listă posturi'!K1878","v":", , , ID , "},{"$f":"'Listă posturi'!I1878","v":0},{"$f":"'Listă posturi'!L1878","v":"-"}]
[null,1874,{"$f":"'Listă posturi'!K1879","v":", , , ID , "},{"$f":"'Listă posturi'!I1879","v":0},{"$f":"'Listă posturi'!L1879","v":"-"}]
[null,1875,{"$f":"'Listă posturi'!K1880","v":", , , ID , "},{"$f":"'Listă posturi'!I1880","v":0},{"$f":"'Listă posturi'!L1880","v":"-"}]
[null,1876,{"$f":"'Listă posturi'!K1881","v":", , , ID , "},{"$f":"'Listă posturi'!I1881","v":0},{"$f":"'Listă posturi'!L1881","v":"-"}]
[null,1877,{"$f":"'Listă posturi'!K1882","v":", , , ID , "},{"$f":"'Listă posturi'!I1882","v":0},{"$f":"'Listă posturi'!L1882","v":"-"}]
[null,1878,{"$f":"'Listă posturi'!K1883","v":", , , ID , "},{"$f":"'Listă posturi'!I1883","v":0},{"$f":"'Listă posturi'!L1883","v":"-"}]
[null,1879,{"$f":"'Listă posturi'!K1884","v":", , , ID , "},{"$f":"'Listă posturi'!I1884","v":0},{"$f":"'Listă posturi'!L1884","v":"-"}]
[null,1880,{"$f":"'Listă posturi'!K1885","v":", , , ID , "},{"$f":"'Listă posturi'!I1885","v":0},{"$f":"'Listă posturi'!L1885","v":"-"}]
[null,1881,{"$f":"'Listă posturi'!K1886","v":", , , ID , "},{"$f":"'Listă posturi'!I1886","v":0},{"$f":"'Listă posturi'!L1886","v":"-"}]
[null,1882,{"$f":"'Listă posturi'!K1887","v":", , , ID , "},{"$f":"'Listă posturi'!I1887","v":0},{"$f":"'Listă posturi'!L1887","v":"-"}]
[null,1883,{"$f":"'Listă posturi'!K1888","v":", , , ID , "},{"$f":"'Listă posturi'!I1888","v":0},{"$f":"'Listă posturi'!L1888","v":"-"}]
[null,1884,{"$f":"'Listă posturi'!K1889","v":", , , ID , "},{"$f":"'Listă posturi'!I1889","v":0},{"$f":"'Listă posturi'!L1889","v":"-"}]
[null,1885,{"$f":"'Listă posturi'!K1890","v":", , , ID , "},{"$f":"'Listă posturi'!I1890","v":0},{"$f":"'Listă posturi'!L1890","v":"-"}]
[null,1886,{"$f":"'Listă posturi'!K1891","v":", , , ID , "},{"$f":"'Listă posturi'!I1891","v":0},{"$f":"'Listă posturi'!L1891","v":"-"}]
[null,1887,{"$f":"'Listă posturi'!K1892","v":", , , ID , "},{"$f":"'Listă posturi'!I1892","v":0},{"$f":"'Listă posturi'!L1892","v":"-"}]
[null,1888,{"$f":"'Listă posturi'!K1893","v":", , , ID , "},{"$f":"'Listă posturi'!I1893","v":0},{"$f":"'Listă posturi'!L1893","v":"-"}]
[null,1889,{"$f":"'Listă posturi'!K1894","v":", , , ID , "},{"$f":"'Listă posturi'!I1894","v":0},{"$f":"'Listă posturi'!L1894","v":"-"}]
[null,1890,{"$f":"'Listă posturi'!K1895","v":", , , ID , "},{"$f":"'Listă posturi'!I1895","v":0},{"$f":"'Listă posturi'!L1895","v":"-"}]
[null,1891,{"$f":"'Listă posturi'!K1896","v":", , , ID , "},{"$f":"'Listă posturi'!I1896","v":0},{"$f":"'Listă posturi'!L1896","v":"-"}]
[null,1892,{"$f":"'Listă posturi'!K1897","v":", , , ID , "},{"$f":"'Listă posturi'!I1897","v":0},{"$f":"'Listă posturi'!L1897","v":"-"}]
[null,1893,{"$f":"'Listă posturi'!K1898","v":", , , ID , "},{"$f":"'Listă posturi'!I1898","v":0},{"$f":"'Listă posturi'!L1898","v":"-"}]
[null,1894,{"$f":"'Listă posturi'!K1899","v":", , , ID , "},{"$f":"'Listă posturi'!I1899","v":0},{"$f":"'Listă posturi'!L1899","v":"-"}]
[null,1895,{"$f":"'Listă posturi'!K1900","v":", , , ID , "},{"$f":"'Listă posturi'!I1900","v":0},{"$f":"'Listă posturi'!L1900","v":"-"}]
[null,1896,{"$f":"'Listă posturi'!K1901","v":", , , ID , "},{"$f":"'Listă posturi'!I1901","v":0},{"$f":"'Listă posturi'!L1901","v":"-"}]
[null,1897,{"$f":"'Listă posturi'!K1902","v":", , , ID , "},{"$f":"'Listă posturi'!I1902","v":0},{"$f":"'Listă posturi'!L1902","v":"-"}]
[null,1898,{"$f":"'Listă posturi'!K1903","v":", , , ID , "},{"$f":"'Listă posturi'!I1903","v":0},{"$f":"'Listă posturi'!L1903","v":"-"}]
[null,1899,{"$f":"'Listă posturi'!K1904","v":", , , ID , "},{"$f":"'Listă posturi'!I1904","v":0},{"$f":"'Listă posturi'!L1904","v":"-"}]
[null,1900,{"$f":"'Listă posturi'!K1905","v":", , , ID , "},{"$f":"'Listă posturi'!I1905","v":0},{"$f":"'Listă posturi'!L1905","v":"-"}]
[null,1901,{"$f":"'Listă posturi'!K1906","v":", , , ID , "},{"$f":"'Listă posturi'!I1906","v":0},{"$f":"'Listă posturi'!L1906","v":"-"}]
[null,1902,{"$f":"'Listă posturi'!K1907","v":", , , ID , "},{"$f":"'Listă posturi'!I1907","v":0},{"$f":"'Listă posturi'!L1907","v":"-"}]
[null,1903,{"$f":"'Listă posturi'!K1908","v":", , , ID , "},{"$f":"'Listă posturi'!I1908","v":0},{"$f":"'Listă posturi'!L1908","v":"-"}]
[null,1904,{"$f":"'Listă posturi'!K1909","v":", , , ID , "},{"$f":"'Listă posturi'!I1909","v":0},{"$f":"'Listă posturi'!L1909","v":"-"}]
[null,1905,{"$f":"'Listă posturi'!K1910","v":", , , ID , "},{"$f":"'Listă posturi'!I1910","v":0},{"$f":"'Listă posturi'!L1910","v":"-"}]
[null,1906,{"$f":"'Listă posturi'!K1911","v":", , , ID , "},{"$f":"'Listă posturi'!I1911","v":0},{"$f":"'Listă posturi'!L1911","v":"-"}]
[null,1907,{"$f":"'Listă posturi'!K1912","v":", , , ID , "},{"$f":"'Listă posturi'!I1912","v":0},{"$f":"'Listă posturi'!L1912","v":"-"}]
[null,1908,{"$f":"'Listă posturi'!K1913","v":", , , ID , "},{"$f":"'Listă posturi'!I1913","v":0},{"$f":"'Listă posturi'!L1913","v":"-"}]
[null,1909,{"$f":"'Listă posturi'!K1914","v":", , , ID , "},{"$f":"'Listă posturi'!I1914","v":0},{"$f":"'Listă posturi'!L1914","v":"-"}]
[null,1910,{"$f":"'Listă posturi'!K1915","v":", , , ID , "},{"$f":"'Listă posturi'!I1915","v":0},{"$f":"'Listă posturi'!L1915","v":"-"}]
[null,1911,{"$f":"'Listă posturi'!K1916","v":", , , ID , "},{"$f":"'Listă posturi'!I1916","v":0},{"$f":"'Listă posturi'!L1916","v":"-"}]
[null,1912,{"$f":"'Listă posturi'!K1917","v":", , , ID , "},{"$f":"'Listă posturi'!I1917","v":0},{"$f":"'Listă posturi'!L1917","v":"-"}]
[null,1913,{"$f":"'Listă posturi'!K1918","v":", , , ID , "},{"$f":"'Listă posturi'!I1918","v":0},{"$f":"'Listă posturi'!L1918","v":"-"}]
[null,1914,{"$f":"'Listă posturi'!K1919","v":", , , ID , "},{"$f":"'Listă posturi'!I1919","v":0},{"$f":"'Listă posturi'!L1919","v":"-"}]
[null,1915,{"$f":"'Listă posturi'!K1920","v":", , , ID , "},{"$f":"'Listă posturi'!I1920","v":0},{"$f":"'Listă posturi'!L1920","v":"-"}]
[null,1916,{"$f":"'Listă posturi'!K1921","v":", , , ID , "},{"$f":"'Listă posturi'!I1921","v":0},{"$f":"'Listă posturi'!L1921","v":"-"}]
[null,1917,{"$f":"'Listă posturi'!K1922","v":", , , ID , "},{"$f":"'Listă posturi'!I1922","v":0},{"$f":"'Listă posturi'!L1922","v":"-"}]
[null,1918,{"$f":"'Listă posturi'!K1923","v":", , , ID , "},{"$f":"'Listă posturi'!I1923","v":0},{"$f":"'Listă posturi'!L1923","v":"-"}]
[null,1919,{"$f":"'Listă posturi'!K1924","v":", , , ID , "},{"$f":"'Listă posturi'!I1924","v":0},{"$f":"'Listă posturi'!L1924","v":"-"}]
[null,1920,{"$f":"'Listă posturi'!K1925","v":", , , ID , "},{"$f":"'Listă posturi'!I1925","v":0},{"$f":"'Listă posturi'!L1925","v":"-"}]
[null,1921,{"$f":"'Listă posturi'!K1926","v":", , , ID , "},{"$f":"'Listă posturi'!I1926","v":0},{"$f":"'Listă posturi'!L1926","v":"-"}]
[null,1922,{"$f":"'Listă posturi'!K1927","v":", , , ID , "},{"$f":"'Listă posturi'!I1927","v":0},{"$f":"'Listă posturi'!L1927","v":"-"}]
[null,1923,{"$f":"'Listă posturi'!K1928","v":", , , ID , "},{"$f":"'Listă posturi'!I1928","v":0},{"$f":"'Listă posturi'!L1928","v":"-"}]
[null,1924,{"$f":"'Listă posturi'!K1929","v":", , , ID , "},{"$f":"'Listă posturi'!I1929","v":0},{"$f":"'Listă posturi'!L1929","v":"-"}]
[null,1925,{"$f":"'Listă posturi'!K1930","v":", , , ID , "},{"$f":"'Listă posturi'!I1930","v":0},{"$f":"'Listă posturi'!L1930","v":"-"}]
[null,1926,{"$f":"'Listă posturi'!K1931","v":", , , ID , "},{"$f":"'Listă posturi'!I1931","v":0},{"$f":"'Listă posturi'!L1931","v":"-"}]
[null,1927,{"$f":"'Listă posturi'!K1932","v":", , , ID , "},{"$f":"'Listă posturi'!I1932","v":0},{"$f":"'Listă posturi'!L1932","v":"-"}]
[null,1928,{"$f":"'Listă posturi'!K1933","v":", , , ID , "},{"$f":"'Listă posturi'!I1933","v":0},{"$f":"'Listă posturi'!L1933","v":"-"}]
[null,1929,{"$f":"'Listă posturi'!K1934","v":", , , ID , "},{"$f":"'Listă posturi'!I1934","v":0},{"$f":"'Listă posturi'!L1934","v":"-"}]
[null,1930,{"$f":"'Listă posturi'!K1935","v":", , , ID , "},{"$f":"'Listă posturi'!I1935","v":0},{"$f":"'Listă posturi'!L1935","v":"-"}]
[null,1931,{"$f":"'Listă posturi'!K1936","v":", , , ID , "},{"$f":"'Listă posturi'!I1936","v":0},{"$f":"'Listă posturi'!L1936","v":"-"}]
[null,1932,{"$f":"'Listă posturi'!K1937","v":", , , ID , "},{"$f":"'Listă posturi'!I1937","v":0},{"$f":"'Listă posturi'!L1937","v":"-"}]
[null,1933,{"$f":"'Listă posturi'!K1938","v":", , , ID , "},{"$f":"'Listă posturi'!I1938","v":0},{"$f":"'Listă posturi'!L1938","v":"-"}]
[null,1934,{"$f":"'Listă posturi'!K1939","v":", , , ID , "},{"$f":"'Listă posturi'!I1939","v":0},{"$f":"'Listă posturi'!L1939","v":"-"}]
[null,1935,{"$f":"'Listă posturi'!K1940","v":", , , ID , "},{"$f":"'Listă posturi'!I1940","v":0},{"$f":"'Listă posturi'!L1940","v":"-"}]
[null,1936,{"$f":"'Listă posturi'!K1941","v":", , , ID , "},{"$f":"'Listă posturi'!I1941","v":0},{"$f":"'Listă posturi'!L1941","v":"-"}]
[null,1937,{"$f":"'Listă posturi'!K1942","v":", , , ID , "},{"$f":"'Listă posturi'!I1942","v":0},{"$f":"'Listă posturi'!L1942","v":"-"}]
[null,1938,{"$f":"'Listă posturi'!K1943","v":", , , ID , "},{"$f":"'Listă posturi'!I1943","v":0},{"$f":"'Listă posturi'!L1943","v":"-"}]
[null,1939,{"$f":"'Listă posturi'!K1944","v":", , , ID , "},{"$f":"'Listă posturi'!I1944","v":0},{"$f":"'Listă posturi'!L1944","v":"-"}]
[null,1940,{"$f":"'Listă posturi'!K1945","v":", , , ID , "},{"$f":"'Listă posturi'!I1945","v":0},{"$f":"'Listă posturi'!L1945","v":"-"}]
[null,1941,{"$f":"'Listă posturi'!K1946","v":", , , ID , "},{"$f":"'Listă posturi'!I1946","v":0},{"$f":"'Listă posturi'!L1946","v":"-"}]
[null,1942,{"$f":"'Listă posturi'!K1947","v":", , , ID , "},{"$f":"'Listă posturi'!I1947","v":0},{"$f":"'Listă posturi'!L1947","v":"-"}]
[null,1943,{"$f":"'Listă posturi'!K1948","v":", , , ID , "},{"$f":"'Listă posturi'!I1948","v":0},{"$f":"'Listă posturi'!L1948","v":"-"}]
[null,1944,{"$f":"'Listă posturi'!K1949","v":", , , ID , "},{"$f":"'Listă posturi'!I1949","v":0},{"$f":"'Listă posturi'!L1949","v":"-"}]
[null,1945,{"$f":"'Listă posturi'!K1950","v":", , , ID , "},{"$f":"'Listă posturi'!I1950","v":0},{"$f":"'Listă posturi'!L1950","v":"-"}]
[null,1946,{"$f":"'Listă posturi'!K1951","v":", , , ID , "},{"$f":"'Listă posturi'!I1951","v":0},{"$f":"'Listă posturi'!L1951","v":"-"}]
[null,1947,{"$f":"'Listă posturi'!K1952","v":", , , ID , "},{"$f":"'Listă posturi'!I1952","v":0},{"$f":"'Listă posturi'!L1952","v":"-"}]
[null,1948,{"$f":"'Listă posturi'!K1953","v":", , , ID , "},{"$f":"'Listă posturi'!I1953","v":0},{"$f":"'Listă posturi'!L1953","v":"-"}]
[null,1949,{"$f":"'Listă posturi'!K1954","v":", , , ID , "},{"$f":"'Listă posturi'!I1954","v":0},{"$f":"'Listă posturi'!L1954","v":"-"}]
[null,1950,{"$f":"'Listă posturi'!K1955","v":", , , ID , "},{"$f":"'Listă posturi'!I1955","v":0},{"$f":"'Listă posturi'!L1955","v":"-"}]
[null,1951,{"$f":"'Listă posturi'!K1956","v":", , , ID , "},{"$f":"'Listă posturi'!I1956","v":0},{"$f":"'Listă posturi'!L1956","v":"-"}]
[null,1952,{"$f":"'Listă posturi'!K1957","v":", , , ID , "},{"$f":"'Listă posturi'!I1957","v":0},{"$f":"'Listă posturi'!L1957","v":"-"}]
[null,1953,{"$f":"'Listă posturi'!K1958","v":", , , ID , "},{"$f":"'Listă posturi'!I1958","v":0},{"$f":"'Listă posturi'!L1958","v":"-"}]
[null,1954,{"$f":"'Listă posturi'!K1959","v":", , , ID , "},{"$f":"'Listă posturi'!I1959","v":0},{"$f":"'Listă posturi'!L1959","v":"-"}]
[null,1955,{"$f":"'Listă posturi'!K1960","v":", , , ID , "},{"$f":"'Listă posturi'!I1960","v":0},{"$f":"'Listă posturi'!L1960","v":"-"}]
[null,1956,{"$f":"'Listă posturi'!K1961","v":", , , ID , "},{"$f":"'Listă posturi'!I1961","v":0},{"$f":"'Listă posturi'!L1961","v":"-"}]
[null,1957,{"$f":"'Listă posturi'!K1962","v":", , , ID , "},{"$f":"'Listă posturi'!I1962","v":0},{"$f":"'Listă posturi'!L1962","v":"-"}]
[null,1958,{"$f":"'Listă posturi'!K1963","v":", , , ID , "},{"$f":"'Listă posturi'!I1963","v":0},{"$f":"'Listă posturi'!L1963","v":"-"}]
[null,1959,{"$f":"'Listă posturi'!K1964","v":", , , ID , "},{"$f":"'Listă posturi'!I1964","v":0},{"$f":"'Listă posturi'!L1964","v":"-"}]
[null,1960,{"$f":"'Listă posturi'!K1965","v":", , , ID , "},{"$f":"'Listă posturi'!I1965","v":0},{"$f":"'Listă posturi'!L1965","v":"-"}]
[null,1961,{"$f":"'Listă posturi'!K1966","v":", , , ID , "},{"$f":"'Listă posturi'!I1966","v":0},{"$f":"'Listă posturi'!L1966","v":"-"}]
[null,1962,{"$f":"'Listă posturi'!K1967","v":", , , ID , "},{"$f":"'Listă posturi'!I1967","v":0},{"$f":"'Listă posturi'!L1967","v":"-"}]
[null,1963,{"$f":"'Listă posturi'!K1968","v":", , , ID , "},{"$f":"'Listă posturi'!I1968","v":0},{"$f":"'Listă posturi'!L1968","v":"-"}]
[null,1964,{"$f":"'Listă posturi'!K1969","v":", , , ID , "},{"$f":"'Listă posturi'!I1969","v":0},{"$f":"'Listă posturi'!L1969","v":"-"}]
[null,1965,{"$f":"'Listă posturi'!K1970","v":", , , ID , "},{"$f":"'Listă posturi'!I1970","v":0},{"$f":"'Listă posturi'!L1970","v":"-"}]
[null,1966,{"$f":"'Listă posturi'!K1971","v":", , , ID , "},{"$f":"'Listă posturi'!I1971","v":0},{"$f":"'Listă posturi'!L1971","v":"-"}]
[null,1967,{"$f":"'Listă posturi'!K1972","v":", , , ID , "},{"$f":"'Listă posturi'!I1972","v":0},{"$f":"'Listă posturi'!L1972","v":"-"}]
[null,1968,{"$f":"'Listă posturi'!K1973","v":", , , ID , "},{"$f":"'Listă posturi'!I1973","v":0},{"$f":"'Listă posturi'!L1973","v":"-"}]
[null,1969,{"$f":"'Listă posturi'!K1974","v":", , , ID , "},{"$f":"'Listă posturi'!I1974","v":0},{"$f":"'Listă posturi'!L1974","v":"-"}]
[null,1970,{"$f":"'Listă posturi'!K1975","v":", , , ID , "},{"$f":"'Listă posturi'!I1975","v":0},{"$f":"'Listă posturi'!L1975","v":"-"}]
[null,1971,{"$f":"'Listă posturi'!K1976","v":", , , ID , "},{"$f":"'Listă posturi'!I1976","v":0},{"$f":"'Listă posturi'!L1976","v":"-"}]
[null,1972,{"$f":"'Listă posturi'!K1977","v":", , , ID , "},{"$f":"'Listă posturi'!I1977","v":0},{"$f":"'Listă posturi'!L1977","v":"-"}]
[null,1973,{"$f":"'Listă posturi'!K1978","v":", , , ID , "},{"$f":"'Listă posturi'!I1978","v":0},{"$f":"'Listă posturi'!L1978","v":"-"}]
[null,1974,{"$f":"'Listă posturi'!K1979","v":", , , ID , "},{"$f":"'Listă posturi'!I1979","v":0},{"$f":"'Listă posturi'!L1979","v":"-"}]
[null,1975,{"$f":"'Listă posturi'!K1980","v":", , , ID , "},{"$f":"'Listă posturi'!I1980","v":0},{"$f":"'Listă posturi'!L1980","v":"-"}]
[null,1976,{"$f":"'Listă posturi'!K1981","v":", , , ID , "},{"$f":"'Listă posturi'!I1981","v":0},{"$f":"'Listă posturi'!L1981","v":"-"}]
[null,1977,{"$f":"'Listă posturi'!K1982","v":", , , ID , "},{"$f":"'Listă posturi'!I1982","v":0},{"$f":"'Listă posturi'!L1982","v":"-"}]
[null,1978,{"$f":"'Listă posturi'!K1983","v":", , , ID , "},{"$f":"'Listă posturi'!I1983","v":0},{"$f":"'Listă posturi'!L1983","v":"-"}]
[null,1979,{"$f":"'Listă posturi'!K1984","v":", , , ID , "},{"$f":"'Listă posturi'!I1984","v":0},{"$f":"'Listă posturi'!L1984","v":"-"}]
[null,1980,{"$f":"'Listă posturi'!K1985","v":", , , ID , "},{"$f":"'Listă posturi'!I1985","v":0},{"$f":"'Listă posturi'!L1985","v":"-"}]
[null,1981,{"$f":"'Listă posturi'!K1986","v":", , , ID , "},{"$f":"'Listă posturi'!I1986","v":0},{"$f":"'Listă posturi'!L1986","v":"-"}]
[null,1982,{"$f":"'Listă posturi'!K1987","v":", , , ID , "},{"$f":"'Listă posturi'!I1987","v":0},{"$f":"'Listă posturi'!L1987","v":"-"}]
[null,1983,{"$f":"'Listă posturi'!K1988","v":", , , ID , "},{"$f":"'Listă posturi'!I1988","v":0},{"$f":"'Listă posturi'!L1988","v":"-"}]
[null,1984,{"$f":"'Listă posturi'!K1989","v":", , , ID , "},{"$f":"'Listă posturi'!I1989","v":0},{"$f":"'Listă posturi'!L1989","v":"-"}]
[null,1985,{"$f":"'Listă posturi'!K1990","v":", , , ID , "},{"$f":"'Listă posturi'!I1990","v":0},{"$f":"'Listă posturi'!L1990","v":"-"}]
[null,1986,{"$f":"'Listă posturi'!K1991","v":", , , ID , "},{"$f":"'Listă posturi'!I1991","v":0},{"$f":"'Listă posturi'!L1991","v":"-"}]
[null,1987,{"$f":"'Listă posturi'!K1992","v":", , , ID , "},{"$f":"'Listă posturi'!I1992","v":0},{"$f":"'Listă posturi'!L1992","v":"-"}]
[null,1988,{"$f":"'Listă posturi'!K1993","v":", , , ID , "},{"$f":"'Listă posturi'!I1993","v":0},{"$f":"'Listă posturi'!L1993","v":"-"}]
[null,1989,{"$f":"'Listă posturi'!K1994","v":", , , ID , "},{"$f":"'Listă posturi'!I1994","v":0},{"$f":"'Listă posturi'!L1994","v":"-"}]
[null,1990,{"$f":"'Listă posturi'!K1995","v":", , , ID , "},{"$f":"'Listă posturi'!I1995","v":0},{"$f":"'Listă posturi'!L1995","v":"-"}]
[null,1991,{"$f":"'Listă posturi'!K1996","v":", , , ID , "},{"$f":"'Listă posturi'!I1996","v":0},{"$f":"'Listă posturi'!L1996","v":"-"}]
[null,1992,{"$f":"'Listă posturi'!K1997","v":", , , ID , "},{"$f":"'Listă posturi'!I1997","v":0},{"$f":"'Listă posturi'!L1997","v":"-"}]
[null,1993,{"$f":"'Listă posturi'!K1998","v":", , , ID , "},{"$f":"'Listă posturi'!I1998","v":0},{"$f":"'Listă posturi'!L1998","v":"-"}]
[null,1994,{"$f":"'Listă posturi'!K1999","v":", , , ID , "},{"$f":"'Listă posturi'!I1999","v":0},{"$f":"'Listă posturi'!L1999","v":"-"}]
[null,1995,{"$f":"'Listă posturi'!K2000","v":", , , ID , "},{"$f":"'Listă posturi'!I2000","v":0},{"$f":"'Listă posturi'!L2000","v":"-"}]
[null,1996,{"$f":"'Listă posturi'!K2001","v":", , , ID , "},{"$f":"'Listă posturi'!I2001","v":0},{"$f":"'Listă posturi'!L2001","v":"-"}]
[null,1997,{"$f":"'Listă posturi'!K2002","v":", , , ID , "},{"$f":"'Listă posturi'!I2002","v":0},{"$f":"'Listă posturi'!L2002","v":"-"}]
[null,1998,{"$f":"'Listă posturi'!K2003","v":", , , ID , "},{"$f":"'Listă posturi'!I2003","v":0},{"$f":"'Listă posturi'!L2003","v":"-"}]
[null,1999,{"$f":"'Listă posturi'!K2004","v":", , , ID , "},{"$f":"'Listă posturi'!I2004","v":0},{"$f":"'Listă posturi'!L2004","v":"-"}]
[null,2000,{"$f":"'Listă posturi'!K2005","v":", , , ID , "},{"$f":"'Listă posturi'!I2005","v":0},{"$f":"'Listă posturi'!L2005","v":"-"}]
[]
[null,4,"Anexe - Alte documente relevante ","[se completează cu denumirile documentelor anexate, dacă este cazul]"]
[null,null,"..."]
[null,null,"..."]
[null,null,"..."]
[]
[]
[null,"[1] Se completează conform art. 17 din anexa nr. 8 la Ordonanța de urgență a Guvernului nr.57/2019, cu modificările și completările ulterioare și art. 11 din Metodologia-cadru de analiză a posturilor, prevăzută în anexa la OPANFP nr. _______/2024. "]
[null,"[2] Se completează conform art. 11 din anexa nr. 8 la Ordonanța de urgență a Guvernului nr.57/2019, cu modificările și completările ulterioare."]
[null,"[3] Se completează pentru fiecare competență specifică identificată. Pentru competențele specifice identificate conform art. 11 alin. (2) lit. a)-c) din anexa nr. 8 la Ordonanța de urgență a Guvernului nr.57/2019, cu modificările și completările ulterioare, se completează cu sintagma ”Document sau documente ce atestă competenţa specifică respectivă/Testarea competenţei specifice prin probă suplimentară”.  Pentru competențele specifice identificate conform art. 11 alin. (2) lit. d) din anexa nr. 8 la aceeași ordonanță de urgență, se completează cu sintagma ”Document sau documente ce atestă competenţa specifică respectivă/Testarea competenţei specifice prin probă suplimentară/Testarea cunoştinţelor şi abilităţilor care caracterizează acea competenţă specifică, prin probă scrisă”."]

{"sheet":"Etapa 3","index":31,"n_rows":0,"n_cols":0,"rows_kept":0,"cut":false,"hidden":false,"merged":[]}

{"sheet":"E3 A1","index":32,"n_rows":0,"n_cols":0,"rows_kept":0,"cut":false,"hidden":false,"merged":[]}

{"sheet":"E3 A2","index":33,"n_rows":0,"n_cols":0,"rows_kept":0,"cut":false,"hidden":false,"merged":[]}

{"sheet":"E3 A3","index":34,"n_rows":0,"n_cols":0,"rows_kept":0,"cut":false,"hidden":false,"merged":[]}

{"sheet":" E3 A3 (3)","index":35,"n_rows":0,"n_cols":0,"rows_kept":0,"cut":false,"hidden":false,"merged":[]}

{"sheet":"E3 A4","index":36,"n_rows":0,"n_cols":0,"rows_kept":0,"cut":false,"hidden":false,"merged":[]}

{"sheet":"Etapa 4","index":37,"n_rows":0,"n_cols":0,"rows_kept":0,"cut":false,"hidden":false,"merged":[]}

{"sheet":"AP E4 A1","index":38,"n_rows":0,"n_cols":0,"rows_kept":0,"cut":false,"hidden":false,"merged":[]}

{"sheet":"Liste ","index":39,"n_rows":362,"n_cols":9,"rows_kept":362,"cut":false,"hidden":true,"merged":[]}
[]
["Selectează aici","Selectează aici","Selectează aici","Selectează aici","Selectează aici","Selectează aici","Selectează aici"]
["În lucru",1,"1 x săptămână","DA",0,"Interviu","saptamanal"]
["Finalizat",2,"2 x săptămână","NU încă",0.05,"Focus grup","lunar",null,"CUPRINS"]
["Verificat intern",3,"3 x săptămână","Transmis, încă nu",0.1,"Consultare \ndocumente ",null,null,"PASI"]
["Aprobat intern",4,"1 x la 2 săptămâni",null,0.15,"Consultare documente \nși interviu",null,null,"ETAPE"]
[null,5,"lunar",null,0.2,"Consultare documente \nși focus grup"]
[null,6,null,null,0.25]
[null,7,null,null,0.3]
[null,8,null,null,0.35]
[null,9,null,null,0.4]
[null,10,null,null,0.45]
[null,11,null,null,0.5]
[null,12,null,null,0.55000000000000004]
[null,13,null,null,0.6]
[null,14,null,null,0.65]
[null,15,null,null,0.7]
[null,16,null,null,0.75]
[null,17,null,null,0.8]
[null,18,null,null,0.85]
[null,19,null,null,0.9]
[null,20,null,null,0.95]
[null,21,null,null,1]
[null,22]
[null,23]
[null,24]
[null,25]
[null,26]
[null,27]
[null,28]
[null,29]
[null,30]
[null,31]
[null,32]
[null,33]
[null,34]
[null,35]
[null,36]
[null,37]
[null,38]
[null,39]
[null,40]
[null,41]
[null,42]
[null,43]
[null,44]
[null,45]
[null,46]
[null,47]
[null,48]
[null,49]
[null,50]
[null,51]
[null,52]
[null,53]
[null,54]
[null,55]
[null,56]
[null,57]
[null,58]
[null,59]
[null,60]
[null,61]
[null,62]
[null,63]
[null,64]
[null,65]
[null,66]
[null,67]
[null,68]
[null,69]
[null,70]
[null,71]
[null,72]
[null,73]
[null,74]
[null,75]
[null,76]
[null,77]
[null,78]
[null,79]
[null,80]
[null,81]
[null,82]
[null,83]
[null,84]
[null,85]
[null,86]
[null,87]
[null,88]
[null,89]
[null,90]
[null,91]
[null,92]
[null,93]
[null,94]
[null,95]
[null,96]
[null,97]
[null,98]
[null,99]
[null,100]
[null,101]
[null,102]
[null,103]
[null,104]
[null,105]
[null,106]
[null,107]
[null,108]
[null,109]
[null,110]
[null,111]
[null,112]
[null,113]
[null,114]
[null,115]
[null,116]
[null,117]
[null,118]
[null,119]
[null,120]
[null,121]
[null,122]
[null,123]
[null,124]
[null,125]
[null,126]
[null,127]
[null,128]
[null,129]
[null,130]
[null,131]
[null,132]
[null,133]
[null,134]
[null,135]
[null,136]
[null,137]
[null,138]
[null,139]
[null,140]
[null,141]
[null,142]
[null,143]
[null,144]
[null,145]
[null,146]
[null,147]
[null,148]
[null,149]
[null,150]
[null,151]
[null,152]
[null,153]
[null,154]
[null,155]
[null,156]
[null,157]
[null,158]
[null,159]
[null,160]
[null,161]
[null,162]
[null,163]
[null,164]
[null,165]
[null,166]
[null,167]
[null,168]
[null,169]
[null,170]
[null,171]
[null,172]
[null,173]
[null,174]
[null,175]
[null,176]
[null,177]
[null,178]
[null,179]
[null,180]
[null,181]
[null,182]
[null,183]
[null,184]
[null,185]
[null,186]
[null,187]
[null,188]
[null,189]
[null,190]
[null,191]
[null,192]
[null,193]
[null,194]
[null,195]
[null,196]
[null,197]
[null,198]
[null,199]
[null,200]
[null,201]
[null,202]
[null,203]
[null,204]
[null,205]
[null,206]
[null,207]
[null,208]
[null,209]
[null,210]
[null,211]
[null,212]
[null,213]
[null,214]
[null,215]
[null,216]
[null,217]
[null,218]
[null,219]
[null,220]
[null,221]
[null,222]
[null,223]
[null,224]
[null,225]
[null,226]
[null,227]
[null,228]
[null,229]
[null,230]
[null,231]
[null,232]
[null,233]
[null,234]
[null,235]
[null,236]
[null,237]
[null,238]
[null,239]
[null,240]
[null,241]
[null,242]
[null,243]
[null,244]
[null,245]
[null,246]
[null,247]
[null,248]
[null,249]
[null,250]
[null,251]
[null,252]
[null,253]
[null,254]
[null,255]
[null,256]
[null,257]
[null,258]
[null,259]
[null,260]
[null,261]
[null,262]
[null,263]
[null,264]
[null,265]
[null,266]
[null,267]
[null,268]
[null,269]
[null,270]
[null,271]
[null,272]
[null,273]
[null,274]
[null,275]
[null,276]
[null,277]
[null,278]
[null,279]
[null,280]
[null,281]
[null,282]
[null,283]
[null,284]
[null,285]
[null,286]
[null,287]
[null,288]
[null,289]
[null,290]
[null,291]
[null,292]
[null,293]
[null,294]
[null,295]
[null,296]
[null,297]
[null,298]
[null,299]
[null,300]
[null,301]
[null,302]
[null,303]
[null,304]
[null,305]
[null,306]
[null,307]
[null,308]
[null,309]
[null,310]
[null,311]
[null,312]
[null,313]
[null,314]
[null,315]
[null,316]
[null,317]
[null,318]
[null,319]
[null,320]
[null,321]
[null,322]
[null,323]
[null,324]
[null,325]
[null,326]
[null,327]
[null,328]
[null,329]
[null,330]
[null,331]
[null,332]
[null,333]
[null,334]
[null,335]
[null,336]
[null,337]
[null,338]
[null,339]
[null,340]
[null,341]
[null,342]
[null,343]
[null,344]
[null,345]
[null,346]
[null,347]
[null,348]
[null,349]
[null,350]
[null,351]
[null,352]
[null,353]
[null,354]
[null,355]
[null,356]
[null,357]
[null,358]
[null,359]
[null,360]

{"sheet":"AP E4 A2","index":40,"n_rows":0,"n_cols":0,"rows_kept":0,"cut":false,"hidden":false,"merged":[]}

{"sheet":"AP E4 A3","index":41,"n_rows":0,"n_cols":0,"rows_kept":0,"cut":false,"hidden":false,"merged":[]}

{"sheet":"AP E4 A4.1 și 4.2","index":42,"n_rows":0,"n_cols":0,"rows_kept":0,"cut":false,"hidden":false,"merged":[]}

{"sheet":"AP Etapa 5","index":43,"n_rows":0,"n_cols":0,"rows_kept":0,"cut":false,"hidden":false,"merged":[]}

{"sheet":"AP E5 A1.1 ","index":44,"n_rows":0,"n_cols":0,"rows_kept":0,"cut":false,"hidden":false,"merged":[]}

{"sheet":"AP E5 A1.2","index":45,"n_rows":0,"n_cols":0,"rows_kept":0,"cut":false,"hidden":false,"merged":[]}

{"sheet":"AP E5 A2","index":46,"n_rows":0,"n_cols":0,"rows_kept":0,"cut":false,"hidden":false,"merged":[]}

{"sheet":"PASUL 3","index":47,"n_rows":0,"n_cols":0,"rows_kept":0,"cut":false,"hidden":false,"merged":[]}

{"sheet":"PASUL 4 (CT) si (L)","index":48,"n_rows":0,"n_cols":0,"rows_kept":0,"cut":false,"hidden":false,"merged":[]}

{"sheet":"PASUL 4","index":49,"n_rows":0,"n_cols":0,"rows_kept":0,"cut":false,"hidden":false,"merged":[]}

{"sheet":"PASUL 4.1","index":50,"n_rows":0,"n_cols":0,"rows_kept":0,"cut":false,"hidden":false,"merged":[]}

{"sheet":"PASUL 4.2.1 ","index":51,"n_rows":0,"n_cols":0,"rows_kept":0,"cut":false,"hidden":false,"merged":[]}

{"sheet":"PASUL 4.2.2","index":52,"n_rows":0,"n_cols":0,"rows_kept":0,"cut":false,"hidden":false,"merged":[]}

{"sheet":"PASUL 4.3.1","index":53,"n_rows":0,"n_cols":0,"rows_kept":0,"cut":false,"hidden":false,"merged":[]}

{"sheet":"PASUL 4.3.2","index":54,"n_rows":1,"n_cols":20,"rows_kept":1,"cut":false,"hidden":false,"merged":[]}
[null,null,null,null,null,null,null,null,null,null,null,null,null,null,null,null,null,null,null,"â"]

{"sheet":"PASUL 4.3.3 ","index":55,"n_rows":0,"n_cols":0,"rows_kept":0,"cut":false,"hidden":false,"merged":[]}

{"sheet":"PASUL 4.3.3 (CT)","index":56,"n_rows":0,"n_cols":0,"rows_kept":0,"cut":false,"hidden":false,"merged":[]}

{"sheet":"PASUL 4.3.3 (L)","index":57,"n_rows":0,"n_cols":0,"rows_kept":0,"cut":false,"hidden":false,"merged":[]}

{"sheet":"PASUL 4.4.1 ","index":58,"n_rows":0,"n_cols":0,"rows_kept":0,"cut":false,"hidden":false,"merged":[]}

{"sheet":"PASUL 4.4.1 (CT)","index":59,"n_rows":0,"n_cols":0,"rows_kept":0,"cut":false,"hidden":false,"merged":[]}

{"sheet":"PASUL 4.4.1 (L) ","index":60,"n_rows":0,"n_cols":0,"rows_kept":0,"cut":false,"hidden":false,"merged":[]}

{"sheet":"PASUL 4.4.2","index":61,"n_rows":0,"n_cols":0,"rows_kept":0,"cut":false,"hidden":false,"merged":[]}

{"sheet":"PASUL 4.4.3","index":62,"n_rows":0,"n_cols":0,"rows_kept":0,"cut":false,"hidden":false,"merged":[]}

{"sheet":"PASUL 4.5.1 ","index":63,"n_rows":0,"n_cols":0,"rows_kept":0,"cut":false,"hidden":false,"merged":[]}

{"sheet":"PASUL 4.5.2","index":64,"n_rows":0,"n_cols":0,"rows_kept":0,"cut":false,"hidden":false,"merged":[]}

{"sheet":"PASUL 4.5.2 (CT)","index":65,"n_rows":0,"n_cols":0,"rows_kept":0,"cut":false,"hidden":false,"merged":[]}

{"sheet":"PASUL 4.5.2 (L)","index":66,"n_rows":0,"n_cols":0,"rows_kept":0,"cut":false,"hidden":false,"merged":[]}

{"sheet":"PASUL 4.5.3","index":67,"n_rows":0,"n_cols":0,"rows_kept":0,"cut":false,"hidden":false,"merged":[]}

{"sheet":"PASUL 4.5.4","index":68,"n_rows":0,"n_cols":0,"rows_kept":0,"cut":false,"hidden":false,"merged":[]}

{"sheet":"PASUL 4.5.5","index":69,"n_rows":0,"n_cols":0,"rows_kept":0,"cut":false,"hidden":false,"merged":[]}

{"sheet":"PASUL 4.5.6","index":70,"n_rows":0,"n_cols":0,"rows_kept":0,"cut":false,"hidden":false,"merged":[]}

{"sheet":"PASUL 4.5.7","index":71,"n_rows":0,"n_cols":0,"rows_kept":0,"cut":false,"hidden":false,"merged":[]}

{"sheet":"PASUL 4.5.8","index":72,"n_rows":0,"n_cols":0,"rows_kept":0,"cut":false,"hidden":false,"merged":[]}

{"sheet":"PASUL 4.5.9","index":73,"n_rows":0,"n_cols":0,"rows_kept":0,"cut":false,"hidden":false,"merged":[]}

{"sheet":"PASUL 4.5.10","index":74,"n_rows":0,"n_cols":0,"rows_kept":0,"cut":false,"hidden":false,"merged":[]}

{"sheet":"PASUL 4.5.11","index":75,"n_rows":0,"n_cols":0,"rows_kept":0,"cut":false,"hidden":false,"merged":[]}